Felt | Verdi |
AlreadyApplied | True |
Aperture | 5.0 |
ApertureValue | 5.0 |
BitsPerSample | 8 |
BlackClip | 0.004350 |
BlueHue | 0 |
BlueSaturation | 0 |
Brightness | 0 |
CameraProfile | Embedded |
ChromaticAberrationB | 0 |
ChromaticAberrationR | 0 |
Clarity | +68 |
ColorComponents | 3 |
ColorMode | RGB |
ColorNoiseReduction | 0 |
ColorSaturation | 35.0 |
ColorSpace | Uncalibrated |
ColorTemperature | -1.0 |
Contrast | 0 |
ConvertToGrayscale | False |
CreateDate (1) | 2014:01:14 21:49:50+01:00 |
CreateDate | 2014:01:14 21:49:50 |
CreatorTool | Digital Photo Professional |
DateCreated (1) | 2014:01:14 |
DateCreated | 2014:01:14 21:49:50 |
DateTimeOriginal | 2014:01:14 21:49:50 |
Defringe | 0 |
DerivedFrom | |
ExifImageHeight | 1689 |
ExifImageWidth | 2536 |
Exposure | 0.00 |
ExposureTime | 32 |
FillLight | 8 |
FlashCompensation | 0 |
FNumber | 5.0 |
FocalLength | 10.0 mm |
FocalLength35efl | 10.0 mm |
Format | image/jpeg |
Gamma | 1.00 |
GrainAmount | 0 |
GreenHue | 0 |
GreenSaturation | 0 |
HasCrop | False |
HasSettings | True |
HighlightRecovery | 15 |
HighlightsSmoothing | 10.0 |
HueAdjustmentAqua | 0 |
HueAdjustmentBlue | 0 |
HueAdjustmentGreen | 0 |
HueAdjustmentMagenta | 0 |
HueAdjustmentOrange | 0 |
HueAdjustmentPurple | 0 |
HueAdjustmentRed | 0 |
HueAdjustmentYellow | 0 |
ICCProfileName | Adobe RGB (1998) |
ImageHeight | 1689 |
ImageSize | 2536x1689 |
ImageWidth | 2536 |
IncrementalTemperature | 0 |
IncrementalTint | 0 |
ISO | 250 |
IsPano360 | No |
Lens | EF-S10-22mm f/3.5-4.5 USM |
LensID (1) | 65535 |
LensID | n/a |
LightValue | -1.7 |
LuminanceAdjustmentAqua | 0 |
LuminanceAdjustmentBlue | 0 |
LuminanceAdjustmentGreen | 0 |
LuminanceAdjustmentMagenta | 0 |
LuminanceAdjustmentOrange | 0 |
LuminanceAdjustmentPurple | 0 |
LuminanceAdjustmentRed | 0 |
LuminanceAdjustmentYellow | 0 |
LuminanceNoiseReductionContrast | 0 |
LuminanceNoiseReductionDetail | 50 |
LuminanceSmoothing | 20 |
Luminosity | 6.0 |
Make | Canon |
MaxApertureValue | 1.0 |
Megapixels | 4.3 |
Method | Details Enhancer |
Microcontrast | 0.9 |
Microsmoothing | 17.0 |
Model | Canon EOS 7D |
ModifyDate (1) | 2014:01:15 13:19:08+01:00 |
ModifyDate | 2014:01:15 13:19:08 |
Orientation | Horizontal (normal) |
ParametricDarks | 0 |
ParametricHighlights | -66 |
ParametricHighlightSplit | 75 |
ParametricLights | 0 |
ParametricMidtoneSplit | 50 |
ParametricShadows | 0 |
ParametricShadowSplit | 25 |
PostCropVignetteAmount | 0 |
ProcessVersion | 5.7 |
ProfileDescription | Adobe RGB (1998) |
Rating | 0 |
RawFileName | IMG_6645_7_9_tonemapped.JPG |
RedHue | 0 |
RedSaturation | 0 |
Saturation | 0 |
SaturationAdjustmentAqua | 0 |
SaturationAdjustmentBlue | 0 |
SaturationAdjustmentGreen | 0 |
SaturationAdjustmentMagenta | 0 |
SaturationAdjustmentOrange | 0 |
SaturationAdjustmentPurple | 0 |
SaturationAdjustmentRed | 0 |
SaturationAdjustmentYellow | 0 |
SaturationHighlights | -2.2 |
SaturationShadows | 0.2 |
Shadows | 0 |
ShadowsClipping | 0.0 |
ShadowsSmoothing | 50.0 |
ShadowTint | 0 |
SharpenDetail | 25 |
SharpenEdgeMasking | 0 |
SharpenRadius | +1.0 |
Sharpness | 0 |
ShutterSpeed | 32 |
ShutterSpeedValue | 32 |
Smoothing | 1.1 |
SmoothingMode | Slider |
Software | Adobe Photoshop CS5 Macintosh |
SplitToningBalance | 0 |
SplitToningHighlightHue | 0 |
SplitToningHighlightSaturation | 0 |
SplitToningShadowHue | 0 |
SplitToningShadowSaturation | 0 |
Strength | 99.0 |
ToneCurve | 0, 0, 255, 255 |
ToneCurveName | Linear |
URL_List | |
Version (1) | 4.1 |
Version | 6.0 |
Vibrance | 0 |
VignetteAmount | 0 |
WhiteBalance | As Shot |
WhiteClip | 0.043850 |