Felt | Verdi |
AlreadyApplied | True |
AutoLateralCA | 0 |
BitsPerSample | 8 |
Blacks2012 | +38 |
BlueHue | 0 |
BlueSaturation | 0 |
CameraProfile | Adobe Standard |
CFAPattern | [Red,Green][Green,Blue] |
Clarity2012 | +69 |
ColorComponents | 3 |
ColorNoiseReduction | 25 |
ColorNoiseReductionDetail | 50 |
ColorTemperature | 4350 |
Contrast | Normal |
Contrast2012 | +62 |
ConvertToGrayscale | True |
CreateDate (1) | 2014:01:11 00:34:01.50 |
CreateDate | 2014:01:11 00:34:01 |
CreatorTool | Adobe Photoshop Lightroom 4.2 (Windows) |
CustomRendered | Normal |
DateCreated (1) | 2014:01:11 |
DateCreated | 2014:01:11 00:34:01.50 |
DateTimeOriginal | 2014:01:11 00:34:01 |
DigitalZoomRatio | 1 |
Exposure2012 | +0.02 |
ExposureCompensation | 0 |
ExposureMode | Manual |
ExposureProgram | Manual |
ExposureTime | 30 |
Flash | No Flash |
Format | image/jpeg |
GainControl | High gain up |
GradientBasedCorrActive | true |
GradientBasedCorrAmount | 1.000000 |
GradientBasedCorrBrightness | 0.000000 |
GradientBasedCorrClarity2012 | 0.379310 |
GradientBasedCorrContrast2012 | 0.379310 |
GradientBasedCorrDefringe | 0.034480 |
GradientBasedCorrExposure2012 | 0.126500 |
GradientBasedCorrHighlights2012 | -0.034480 |
GradientBasedCorrHue | 0.000000 |
GradientBasedCorrLuminanceNoise | -0.034480 |
GradientBasedCorrMaskFullX | 0.490741 |
GradientBasedCorrMaskFullY | 0.413913 |
GradientBasedCorrMaskValue | 1.000000 |
GradientBasedCorrMaskWhat | Mask/Gradient |
GradientBasedCorrMaskZeroX | 0.491898 |
GradientBasedCorrMaskZeroY | 0.003478 |
GradientBasedCorrMoire | -0.011490 |
GradientBasedCorrSaturation (1) | -0.287360 |
GradientBasedCorrSaturation | 0.000000 |
GradientBasedCorrShadows2012 | 0.632180 |
GradientBasedCorrSharpness | 0.000000 |
GradientBasedCorrTemperature | 0.080460 |
GradientBasedCorrTint | -0.126440 |
GradientBasedCorrWhat | Correction |
GrainAmount | 0 |
GrayMixerAqua | -19 |
GrayMixerBlue | -53 |
GrayMixerGreen | -26 |
GrayMixerMagenta | +5 |
GrayMixerOrange | -17 |
GrayMixerPurple | +16 |
GrayMixerRed | -8 |
GrayMixerYellow | -22 |
GreenHue | 0 |
GreenSaturation | 0 |
HasCrop | False |
HasSettings | True |
Highlights2012 | -21 |
ImageHeight | 1363 |
ImageNumber | 5933 |
ImageSize | 2048x1363 |
ImageWidth | 2048 |
ISO | 1600 |
Lens | 0.0 mm f/0.0 |
LensInfo | 0mm f/0 |
LensManualDistortionAmount | 0 |
LensModel | 0.0 mm f/0.0 |
LensProfileChromaticAberrationScale | 100 |
LensProfileDistortionScale | 100 |
LensProfileEnable | 0 |
LensProfileFilename | 5bdec220e93b4680aa869784b9d7e223.lcp |
LensProfileName | Nikon D700 - Samyang 14mm f/2.8 ED AS IF UMC Aspherical |
LensProfileSetup | Custom |
LensProfileVignettingScale | 38 |
LightSource | Unknown |
LuminanceNoiseReductionContrast | 0 |
LuminanceNoiseReductionDetail | 24 |
LuminanceSmoothing | 35 |
Make | NIKON CORPORATION |
MaxApertureValue | 1.0 |
Megapixels | 2.8 |
MeteringMode | Center-weighted average |
Model | NIKON D700 |
ModifyDate (1) | 2014:01:11 14:39:36+01:00 |
ModifyDate | 2014:01:11 14:39:36 |
ParametricDarks | 0 |
ParametricHighlights | 0 |
ParametricHighlightSplit | 75 |
ParametricLights | 0 |
ParametricMidtoneSplit | 50 |
ParametricShadows | 0 |
ParametricShadowSplit | 25 |
PerspectiveHorizontal | 0 |
PerspectiveRotate | 0.0 |
PerspectiveScale | 100 |
PerspectiveVertical | 0 |
PostCropVignetteAmount | 0 |
ProcessVersion | 6.7 |
ProfileDescription | sRGB IEC61966-2.1 |
RedHue | 0 |
RedSaturation | 0 |
Saturation | Normal |
SceneCaptureType | Standard |
SceneType | Directly photographed |
SensingMethod | One-chip color area |
SerialNumber | 2248466 |
Shadows2012 | +14 |
ShadowTint | 0 |
SharpenDetail | 25 |
SharpenEdgeMasking | 0 |
SharpenRadius | +1.0 |
Sharpness (1) | 34 |
Sharpness | Hard |
ShutterSpeed | 30 |
ShutterSpeedValue | 30 |
Software | Adobe Photoshop Lightroom 4.2 (Windows) |
SplitToningBalance | +36 |
SplitToningHighlightHue | 201 |
SplitToningHighlightSaturation | 14 |
SplitToningShadowHue | 236 |
SplitToningShadowSaturation | 19 |
SubjectDistanceRange | Unknown |
Tint | +4 |
ToneCurveName2012 | Linear |
ToneCurvePV2012 | 0, 0, 255, 255 |
ToneCurvePV2012Blue | 0, 0, 255, 255 |
ToneCurvePV2012Green | 0, 0, 255, 255 |
ToneCurvePV2012Red | 0, 0, 255, 255 |
Version | 7.2 |
VignetteAmount | 0 |
WhiteBalance (1) | As Shot |
WhiteBalance | Auto |
Whites2012 | -14 |