Felt | Verdi |
AlreadyApplied | True |
Aperture | 11.0 |
ApertureValue | 11.0 |
ApproximateFocusDistance | 4294967295 |
Artist | SIR.kurt@hotmail.com Ph:+4741459563 |
AutoLateralCA | 0 |
BitsPerSample (1) | 8 8 8 |
BitsPerSample | 8 |
BlackClip | 0.058650 |
Blacks2012 | 0 |
BlueHue | 0 |
BlueSaturation | 0 |
By-line | SIR.kurt@hotmail.com Ph:+4741459 |
CameraProfile | Embedded |
Clarity2012 | +66 |
ColorComponents | 1 |
ColorMode | RGB |
ColorNoiseReduction | 0 |
ColorSaturation | 65.0 |
ColorSpace | sRGB |
ColorTemperature | 0.0 |
Contrast2012 | 0 |
ConvertToGrayscale | True |
Copyright | Kurt-Are Larsen (C) |
CopyrightNotice | Kurt-Are Larsen (C) |
CreateDate (1) | 2012:09:07 19:45:41.16 |
CreateDate | 2012:09:07 19:45:41 |
Creator | SIR.kurt@hotmail.com Ph:+4741459563 |
CreatorTool | Adobe Photoshop CS5.1 Windows |
CropAngle | -1.17715 |
CropBottom | 0.926658 |
CropConstrainToWarp | 0 |
CropHeight | 2620 |
CropLeft | 0.008348 |
CropRight | 0.946274 |
CropTop | 0.029958 |
CropUnit | pixels |
CropWidth | 3938 |
DateCreated (1) | 2012:09:07 |
DateCreated | 2012:09:07 19:45:41.016 |
DateTimeOriginal | 2012:09:07 19:45:41 |
ExifImageHeight | 681 |
ExifImageWidth | 1024 |
Exposure2012 | 0.00 |
ExposureTime | 2 |
FNumber | 11.0 |
FocalLength | 16.0 mm |
FocalLength35efl | 16.0 mm |
Format | image/jpeg |
Gamma | 1.12 |
GrainAmount | 0 |
GrayMixerAqua | -26 |
GrayMixerBlue | -57 |
GrayMixerGreen | +28 |
GrayMixerMagenta | -20 |
GrayMixerOrange | -32 |
GrayMixerPurple | +11 |
GrayMixerRed | -26 |
GrayMixerYellow | +35 |
GreenHue | 0 |
GreenSaturation | 0 |
HasCrop | True |
HasSettings | True |
Highlights2012 | -63 |
HighlightsSmoothing | 7.0 |
ICCProfileName | sRGB IEC61966-2.1 |
ImageHeight (1) | 2620 |
ImageHeight | 681 |
ImageNumber | 14978 |
ImageSize | 1024x681 |
ImageWidth (1) | 3938 |
ImageWidth | 1024 |
IncrementalTemperature | 0 |
IncrementalTint | 0 |
ISO | 200 |
IsPano360 | No |
Lens | 16.0-35.0 mm f/4.0 |
LensID | 163 |
LensInfo | 16-35mm f/4 |
LensManualDistortionAmount | 0 |
LensModel | 16.0-35.0 mm f/4.0 |
LensProfileEnable | 0 |
LensProfileSetup | LensDefaults |
LightValue | 4.9 |
LuminanceSmoothing | 0 |
Luminosity | 0.0 |
Megapixels | 0.697 |
Method | Details Enhancer |
Microcontrast | 0.0 |
Microsmoothing | 2.0 |
Model | NIKON D700 |
ModifyDate (1) | 2012:09:09 00:01:38+02:00 |
ModifyDate | 2012:09:09 00:01:38 |
Orientation | Horizontal (normal) |
ParametricDarks | 0 |
ParametricHighlights | 0 |
ParametricHighlightSplit | 75 |
ParametricLights | 0 |
ParametricMidtoneSplit | 50 |
ParametricShadows | 0 |
ParametricShadowSplit | 25 |
PerspectiveHorizontal | 0 |
PerspectiveRotate | 0.0 |
PerspectiveScale | 100 |
PerspectiveVertical | 0 |
PhotometricInterpretation | RGB |
PostCropVignetteAmount | 0 |
ProcessVersion | 6.7 |
ProfileDescription | sRGB IEC61966-2.1 |
RedHue | 0 |
RedSaturation | 0 |
Rights | Kurt-Are Larsen (C) |
SaturationHighlights | 0.0 |
SaturationShadows | 0.0 |
SerialNumber | 2124452 |
Shadows2012 | +65 |
ShadowsClipping | 0.0 |
ShadowsSmoothing | 0.0 |
ShadowTint | 0 |
SharpenDetail | 25 |
SharpenEdgeMasking | 0 |
SharpenRadius | +1.0 |
Sharpness | 0 |
ShutterSpeed | 2 |
ShutterSpeedValue | 2 |
Smoothing | High |
SmoothingMode | Light |
Software | Adobe Photoshop CS5.1 Windows |
SplitToningBalance | 0 |
SplitToningHighlightHue | 0 |
SplitToningHighlightSaturation | 0 |
SplitToningShadowHue | 0 |
SplitToningShadowSaturation | 0 |
Strength | 75.0 |
ToneCurveName2012 | Linear |
ToneCurvePV2012 | 0, 0, 255, 255 |
ToneCurvePV2012Blue | 0, 0, 255, 255 |
ToneCurvePV2012Green | 0, 0, 255, 255 |
ToneCurvePV2012Red | 0, 0, 255, 255 |
URL_List | |
Version (1) | 4.1 |
Version | 7.1 |
VignetteAmount | 0 |
WhiteBalance | As Shot |
WhiteClip | 0.276350 |
Whites2012 | 0 |