Felt | Verdi |
AlreadyApplied | True |
Aperture | 11.0 |
ApertureValue | 11.0 |
ApproximateFocusDistance | 25.3 |
Artist | Tom Eikrem |
AutoLateralCA | 0 |
BitsPerSample (1) | 8 8 8 |
BitsPerSample | 8 |
Blacks2012 | -5 |
BlueHue | 0 |
BlueSaturation | 0 |
Brightness | +50 |
By-line | Tom Eikrem |
CameraProfile | Adobe Standard |
CircleOfConfusion | 0.031 mm |
Clarity | 0 |
Clarity2012 | +22 |
ColorComponents | 3 |
ColorMode | RGB |
ColorNoiseReduction | 25 |
ColorNoiseReductionDetail | 50 |
ColorSpace | Uncalibrated |
ColorTemperature | 5050 |
Contrast | +25 |
Contrast2012 | +20 |
ConvertToGrayscale | False |
Copyright | Tom Eikrem |
CopyrightNotice | Tom Eikrem |
CreateDate (1) | 2011:07:23 16:13:27.40 |
CreateDate | 2011:07:23 16:13:27 |
Creator | Tom Eikrem |
CreatorTool | Adobe Photoshop CS5.1 Windows |
CreatorWorkTelephone | 004748223077 |
CropAngle | 0 |
CropBottom | 0.996223 |
CropConstrainToWarp | 0 |
CropHeight | 3730 |
CropLeft | 0.019667 |
CropRight | 1 |
CropTop | 0 |
CropUnit | pixels |
CropWidth | 5506 |
CustomRendered | Normal |
DateCreated (1) | 2011:07:23 |
DateCreated | 2011:07:23 16:13:27.004 |
DateTimeOriginal | 2011:07:23 16:13:27 |
Defringe | 0 |
DerivedFrom | |
DOF | inf (9.22 m - inf) |
ExifImageHeight | 700 |
ExifImageWidth | 1033 |
Exposure | 0.00 |
Exposure2012 | 0.00 |
ExposureCompensation | 0 |
ExposureMode | Auto |
ExposureProgram | Aperture-priority AE |
ExposureTime | 1/200 |
FillLight | 0 |
Firmware | 2.0.8 |
Flash | Off, Did not fire |
FlashCompensation | 0 |
FNumber | 11.0 |
FocalLength | 70.0 mm |
FocalLength35efl | 70.0 mm (35 mm equivalent: 68.3 mm) |
Format | image/jpeg |
FOV | 29.5 deg |
GrainAmount | 0 |
GreenHue | 0 |
GreenSaturation | 0 |
HasCrop | True |
HasSettings | True |
HighlightRecovery | 0 |
Highlights2012 | 0 |
HueAdjustmentAqua | 0 |
HueAdjustmentBlue | 0 |
HueAdjustmentGreen | 0 |
HueAdjustmentMagenta | 0 |
HueAdjustmentOrange | 0 |
HueAdjustmentPurple | 0 |
HueAdjustmentRed | 0 |
HueAdjustmentYellow | 0 |
HyperfocalDistance | 14.47 m |
ICCProfileName | Adobe RGB (1998) |
ImageHeight (1) | 3730 |
ImageHeight | 700 |
ImageNumber | 0 |
ImageSize | 1033x700 |
ImageWidth (1) | 5506 |
ImageWidth | 1033 |
ISO | 320 |
Lens | EF70-200mm f/4L IS USM |
LensID (1) | 242 |
LensID | Canon EF 70-200mm f/4L IS USM |
LensInfo | 70-200mm f/? |
LensManualDistortionAmount | 0 |
LensModel | EF70-200mm f/4L IS USM |
LensProfileEnable | 0 |
LensProfileSetup | LensDefaults |
LightValue | 12.9 |
LuminanceAdjustmentAqua | 0 |
LuminanceAdjustmentBlue | 0 |
LuminanceAdjustmentGreen | 0 |
LuminanceAdjustmentMagenta | 0 |
LuminanceAdjustmentOrange | 0 |
LuminanceAdjustmentPurple | 0 |
LuminanceAdjustmentRed | 0 |
LuminanceAdjustmentYellow | 0 |
LuminanceNoiseReductionContrast | 0 |
LuminanceNoiseReductionDetail | 50 |
LuminanceSmoothing | 11 |
Make | Canon |
MaxApertureValue | 4.0 |
Megapixels | 0.723 |
MeteringMode | Multi-segment |
Model | Canon EOS 5D Mark II |
ModifyDate (1) | 2012:03:12 20:12:05+01:00 |
ModifyDate | 2012:03:12 20:12:05 |
Orientation | Horizontal (normal) |
ParametricDarks | 0 |
ParametricHighlights | 0 |
ParametricHighlightSplit | 75 |
ParametricLights | 0 |
ParametricMidtoneSplit | 50 |
ParametricShadows | 0 |
ParametricShadowSplit | 25 |
PerspectiveHorizontal | 0 |
PerspectiveRotate | 0.0 |
PerspectiveScale | 100 |
PerspectiveVertical | 0 |
PhotometricInterpretation | RGB |
PostCropVignetteAmount | 0 |
ProcessVersion | 6.7 |
ProfileDescription | Adobe RGB (1998) |
RedHue | 0 |
RedSaturation | 0 |
Rights | Tom Eikrem |
Saturation | 0 |
SaturationAdjustmentAqua | 0 |
SaturationAdjustmentBlue | 0 |
SaturationAdjustmentGreen | 0 |
SaturationAdjustmentMagenta | 0 |
SaturationAdjustmentOrange | 0 |
SaturationAdjustmentPurple | 0 |
SaturationAdjustmentRed | 0 |
SaturationAdjustmentYellow | 0 |
ScaleFactor35efl | 1.0 |
SceneCaptureType | Standard |
SerialNumber | 2931502669 |
Shadows | 5 |
Shadows2012 | 0 |
ShadowTint | 0 |
SharpenDetail | 73 |
SharpenEdgeMasking | 0 |
SharpenRadius | +1.0 |
Sharpness | 13 |
ShutterSpeed | 1/200 |
ShutterSpeedValue | 1/200 |
Software | Adobe Photoshop CS5.1 Windows |
SplitToningBalance | 0 |
SplitToningHighlightHue | 0 |
SplitToningHighlightSaturation | 0 |
SplitToningShadowHue | 0 |
SplitToningShadowSaturation | 0 |
SubjectDistance | 25.3 m |
Tint | -5 |
ToneCurve | 0, 0, 255, 255 |
ToneCurveBlue | 0, 0, 255, 255 |
ToneCurveGreen | 0, 0, 255, 255 |
ToneCurveName | Linear |
ToneCurveName2012 | Linear |
ToneCurvePV2012 | 0, 0, 255, 255 |
ToneCurvePV2012Blue | 0, 0, 255, 255 |
ToneCurvePV2012Green | 0, 0, 255, 255 |
ToneCurvePV2012Red | 0, 0, 255, 255 |
ToneCurveRed | 0, 0, 255, 255 |
URL_List | |
Version | 7.0 |
Vibrance | +10 |
VignetteAmount | 0 |
WhiteBalance (1) | As Shot |
WhiteBalance | Auto |
Whites2012 | 0 |