Felt | Verdi |
-1
0
0,5
1
2
25
Adjustment: levels adjustment list
Alignment: left
AlreadyApplied | True |
Amount: 0%
Amount: 12%
Angle: 0°
Anti-alias: sharp
Aperture | 11.0 |
ApertureValue | 11.0 |
ApproximateFocusDistance | 1.41 |
As: Camera Raw
Auto Justify
Auto Kern: manual
Auto Kern: metrics
Auto Leading Percentage: 1,2
AutoTCY: 1
Axis: horizontal
Base: 0, 0
Baseline Direction: rotated
Baseline Direction: with stream
Baseline Position: normal
Baseline Shift: 0 points
Bend: 0
BitsPerSample | 8 |
Black Clip: 0,01
Blacks: 12
Blending Change
Blue Hue: 0
Blue Saturation: 0
Blue: 0
Blue: 255
BlueHue | 0 |
BlueSaturation | 0 |
Bottom: 1,41 cm
Bottom: 18,03 cm
Bottom: 18,06 cm
Bottom: 18,34 cm
Bottom: 26,78 cm
Bottom: 28,25 cm
Bottom: 28,91 cm
Bottom: 29,97 cm
Brightness | +21 |
Brightness/Contrast
Brightness/Contrast Brightness: 20
Brightness/Contrast Brightness: 21
Brightness/Contrast Brightness: 33
Brightness/Contrast Brightness: 9
Brightness: 21
Browse Without Maximize
Burasagari: None
Camera Profile: “Adobe Standard”
CameraProfile | Adobe Standard |
Center: center
CFAPattern | [Red,Green][Green,Blue] |
Channel: composite channel
Chromatic Aberration B: 0
Chromatic Aberration R: 0
ChromaticAberrationB | 0 |
ChromaticAberrationR | 0 |
CircleOfConfusion | 0.030 mm |
Clarity | 0 |
Clarity: 0
Clone Stamp
Color Correction: 20
Color Noise Detail: 50
Color Noise Reduction: 25
Color: RGB color
ColorComponents | 3 |
ColorMode | RGB |
ColorNoiseReduction | 25 |
ColorNoiseReductionDetail | 50 |
ColorSpace | sRGB |
ColorTemperature | 4700 |
Column Count: 1
Column Gutter: 0 points
Column Spacing: 0 points
Contrast (1) | +21 |
Contrast | Normal |
Contrast: 0
Contrast: 21
ConvertToGrayscale | False |
CreateDate (1) | 2010:01:31 16:44:56.85 |
CreateDate | 2010:01:31 16:44:56 |
CreatorTool | Adobe Photoshop CS5 Windows |
Crop
Crop Angle: 0
Crop Bottom: 0
Crop Left: 0
Crop Right: 0
Crop To: rectangle
Crop Top: 0
CustomRendered | Normal |
DateCreated (1) | 2010:01:31 |
DateCreated | 2010:01:31 16:44:56.085 |
DateTimeOriginal | 2010:01:31 16:44:56 |
Default Character Style: text style
Default Tab Width: 36
Defringe | 0 |
Defringe: 0
Delete current layer
Delete Layer
Depth: 8 Bits/channel
Deselect
Desired Glyph Scaling Percent: 1
Desired Letter Spacing Percent: 0
Desired Word Spacing Percent: 1
DigitalZoomRatio | 1 |
DOF | 0.03 m (1.40 - 1.42 m) |
Drag Layer
Drop Cap Multiplier: 1
Duplicate current layer 5
Duplicate Layer
Elliptical Marquee
End Indent: 0 points
Exchange Swatches
ExifImageHeight | 650 |
ExifImageWidth | 1000 |
Exposure | +0.60 |
Exposure: 0,6
ExposureCompensation | +1 |
ExposureMode | Manual |
ExposureProgram | Manual |
ExposureTime | 1/200 |
false
Feather
Feather Radius: 1 pixels
Feather Radius: 66 pixels
Feather Radius: 9 pixels
Figure Style: normal
Fill
Fill Light: 0
Fill Using: foreground color
FillLight | 0 |
First Line Alignment: Ascent
First Line Indent: 0 points
First Line Minimum Height: 0 points
Flash | No Flash |
Flatten Image
FNumber | 11.0 |
FocalLength | 200.0 mm |
FocalLength35efl | 200.0 mm (35 mm equivalent: 200.0 mm) |
FocalLengthIn35mmFormat | 200 mm |
Font Caps Option: normal
Font Name: “Bookman Old Style”
Font Name: “Myriad Pro”
Font Style: “Bold Italic”
Font Style: “Regular”
Font Technology: 0
Font Technology: 1
Format | image/jpeg |
FOV | 10.3 deg |
Free Transform
From: 0
From: 1
GainControl | Low gain up |
Grain Amount: 0
GrainAmount | 0 |
Green Hue: 0
Green Saturation: 0
Green: 0
Green: 255
GreenHue | 0 |
GreenSaturation | 0 |
Grid Alignment: Roman Baseline
HasCrop | False |
HasSettings | True |
Height: 104%
Height: 104,9%
Height: 110%
Height: 131,2%
Height: 143,5%
Height: 151,6%
Height: 163,7%
Highlight: Parameters
HighlightRecovery | 21 |
Horizontal Distortion: 0
Horizontal Scale: 100
Hue Adjust Aqua: 0
Hue Adjust Blue: 0
Hue Adjust Green: 0
Hue Adjust Magenta: 0
Hue Adjust Orange: 0
Hue Adjust Purple: 0
Hue Adjust Red: 0
Hue Adjust Yellow: 0
HueAdjustmentAqua | 0 |
HueAdjustmentBlue | 0 |
HueAdjustmentGreen | 0 |
HueAdjustmentMagenta | 0 |
HueAdjustmentOrange | 0 |
HueAdjustmentPurple | 0 |
HueAdjustmentRed | 0 |
HueAdjustmentYellow | 0 |
HyperfocalDistance | 121.03 m |
Hyphenate After Length: 3
Hyphenate Before Length: 3
Hyphenation Minimum Word Length: 8
Hyphenation Preference: 0,5
Hyphenation Zone: 36
ICCProfileName | sRGB IEC61966-2.1 |
Image Size
Image Size Width: 1000 pixels
Image Size Width: 800 pixels
ImageHeight | 650 |
ImageNumber | 15135 |
ImageSize | 1000x650 |
ImageWidth | 1000 |
In: G:\2012_disk_1\2012\3 Mars\2 mars\Utvalg 1\
In: G:\2012_disk_1\2012\3 Mars\2 mars\Utvalg 1\_DSC5036_1.psd
In: G:\2012_disk_1\2012\3 Mars\2 mars\Utvalg 1\_DSC5036_1000_db.psd
In: G:\2012_disk_1\2012\3 Mars\2 mars\Utvalg 1\_DSC5036_1000_db_1.psd
In: G:\2012_disk_1\2012\3 Mars\2 mars\Utvalg 1\_DSC5036_2.psd
In: G:\2012_disk_1\2012\3 Mars\2 mars\Utvalg 1\_DSC5036_800.psd
In: G:\2012_disk_1\2012\3 Mars\2 mars\Utvalg 1\_DSC5036_800_1.psd
In: G:\2012_disk_1\2012\3 Mars\2 mars\Utvalg 1\_DSC5036_800_db.psd
Input: 0, 199
Input: 0, 212
Input: 0, 239
Interpolation: bicubic
Inverse
ISO | 400 |
Japanese Alternate: Default Form
Kerning Style Range: none
Kinsoku Order: Push In First
Leading Type: bottom-to-bottom leading
Left: 0 cm
Left: 0,28 cm
Left: 8,51 cm
Lens Profile Enable: 0
Lens | 70.0-200.0 mm f/2.8 |
LensID (1) | 162 |
LensID | AF-S Nikkor 70-200mm f/2.8G ED VR II |
LensInfo | 70-200mm f/2.8 |
LensManualDistortionAmount | 0 |
LensModel | 70.0-200.0 mm f/2.8 |
LensProfileEnable | 0 |
LensProfileSetup | LensDefaults |
Levels
levels adjustment
Levels Preset Kind: Custom
LightSource | Unknown |
LightValue | 12.6 |
Line Cap: Butt
Line Join: Miter
Line Width: 0 points
Line Width: 1 points
Local Adjustments: “”
Location: 20,99 cm, 12,28 cm
Location: 21,24 cm, 12,42 cm
Location: 22,23 cm, 11,47 cm
Location: 22,58 cm, 11,68 cm
Location: 22,58 cm, 11,92 cm
Location: 22,61 cm, 11,71 cm
Location: 22,65 cm, 12,66 cm
Location: 22,65 cm, 12,7 cm
Location: 22,97 cm, 12,24 cm
Location: 23,04 cm, 12,24 cm
Location: 23,07 cm, 12,91 cm
Location: center
Luminance Adjust Aqua: 0
Luminance Adjust Blue: 0
Luminance Adjust Green: 0
Luminance Adjust Magenta: 0
Luminance Adjust Orange: 0
Luminance Adjust Purple: 0
Luminance Adjust Red: 0
Luminance Adjust Yellow: 0
Luminance Noise Reduction: 0
LuminanceAdjustmentAqua | 0 |
LuminanceAdjustmentBlue | 0 |
LuminanceAdjustmentGreen | 0 |
LuminanceAdjustmentMagenta | 0 |
LuminanceAdjustmentOrange | 0 |
LuminanceAdjustmentPurple | 0 |
LuminanceAdjustmentRed | 0 |
LuminanceAdjustmentYellow | 0 |
LuminanceSmoothing | 0 |
Make text layer Using: text layer
Make | NIKON CORPORATION |
master diameter: 41 pixels
Master Opacity Change
Matte: none
MaxApertureValue | 2.8 |
Maximum Consecutive Hyphens: 2
Maximum Glyph Scaling Percent: 1
Maximum Letter Spacing Percent: 0
Maximum Word Spacing Percent: 1,33
Megapixels | 0.650 |
Merge Down
Merge Layers
MeteringMode | Multi-segment |
Minimum Glyph Scaling Percent: 1
Minimum Letter Spacing Percent: 0
Minimum Word Spacing Percent: 0,8
Miter Limit: 0 points
Miter Limit: 4 points
Mode: darken
Mode: dissolve
Mode: multiply
Mode: normal
Model | NIKON D3S |
Model: “Nikon D3S”
ModifyDate (1) | 2012:03:03 15:34:31+01:00 |
ModifyDate | 2012:03:03 15:34:31 |
Move
Move current layer To: -2,4 cm, -1,66 cm
Move current layer To: -7,5 cm, -6,53 cm
Move current layer To: 0,11 cm, 0,07 cm
Move current layer To: 1,66 cm, 2,93 cm
Move Selection
Move Selection To: -1,42 cm, -0,69 cm
Opacity: 100%
Opacity: 15%
Opacity: 20%
Opacity: 24%
Opacity: 30%
Opacity: 39%
Opacity: 43%
Opacity: 59%
Opacity: 66%
Opacity: 71%
Open G:\2012_disk_1\2012\3 Mars\2 mars\Utvalg 1\_DSC5036.NEF
Open Type Baseline Position: normal
Orientation | Horizontal (normal) |
Orientation: horizontal
Output Sharpen For: None
paragraph style range
Paragraph Style Range: paragraph style range list
paragraph style: paragraph style
Parametric Darks: 0
Parametric Highlight Split: 75
Parametric Highlights: 0
Parametric Lights: 0
Parametric Midtone Split: 50
Parametric Shadow Split: 25
Parametric Shadows: 0
ParametricDarks | 0 |
ParametricHighlights | 0 |
ParametricHighlightSplit | 75 |
ParametricLights | 0 |
ParametricMidtoneSplit | 50 |
ParametricShadows | 0 |
ParametricShadowSplit | 25 |
PerspectiveHorizontal | 0 |
PerspectiveRotate | 0.0 |
PerspectiveScale | 100 |
PerspectiveVertical | 0 |
Place
Place G:\2012_disk_1\2012\3 Mars\2 mars\Utvalg 1\skyer_1.png
Place G:\2012_disk_1\2012\3 Mars\2 mars\Utvalg 1\tekstur 10_2.psd
Place G:\2012_disk_1\2012\3 Mars\2 mars\Utvalg 1\tekstur 15.psd
Place G:\2012_disk_1\2012\3 Mars\2 mars\Utvalg 1\vegg 1_2.psd
Post Crop Vignetting Amount: 0
PostCropVignetteAmount | 0 |
PostScript Name: “BookmanOldStyle-BoldItalic”
PostScript Name: “MyriadPro-Regular”
Process Version: 84344832
ProcessVersion | 5.7 |
ProfileDescription | sRGB IEC61966-2.1 |
Quality: 11
Quality: 9
Quick Selection
Radius: 0,5 pixels
Radius: 30
Rating | 0 |
RawFileName | _DSC5036.NEF |
Recovery: 21
Rectangular Marquee
Red Eye: “”
Red Hue: 0
Red Saturation: 0
Red: 0
Red: 255
RedHue | 0 |
RedSaturation | 0 |
Resolution: 240
Resolution: 28,346 per cm
Right: 1,69 cm
Right: 27,83 cm
Right: 27,94 cm
Right: 28,22 cm
Right: 37,63 cm
Right: 44,45 cm
Row Count: 1
Row Gutter: 0 points
Saturation (1) | 0 |
Saturation Adjust Aqua: 0
Saturation Adjust Blue: 0
Saturation Adjust Green: 0
Saturation Adjust Magenta: 0
Saturation Adjust Orange: 0
Saturation Adjust Purple: 0
Saturation Adjust Red: 0
Saturation Adjust Yellow: 0
Saturation | Normal |
Saturation: 0
SaturationAdjustmentAqua | 0 |
SaturationAdjustmentBlue | 0 |
SaturationAdjustmentGreen | 0 |
SaturationAdjustmentMagenta | 0 |
SaturationAdjustmentOrange | 0 |
SaturationAdjustmentPurple | 0 |
SaturationAdjustmentRed | 0 |
SaturationAdjustmentYellow | 0 |
Save As: JPEG
Save As: Photoshop
Scale: 1
ScaleFactor35efl | 1.0 |
SceneCaptureType | Standard |
SceneType | Directly photographed |
Script: 0
Select clone stamp
Select Current History State
Select history state -2
Select history state -6
Select Inverse
Select last history state
Select layer “Background copy” Without Make Visible
Select layer “skyer_1” Without Make Visible
Select next document
Select next history state
Select previous history state
Select quick selection
Select sharpen
SensingMethod | One-chip color area |
SerialNumber | 2055496 |
Set current brush To: brush
Set current layer To: layer
Set Selection To: ellipse
Set Selection To: none
Set Selection To: rectangle
Settings: Custom
Shadow Tint: 0
Shadow/Highlight Shadow: Parameters
Shadows | 12 |
Shadows/Highlights
ShadowTint | 0 |
Sharpen Amount: 25
Sharpen Detail: 25
Sharpen Masking: 0
Sharpen Radius: 1
Sharpen Tool
SharpenDetail | 25 |
SharpenEdgeMasking | 0 |
SharpenRadius | +1.0 |
Sharpness (1) | 25 |
Sharpness | Normal |
ShutterSpeed | 1/200 |
ShutterSpeedValue | 1/200 |
Single Word Justification: justify all
Size: 12 points
Size: 18 points
Size: 24 points
Software | Adobe Photoshop CS5 Windows |
Source: layer “Layer 1”
Space After: 0 points
Space Before: 0 points
Space: sRGB IEC61966-2.1
Split Tone Balance: 0
Split Tone Highlight Hue: 0
Split Tone Highlight Saturation: 0
Split Tone Shadow Hue: 0
Split Tone Shadow Saturation: 0
SplitToningBalance | 0 |
SplitToningHighlightHue | 0 |
SplitToningHighlightSaturation | 0 |
SplitToningShadowHue | 0 |
SplitToningShadowSaturation | 0 |
Start Indent: 0 points
Strikethrough: Strikethrough Off
Stroke
Stroke Color: RGB color
Stroke Width: 1
Stroke Width: 12
Stroke Width: 15
Stroke Width: 9
style range
Style Range: style range list
Style: None
style: text style
SubjectDistance | 1.41 m |
SubjectDistanceRange | Unknown |
Target Height: 0 pixels
Target Resolution: 0 per cm
Target Width: 0 pixels
Text Click Point: 2%, 96,2%
Text Gridding: none
Text Language: English: USA
Text Orientation: horizontal
Text Shape
Text Shape Type: point
Text Shape: Text Shape list
Text: “© www.bildeforbilde.no”
Threshold: 1
Tint | +7 |
To: 1
To: 23
Tone Curve: 0, 0, 32, 22, 64, 56, 128, 128, 192, 196, 255, 255
Tone Width: 50%
ToneCurve | 0, 0, 32, 22, 64, 56, 128, 128, 192, 196, 255, 255 |
ToneCurveName | Medium Contrast |
Top: 0 cm
Top: 0,25 cm
Top: 0,28 cm
Top: 0,35 cm
Top: 0,52 cm
Top: 1,06 cm
Top: 3,56 cm
Tracking: 0
Transform current layer Center: center
Transform Distortion: 0
Transform Horizontal: 0
Transform Rotate: 0
Transform Scale: 100
Transform Vertical: 0
Transform: transform
Translate: -0,69 cm, -0,1 cm
Translate: -0,88 cm, 0,58 cm
Translate: 0,89 cm, 0,11 cm
Translate: 10,73 cm, 4,51 cm
Translate: 3,88 cm, 1,44 cm
Translate: 5,42 cm, 3,37 cm
Translate: 9,18 cm, 5,24 cm
true
Tsume: 0
tx: 0
ty: 0
Type Tool
Underline Offset: 0 points
Underline: Underline Off
Unsharp Mask
Unsharp Mask Amount: 112%
Unsharp Mask Amount: 300%
URL_List | |
Version | 6.6 |
Vertical Distortion: 0
Vertical Scale: 100
Vibrance | 0 |
Vibrance: 0
VignetteAmount | 0 |
Vignetting Amount: 0
Warp: Warp
White Balance: As Shot
White Clip: 0,01
WhiteBalance (1) | As Shot |
WhiteBalance | Auto |
Width: 119,7%
Width: 119,8%
Width: 135,6%
Width: 143,5%
Width: 163,7%
Width: 167,8%
Width: 183,7%
With Anti-alias
With Auto Hyphenate
With Auto-Leading
With Constrain Proportions
With Copy
With Fill
With Fill First
With Hyphenate Capitalized Words
With Maximize Compatibility
With Optimized
With Scale Styles
With Use Keep Together
With Use Ligatures
With Use Moji Shori
With Use Row Major Order
Without Convert to Grayscale
Without Every Line Composer
Without Faux Bold
Without Faux Italic
Without Fill First
Without New Window
Without No Break
Without Roman Hanging Punctuation
Without Stroke
Without Use Alternate Ligatures
Without Use Contextual Alternates
Without Use Fill OverPrint
Without Use Fractions
Without Use Italics
Without Use Kana
Without Use Legacy
Without Use Oldstyle
Without Use Ordinals
Without Use Ornaments
Without Use Proportional Metrics
Without Use Stroke OverPrint
Without Use Stylistic Alternates
Without Use Swash Characters
Without Use Titling Characters
xx: 1
xy: 0
yx: 0
yy: 1