Felt | Verdi |
AlreadyApplied | True |
Aperture | 20.0 |
ApertureValue | 20.0 |
ApproximateFocusDistance | 25.3 |
Artist | Tom Eikrem |
BitsPerSample | 8 |
BlueHue | 0 |
BlueSaturation | 0 |
Brightness | +114 |
By-line | Tom Eikrem |
CameraProfile | Adobe Standard |
ChromaticAberrationB | 0 |
ChromaticAberrationR | 0 |
CircleOfConfusion | 0.031 mm |
Clarity | +42 |
ColorComponents | 1 |
ColorMode | RGB |
ColorNoiseReduction | 10 |
ColorNoiseReductionDetail | 50 |
ColorSpace | Uncalibrated |
ColorTemperature | 5000 |
Contrast | -2 |
ConvertToGrayscale | True |
Copyright | Tom Eikrem |
CopyrightNotice | Tom Eikrem |
CreateDate (1) | 2011:07:10 06:06:27.46 |
CreateDate | 2011:07:10 06:06:27 |
Creator | Tom Eikrem |
CreatorTool | Adobe Photoshop Lightroom 3.6 (Windows) |
CreatorWorkTelephone | 004748223077 |
CropAngle | 0.824343 |
CropBottom | 0.570302 |
CropConstrainToWarp | 0 |
CropHeight | 951 |
CropLeft | 0.003984 |
CropRight | 0.14646 |
CropTop | 0.313112 |
CropUnit | pixels |
CropWidth | 814 |
CustomRendered | Normal |
DateCreated | 2011:07:10 |
DateTimeDigitized | 2011:07:10 06:06:27+02:00 |
DateTimeOriginal (1) | 2011:07:10 06:06:27+02:00 |
DateTimeOriginal | 2011:07:10 06:06:27 |
Defringe | 0 |
DerivedFrom | |
DOF | inf (6.07 m - inf) |
ExifImageHeight | 818 |
ExifImageWidth | 700 |
Exposure | +0.25 |
ExposureCompensation | 0 |
ExposureMode | Auto |
ExposureProgram | Aperture-priority AE |
ExposureTime | 0.6 |
FillLight | 15 |
Firmware | 2.0.8 |
Flash | Off, Did not fire |
FlashCompensation | 0 |
FlashFired | False |
FlashFunction | False |
FlashMode | Off |
FlashRedEyeMode | False |
FlashReturn | No return detection |
FNumber | 20.0 |
FocalLength | 70.0 mm |
FocalLength35efl | 70.0 mm (35 mm equivalent: 68.3 mm) |
Format | image/jpeg |
FOV | 29.5 deg |
GrainAmount | 0 |
GrayMixerAqua | -8 |
GrayMixerBlue | +9 |
GrayMixerGreen | -18 |
GrayMixerMagenta | -5 |
GrayMixerOrange | -17 |
GrayMixerPurple | +8 |
GrayMixerRed | -14 |
GrayMixerYellow | -18 |
GreenHue | 0 |
GreenSaturation | 0 |
HasCrop | True |
HasSettings | True |
HighlightRecovery | 79 |
HyperfocalDistance | 7.96 m |
ICCProfileName | Adobe RGB (1998) |
ImageHeight | 818 |
ImageNumber | 0 |
ImageSize | 700x818 |
ImageWidth | 700 |
ISO | 125 |
Lens | EF70-200mm f/4L IS USM |
LensID (1) | 242 |
LensID | Canon EF 70-200mm f/4L IS USM |
LensInfo | 70-200mm f/? |
LensManualDistortionAmount | 0 |
LensModel | EF70-200mm f/4L IS USM |
LensProfileEnable | 0 |
LensProfileSetup | LensDefaults |
LightValue | 9.1 |
LuminanceNoiseReductionContrast | 0 |
LuminanceNoiseReductionDetail | 50 |
LuminanceSmoothing | 9 |
Make | Canon |
MaxApertureValue | 4.0 |
Megapixels | 0.573 |
MeteringMode | Multi-segment |
Model | Canon EOS 5D Mark II |
ModifyDate (1) | 2012:02:01 23:01:33+01:00 |
ModifyDate | 2012:02:01 23:01:33 |
Orientation | Horizontal (normal) |
ParametricDarks | 0 |
ParametricHighlights | 0 |
ParametricHighlightSplit | 75 |
ParametricLights | 0 |
ParametricMidtoneSplit | 50 |
ParametricShadows | 0 |
ParametricShadowSplit | 25 |
PerspectiveHorizontal | 0 |
PerspectiveRotate | 0.0 |
PerspectiveScale | 100 |
PerspectiveVertical | 0 |
PostCropVignetteAmount | 0 |
ProcessVersion | 5.7 |
ProfileDescription | Adobe RGB (1998) |
RedHue | 0 |
RedSaturation | 0 |
Rights | Tom Eikrem |
ScaleFactor35efl | 1.0 |
SceneCaptureType | Standard |
SerialNumber | 2931502669 |
Shadows | 26 |
ShadowTint | 0 |
SharpenDetail | 36 |
SharpenEdgeMasking | 0 |
SharpenRadius | +1.0 |
Sharpness | 33 |
ShutterSpeed | 0.6 |
ShutterSpeedValue | 0.6 |
Software | Adobe Photoshop Elements 9.0 Windows |
SplitToningBalance | 0 |
SplitToningHighlightHue | 0 |
SplitToningHighlightSaturation | 0 |
SplitToningShadowHue | 0 |
SplitToningShadowSaturation | 0 |
SubjectDistance | 25.3 m |
Tint | +36 |
ToneCurve | 0, 0, 32, 22, 64, 56, 128, 128, 192, 196, 255, 255 |
ToneCurveName | Medium Contrast |
URL_List | |
Version | 6.6 |
VignetteAmount | 0 |
WhiteBalance (1) | Custom |
WhiteBalance | Auto |