Felt | Verdi |
AlreadyApplied | True |
BitsPerSample | 8 |
BlueHue | 0 |
BlueSaturation | 0 |
Brightness | 0 |
CameraProfile | Embedded |
ChromaticAberrationB | 0 |
ChromaticAberrationR | 0 |
Clarity | 0 |
ColorComponents | 3 |
ColorNoiseReduction | 0 |
Contrast | 0 |
ConvertToGrayscale | False |
CreateDate (1) | 2011:12:28 23:50:11+01:00 |
CreateDate | 2011:12:28 23:50:11 |
CreatorTool | Adobe Photoshop Lightroom 3.6 (Macintosh) |
CropAngle | 0 |
CropBottom | 1 |
CropConstrainToWarp | 0 |
CropHeight | 1041 |
CropLeft | 0 |
CropRight | 0.963964 |
CropTop | 0 |
CropUnit | pixels |
CropWidth | 1111 |
Defringe | 0 |
Exposure | 0.00 |
FillLight | 0 |
Format | image/jpeg |
GradientBasedCorrActive | true |
GradientBasedCorrAmount | 1.000000 |
GradientBasedCorrBrightness (1) | -0.341176 |
GradientBasedCorrBrightness | 0.458824 |
GradientBasedCorrClarity (1) | -0.529412 |
GradientBasedCorrClarity | 0.011765 |
GradientBasedCorrContrast | 0.000000 |
GradientBasedCorrExposure | 0.000000 |
GradientBasedCorrHue | 240.000000 |
GradientBasedCorrMaskFullX (1) | 0.470270 |
GradientBasedCorrMaskFullX | 0.000000 |
GradientBasedCorrMaskFullY (1) | 0.013688 |
GradientBasedCorrMaskFullY | 0.998004 |
GradientBasedCorrMaskValue | 1.000000 |
GradientBasedCorrMaskWhat | Mask/Gradient |
GradientBasedCorrMaskZeroX (1) | 0.457658 |
GradientBasedCorrMaskZeroX | 0.133333 |
GradientBasedCorrMaskZeroY (1) | 0.863987 |
GradientBasedCorrMaskZeroY | 0.836327 |
GradientBasedCorrSaturation (1) | 0.011765 |
GradientBasedCorrSaturation | 0.000000 |
GradientBasedCorrSharpness (1) | -0.741176 |
GradientBasedCorrSharpness | 0.011494 |
GradientBasedCorrWhat | Correction |
GrainAmount | 0 |
GreenHue | 0 |
GreenSaturation | 0 |
HasCrop | True |
HasSettings | True |
HighlightRecovery | 74 |
HueAdjustmentAqua | 0 |
HueAdjustmentBlue | 0 |
HueAdjustmentGreen | 0 |
HueAdjustmentMagenta | 0 |
HueAdjustmentOrange | 0 |
HueAdjustmentPurple | 0 |
HueAdjustmentRed | 0 |
HueAdjustmentYellow | 0 |
ImageHeight | 1041 |
ImageSize | 1111x1041 |
ImageWidth | 1111 |
IncrementalTemperature | 0 |
IncrementalTint | 0 |
LensManualDistortionAmount | 0 |
LensProfileEnable | 0 |
LensProfileSetup | LensDefaults |
LuminanceAdjustmentAqua | 0 |
LuminanceAdjustmentBlue | 0 |
LuminanceAdjustmentGreen | 0 |
LuminanceAdjustmentMagenta | 0 |
LuminanceAdjustmentOrange | 0 |
LuminanceAdjustmentPurple | 0 |
LuminanceAdjustmentRed | 0 |
LuminanceAdjustmentYellow | 0 |
LuminanceSmoothing | 0 |
Megapixels | 1.2 |
ModifyDate (1) | 2012:02:01 00:10:27+01:00 |
ModifyDate | 2012:02:01 00:10:27 |
PaintCorrectionActive | true |
PaintCorrectionAmount | 1.000000 |
PaintCorrectionBrightness (1) | 0.058824 |
PaintCorrectionBrightness (2) | -0.364706 |
PaintCorrectionBrightness (3) | -0.176471 |
PaintCorrectionBrightness | -0.082353 |
PaintCorrectionClarity (1) | -1.000000 |
PaintCorrectionClarity | 1.000000 |
PaintCorrectionContrast | 0.000000 |
PaintCorrectionExposure (2) | -0.058824 |
PaintCorrectionExposure | 0.000000 |
PaintCorrectionHue | 240.000000 |
PaintCorrectionMaskCenterWeight | 0.000000 |
PaintCorrectionMaskFlow | 0.638941 |
PaintCorrectionMaskRadius (2) | 0.001972 |
PaintCorrectionMaskRadius (6) | 0.054161 |
PaintCorrectionMaskRadius (7) | 0.045345 |
PaintCorrectionMaskRadius | 0.003033 |
PaintCorrectionMaskValue | 1.000000 |
PaintCorrectionMaskWhat | Mask/Paint |
PaintCorrectionSaturation (7) | -0.011765 |
PaintCorrectionSaturation | 0.000000 |
PaintCorrectionSharpness | 0.011494 |
PaintCorrectionWhat | Correction |
ParametricDarks | -35 |
ParametricHighlights | -31 |
ParametricHighlightSplit | 75 |
ParametricLights | -7 |
ParametricMidtoneSplit | 50 |
ParametricShadows | 0 |
ParametricShadowSplit | 25 |
PerspectiveHorizontal | 0 |
PerspectiveRotate | 0.0 |
PerspectiveScale | 100 |
PerspectiveVertical | 0 |
PostCropVignetteAmount | 0 |
ProcessVersion | 5.7 |
ProfileDescription | sRGB IEC61966-2.1 |
RedHue | 0 |
RedSaturation | 0 |
Saturation | -98 |
SaturationAdjustmentAqua | 0 |
SaturationAdjustmentBlue | -73 |
SaturationAdjustmentGreen | 0 |
SaturationAdjustmentMagenta | 0 |
SaturationAdjustmentOrange | 0 |
SaturationAdjustmentPurple | 0 |
SaturationAdjustmentRed | 0 |
SaturationAdjustmentYellow | 0 |
Shadows | 0 |
ShadowTint | 0 |
SharpenDetail | 30 |
SharpenEdgeMasking | 18 |
SharpenRadius | +0.8 |
Sharpness | 2 |
Software | Adobe Photoshop Lightroom 3.6 (Macintosh) |
SplitToningBalance | -10 |
SplitToningHighlightHue | 60 |
SplitToningHighlightSaturation | 15 |
SplitToningShadowHue | 360 |
SplitToningShadowSaturation | 10 |
ToneCurve | 0, 0, 255, 255 |
ToneCurveName | Linear |
Version | 6.6 |
Vibrance | 0 |
VignetteAmount | 0 |
WhiteBalance | As Shot |