Felt | Verdi |
AlreadyApplied | True |
Aperture | 22.0 |
ApertureValue | 22.0 |
Artist | unknown |
BitsPerSample | 8 |
BlackClip | 0.029900 |
BlueHue | 0 |
BlueSaturation | 0 |
Brightness | -53 |
By-line | unknown |
CameraProfile | Embedded |
ChromaticAberrationB | 0 |
ChromaticAberrationR | 0 |
Clarity | 0 |
ColorComponents | 3 |
ColorNoiseReduction | 0 |
ColorSaturation | 0.0 |
ColorTemperature | 0.0 |
Contrast | +53 |
ConvertToGrayscale | False |
CreateDate | 2012:01:08 10:34:52 |
Creator | unknown |
CreatorTool | Adobe Photoshop Lightroom 3.5 (Windows) |
CropAngle | 0 |
CropBottom | 1 |
CropConstrainToWarp | 0 |
CropHeight | 2303 |
CropLeft | 0.070588 |
CropRight | 1 |
CropTop | 0 |
CropUnit | pixels |
CropWidth | 3211 |
DateCreated (1) | 2012:01:08 |
DateCreated | 2012:01:08 10:34:52 |
DateTimeOriginal | 2012:01:08 10:34:52 |
Defringe | 0 |
Exposure | -1.24 |
ExposureTime | 5 |
FillLight | 1 |
Firmware | 1.0.3 |
FlashCompensation | 0 |
FNumber | 22.0 |
FocalLength | 16.0 mm |
FocalLength35efl | 16.0 mm |
Format | image/jpeg |
Gamma | 1.00 |
GrainAmount | 0 |
GreenHue | 0 |
GreenSaturation | 0 |
HasCrop | True |
HasSettings | True |
HighlightRecovery | 0 |
HighlightsSmoothing | 0.0 |
HueAdjustmentAqua | 0 |
HueAdjustmentBlue | 0 |
HueAdjustmentGreen | 0 |
HueAdjustmentMagenta | 0 |
HueAdjustmentOrange | 0 |
HueAdjustmentPurple | 0 |
HueAdjustmentRed | 0 |
HueAdjustmentYellow | 0 |
ImageHeight | 2303 |
ImageNumber | 39 |
ImageSize | 3211x2303 |
ImageWidth | 3211 |
IncrementalTemperature | +9 |
IncrementalTint | 0 |
ISO | 100 |
IsPano360 | No |
Lens | 16.0-35.0 mm |
LensInfo | 16-35mm f/? |
LensManualDistortionAmount | 0 |
LensModel | 16.0-35.0 mm |
LensProfileEnable | 1 |
LensProfileSetup | Auto |
LightValue | 6.6 |
LuminanceAdjustmentAqua | 0 |
LuminanceAdjustmentBlue | 0 |
LuminanceAdjustmentGreen | 0 |
LuminanceAdjustmentMagenta | 0 |
LuminanceAdjustmentOrange | 0 |
LuminanceAdjustmentPurple | 0 |
LuminanceAdjustmentRed | 0 |
LuminanceAdjustmentYellow | 0 |
LuminanceSmoothing | 0 |
Luminosity | 2.0 |
Megapixels | 7.4 |
Method | Details Enhancer |
Microcontrast | 8.0 |
Microsmoothing | 4.0 |
Model | Canon EOS 350D DIGITAL |
ModifyDate (1) | 2012:01:14 16:26:18+01:00 |
ModifyDate | 2012:01:14 16:26:18 |
OwnerName | unknown |
ParametricDarks | 0 |
ParametricHighlights | 0 |
ParametricHighlightSplit | 75 |
ParametricLights | 0 |
ParametricMidtoneSplit | 50 |
ParametricShadows | 0 |
ParametricShadowSplit | 25 |
PerspectiveHorizontal | 0 |
PerspectiveRotate | 0.0 |
PerspectiveScale | 100 |
PerspectiveVertical | 0 |
PostCropVignetteAmount | 0 |
ProcessVersion | 5.7 |
ProfileDescription | sRGB IEC61966-2.1 |
RedHue | 0 |
RedSaturation | 0 |
Saturation | +1 |
SaturationAdjustmentAqua | 0 |
SaturationAdjustmentBlue | 0 |
SaturationAdjustmentGreen | 0 |
SaturationAdjustmentMagenta | 0 |
SaturationAdjustmentOrange | 0 |
SaturationAdjustmentPurple | 0 |
SaturationAdjustmentRed | 0 |
SaturationAdjustmentYellow | 0 |
SaturationHighlights | 0.0 |
SaturationShadows | 0.0 |
SerialNumber | 2030703093 |
Shadows | 0 |
ShadowsClipping | 0.0 |
ShadowsSmoothing | 0.0 |
ShadowTint | 0 |
SharpenDetail | 25 |
SharpenEdgeMasking | 0 |
SharpenRadius | +1.0 |
Sharpness | 0 |
ShutterSpeed | 5 |
ShutterSpeedValue | 5 |
Smoothing | 0.0 |
SmoothingMode | Slider |
Software | Adobe Photoshop Lightroom 3.5 (Windows) |
SplitToningBalance | 0 |
SplitToningHighlightHue | 0 |
SplitToningHighlightSaturation | 0 |
SplitToningShadowHue | 0 |
SplitToningShadowSaturation | 0 |
Strength | 100.0 |
ToneCurve | 0, 0, 255, 255 |
ToneCurveName | Linear |
Version (1) | 4.1 |
Version | 6.5 |
Vibrance | +1 |
VignetteAmount | 0 |
WhiteBalance | Auto |
WhiteClip | 1.124050 |