Felt | Verdi |
AlreadyApplied | True |
Aperture | 7.1 |
ApertureValue | 7.1 |
BitsPerSample | 8 |
BlueHue | 0 |
BlueSaturation | 0 |
Brightness | 0 |
CameraProfile | Adobe Standard |
ChromaticAberrationB | 0 |
ChromaticAberrationR | 0 |
CircleOfConfusion | 0.030 mm |
Clarity | +50 |
ColorComponents | 1 |
ColorNoiseReduction | 0 |
ColorTemperature | 4738 |
Contrast | +50 |
ConvertToGrayscale | True |
CreateDate | 2011:10:11 14:23:49 |
CreatorTool | Adobe Photoshop Lightroom 3.5 (Macintosh) |
CropAngle | 0.330155 |
CropBottom | 1 |
CropConstrainToWarp | 0 |
CropHeight | 806 |
CropLeft | 0.013275 |
CropRight | 0.993811 |
CropTop | 0.000061 |
CropUnit | pixels |
CropWidth | 1200 |
CustomRendered | Normal |
DateCreated (1) | 2011:10:11 |
DateCreated | 2011:10:11 14:23:49 |
DateTimeOriginal | 2011:10:11 14:23:49 |
Defringe | 0 |
Exposure | +0.85 |
ExposureCompensation | -1/3 |
ExposureMode | Auto |
ExposureProgram | Aperture-priority AE |
ExposureTime | 1/8000 |
FillLight | 0 |
Firmware | 1.1.0 |
Flash | Off, Did not fire |
FlashCompensation | 0 |
FNumber | 7.1 |
FocalLength | 200.0 mm |
FocalLength35efl | 200.0 mm (35 mm equivalent: 200.4 mm) |
FOV | 10.3 deg |
GradientBasedCorrActive | true |
GradientBasedCorrAmount | 1.000000 |
GradientBasedCorrBrightness (2) | -0.014286 |
GradientBasedCorrBrightness | 0.000000 |
GradientBasedCorrClarity (3) | 0.028571 |
GradientBasedCorrClarity | 0.000000 |
GradientBasedCorrContrast (1) | 1.000000 |
GradientBasedCorrContrast | -0.728125 |
GradientBasedCorrExposure (1) | -0.098713 |
GradientBasedCorrExposure (2) | 0.171783 |
GradientBasedCorrExposure (3) | -0.203033 |
GradientBasedCorrExposure | 0.043015 |
GradientBasedCorrHue (2) | 233.000000 |
GradientBasedCorrHue | 0.000000 |
GradientBasedCorrMaskFullX (1) | 0.371509 |
GradientBasedCorrMaskFullX (2) | 0.385238 |
GradientBasedCorrMaskFullX (3) | 0.086109 |
GradientBasedCorrMaskFullX | 0.135735 |
GradientBasedCorrMaskFullY (1) | 0.000524 |
GradientBasedCorrMaskFullY (2) | 0.998690 |
GradientBasedCorrMaskFullY (3) | 1.119250 |
GradientBasedCorrMaskFullY | -0.124440 |
GradientBasedCorrMaskValue | 1.000000 |
GradientBasedCorrMaskWhat | Mask/Gradient |
GradientBasedCorrMaskZeroX (1) | 0.372443 |
GradientBasedCorrMaskZeroX (2) | 0.387282 |
GradientBasedCorrMaskZeroX (3) | 0.300347 |
GradientBasedCorrMaskZeroX | 0.216376 |
GradientBasedCorrMaskZeroY (1) | 0.678509 |
GradientBasedCorrMaskZeroY (2) | 0.742757 |
GradientBasedCorrMaskZeroY (3) | 0.387460 |
GradientBasedCorrMaskZeroY | 0.524191 |
GradientBasedCorrSaturation (1) | -0.028571 |
GradientBasedCorrSaturation (5) | -0.014286 |
GradientBasedCorrSaturation | 0.000000 |
GradientBasedCorrSharpness | 0.000000 |
GradientBasedCorrWhat | Correction |
GrainAmount | 0 |
GrayMixerAqua | -17 |
GrayMixerBlue | -9 |
GrayMixerGreen | 0 |
GrayMixerMagenta | 0 |
GrayMixerOrange | 0 |
GrayMixerPurple | -2 |
GrayMixerRed | 0 |
GrayMixerYellow | 0 |
GreenHue | 0 |
GreenSaturation | 0 |
HasCrop | True |
HasSettings | True |
HighlightRecovery | 0 |
HyperfocalDistance | 187.89 m |
ImageHeight | 806 |
ImageNumber | 1 |
ImageSize | 1200x806 |
ImageWidth | 1200 |
ISO | 250 |
Keywords | skyer |
Lens | EF200mm f/2.8L USM |
LensID (1) | 170 |
LensID | Canon EF 200mm f/2.8L II USM |
LensInfo | 200mm f/? |
LensManualDistortionAmount | 0 |
LensModel | EF200mm f/2.8L USM |
LensProfileEnable | 0 |
LensProfileSetup | LensDefaults |
LightValue | 17.3 |
LuminanceNoiseReductionContrast | 53 |
LuminanceNoiseReductionDetail | 0 |
LuminanceSmoothing | 1 |
Make | Canon |
MaxApertureValue | 2.8 |
Megapixels | 0.967 |
MeteringMode | Unknown |
Model | Canon EOS 5D |
ModifyDate (1) | 2011:11:06 12:06:06+01:00 |
ModifyDate | 2011:11:06 12:06:06 |
PaintCorrectionActive | true |
PaintCorrectionAmount | 1.000000 |
PaintCorrectionBrightness | 0.000000 |
PaintCorrectionClarity | 0.000000 |
PaintCorrectionContrast | 0.082353 |
PaintCorrectionExposure | -0.505882 |
PaintCorrectionHue | 0.000000 |
PaintCorrectionMaskCenterWeight | 0.000000 |
PaintCorrectionMaskFlow | 1.000000 |
PaintCorrectionMaskRadius | 0.025564 |
PaintCorrectionMaskValue | 1.000000 |
PaintCorrectionMaskWhat | Mask/Paint |
PaintCorrectionSaturation | 0.000000 |
PaintCorrectionSharpness | 0.000000 |
PaintCorrectionWhat | Correction |
ParametricDarks | -100 |
ParametricHighlights | +64 |
ParametricHighlightSplit | 75 |
ParametricLights | +41 |
ParametricMidtoneSplit | 50 |
ParametricShadows | -1 |
ParametricShadowSplit | 25 |
PerspectiveHorizontal | 0 |
PerspectiveRotate | 0.0 |
PerspectiveScale | 100 |
PerspectiveVertical | 0 |
PostCropVignetteAmount | 0 |
ProcessVersion | 5.7 |
ProfileDescription | sRGB IEC61966-2.1 |
RedHue | 0 |
RedSaturation | 0 |
ScaleFactor35efl | 1.0 |
SceneCaptureType | Standard |
SerialNumber | 1531004431 |
Shadows | 48 |
ShadowTint | 0 |
SharpenDetail | 20 |
SharpenEdgeMasking | 80 |
SharpenRadius | +1.0 |
Sharpness | 113 |
ShutterSpeed | 1/8000 |
ShutterSpeedValue | 1/8000 |
Software | Adobe Photoshop Lightroom 3.5 (Macintosh) |
SplitToningBalance | 0 |
SplitToningHighlightHue | 0 |
SplitToningHighlightSaturation | 0 |
SplitToningShadowHue | 0 |
SplitToningShadowSaturation | 0 |
Subject | skyer |
Tint | +7 |
ToneCurve | 0, 0, 32, 22, 64, 56, 128, 128, 192, 196, 255, 255 |
ToneCurveName | Medium Contrast |
Version | 6.5 |
VignetteAmount | 0 |
WhiteBalance (1) | Custom |
WhiteBalance | Auto |