Felt | Verdi |
AlreadyApplied | True |
BitsPerSample (1) | 8, 8, 8 |
BitsPerSample (2) | 8 8 8 |
BitsPerSample | 8 |
BlueHue | +11 |
BlueSaturation | -70 |
Brightness | +63 |
CameraProfile | Adobe Standard |
ChromaticAberrationB | 0 |
ChromaticAberrationR | 0 |
Clarity | -36 |
ColorComponents | 3 |
ColorMode | RGB |
ColorNoiseReduction | 25 |
ColorNoiseReductionDetail | 50 |
ColorSpace | Uncalibrated |
Contrast | -31 |
ConvertToGrayscale | True |
CreateDate | 2011:09:04 05:51:03+02:00 |
CreatorTool | Adobe Photoshop Lightroom 3.4.1 |
CropAngle | 0 |
CropBottom | 0.973684 |
CropConstrainToWarp | 0 |
CropHeight | 1788 |
CropLeft | 0.052747 |
CropRight | 0.793407 |
CropTop | 0.093567 |
CropUnit | pixels |
CropWidth | 1001 |
Defringe | 0 |
ExifImageHeight | 1788 |
ExifImageWidth | 1001 |
Exposure | +1.25 |
FillLight | 0 |
Format | image/jpeg |
GrainAmount | 0 |
GrayMixerAqua | +50 |
GrayMixerBlue | +50 |
GrayMixerGreen | -25 |
GrayMixerMagenta | +50 |
GrayMixerOrange | -25 |
GrayMixerPurple | +50 |
GrayMixerRed | -25 |
GrayMixerYellow | -25 |
GreenHue | +11 |
GreenSaturation | +25 |
HasCrop | True |
HasSettings | True |
HighlightRecovery | 25 |
ImageHeight | 1788 |
ImageSize | 1001x1788 |
ImageWidth | 1001 |
IncrementalTemperature | -34 |
IncrementalTint | -10 |
LensManualDistortionAmount | 0 |
LensProfileEnable | 0 |
LensProfileSetup | LensDefaults |
LuminanceNoiseReductionContrast | 0 |
LuminanceNoiseReductionDetail | 50 |
LuminanceSmoothing | 22 |
Megapixels | 1.8 |
ModifyDate (1) | 2011:09:04 07:55:44+02:00 |
ModifyDate | 2011:09:04 07:55:44 |
Orientation | Horizontal (normal) |
ParametricDarks | -25 |
ParametricHighlights | -7 |
ParametricHighlightSplit | 75 |
ParametricLights | 0 |
ParametricMidtoneSplit | 50 |
ParametricShadows | -78 |
ParametricShadowSplit | 25 |
PerspectiveHorizontal | 0 |
PerspectiveRotate | 0.0 |
PerspectiveScale | 100 |
PerspectiveVertical | 0 |
PhotometricInterpretation | RGB |
PlanarConfiguration | Chunky |
PostCropVignetteAmount | +100 |
PostCropVignetteFeather | 40 |
PostCropVignetteMidpoint | 64 |
PostCropVignetteRoundness | -6 |
PostCropVignetteStyle | 1 |
ProcessVersion | 5.7 |
RedHue | +96 |
RedSaturation | +3 |
SamplesPerPixel | 3 |
Shadows | 36 |
ShadowTint | +8 |
SharpenDetail | 25 |
SharpenEdgeMasking | 0 |
SharpenRadius | +1.0 |
Sharpness | 48 |
Software | Adobe Photoshop Elements 9.0 Windows |
SplitToningBalance | 0 |
SplitToningHighlightHue | 78 |
SplitToningHighlightSaturation | 58 |
SplitToningShadowHue | 233 |
SplitToningShadowSaturation | 78 |
ToneCurve | 0, 0, 255, 255 |
ToneCurveName | Linear |
URL_List | |
Version | 6.4.1 |
VignetteAmount | 0 |
WhiteBalance | Custom |