Felt | Verdi |
AlreadyApplied | True |
Aperture | 3.5 |
ApertureValue | 3.5 |
ApproximateFocusDistance | 3.2 |
BitsPerSample (1) | 8, 8, 8 |
BitsPerSample (2) | 16 16 16 |
BitsPerSample | 8 |
BlueHue | 0 |
BlueSaturation | 0 |
Brightness | +50 |
CameraProfile | Adobe Standard |
ChromaticAberrationB | 0 |
ChromaticAberrationR | 0 |
CircleOfConfusion | 0.031 mm |
Clarity | +3 |
ColorComponents | 3 |
ColorMode | RGB |
ColorNoiseReduction | 25 |
ColorNoiseReductionDetail | 50 |
ColorSpace | sRGB |
ColorTemperature | 5103 |
Contrast | +41 |
ConvertToGrayscale | False |
CreateDate (1) | 2011:06:10 19:28:56.81 |
CreateDate | 2011:06:10 19:28:56 |
CreatorTool | Adobe Photoshop Lightroom 3.4.1 |
CropAngle | -0.022543 |
CropBottom | 0.824097 |
CropConstrainToWarp | 0 |
CropHeight | 3082 |
CropLeft | 0.063491 |
CropRight | 0.983147 |
CropTop | 0.001332 |
CropUnit | pixels |
CropWidth | 5164 |
CustomRendered | Normal |
DateCreated | 2011:06:10 |
DateTimeDigitized | 2011:06:10 19:28:56+02:00 |
DateTimeOriginal (1) | 2011:06:10 19:28:56+02:00 |
DateTimeOriginal | 2011:06:10 19:28:56 |
Defringe | 0 |
DOF | 0.21 m (3.10 - 3.31 m) |
ExifImageHeight | 520 |
ExifImageWidth | 1024 |
Exposure | +0.05 |
ExposureCompensation | +5/3 |
ExposureMode | Auto |
ExposureProgram | Aperture-priority AE |
ExposureTime | 1/320 |
FillLight | 22 |
Firmware | 2.0.8 |
Flash | Off, Did not fire |
FlashCompensation | 0 |
FlashFired | False |
FlashFunction | False |
FlashMode | Off |
FlashRedEyeMode | False |
FlashReturn | No return detection |
FNumber | 3.5 |
FocalLength | 102.0 mm |
FocalLength35efl | 102.0 mm (35 mm equivalent: 99.5 mm) |
Format | image/jpeg |
FOV | 20.5 deg |
GrainAmount | 0 |
GreenHue | 0 |
GreenSaturation | 0 |
HasCrop | True |
HasSettings | True |
HighlightRecovery | 18 |
HueAdjustmentAqua | 0 |
HueAdjustmentBlue | 0 |
HueAdjustmentGreen | 0 |
HueAdjustmentMagenta | 0 |
HueAdjustmentOrange | 0 |
HueAdjustmentPurple | 0 |
HueAdjustmentRed | 0 |
HueAdjustmentYellow | 0 |
HyperfocalDistance | 96.55 m |
ICCProfileName | sRGB IEC61966-2.1 |
ImageHeight (2) | 3082 |
ImageHeight | 520 |
ImageNumber | 0 |
ImageSize | 1024x520 |
ImageWidth (1) | 6068 |
ImageWidth (2) | 6175 |
ImageWidth | 1024 |
ISO | 400 |
Lens | EF70-200mm f/2.8L IS II USM |
LensID (1) | 251 |
LensID | Canon EF 70-200mm f/2.8L IS II USM |
LensInfo | 70-200mm f/? |
LensManualDistortionAmount | 0 |
LensModel | EF70-200mm f/2.8L IS II USM |
LensProfileChromaticAberrationScale | 100 |
LensProfileDistortionScale | 100 |
LensProfileEnable | 1 |
LensProfileFilename | Canon EOS 5D Mark II (Canon EF 70-200mm f2.8L IS II USM) - RAW.lcp |
LensProfileName | Adobe (Canon EF 70-200mm f/2.8 L IS II USM) |
LensProfileSetup | LensDefaults |
LensProfileVignettingScale | 100 |
LightValue | 9.9 |
LuminanceAdjustmentAqua | -7 |
LuminanceAdjustmentBlue | -9 |
LuminanceAdjustmentGreen | -14 |
LuminanceAdjustmentMagenta | +2 |
LuminanceAdjustmentOrange | +11 |
LuminanceAdjustmentPurple | +11 |
LuminanceAdjustmentRed | +14 |
LuminanceAdjustmentYellow | +5 |
LuminanceNoiseReductionContrast | 0 |
LuminanceNoiseReductionDetail | 50 |
LuminanceSmoothing | 10 |
Make | Canon |
MaxApertureValue | 2.8 |
Megapixels | 0.532 |
MeteringMode | Multi-segment |
Model | Canon EOS 5D Mark II |
ModifyDate (1) | 2011:07:13 22:37:57+02:00 |
ModifyDate | 2011:07:13 22:37:57 |
Orientation | Horizontal (normal) |
ParametricDarks | 0 |
ParametricHighlights | 0 |
ParametricHighlightSplit | 75 |
ParametricLights | 0 |
ParametricMidtoneSplit | 50 |
ParametricShadows | 0 |
ParametricShadowSplit | 25 |
PerspectiveHorizontal | 0 |
PerspectiveRotate | 0.0 |
PerspectiveScale | 100 |
PerspectiveVertical | 0 |
PhotometricInterpretation | RGB |
PlanarConfiguration | Chunky |
PostCropVignetteAmount | 0 |
ProcessVersion | 5.7 |
ProfileDescription | sRGB IEC61966-2.1 |
RedHue | 0 |
RedSaturation | 0 |
SamplesPerPixel | 3 |
Saturation | 0 |
SaturationAdjustmentAqua | -14 |
SaturationAdjustmentBlue | -11 |
SaturationAdjustmentGreen | 0 |
SaturationAdjustmentMagenta | 0 |
SaturationAdjustmentOrange | 0 |
SaturationAdjustmentPurple | 0 |
SaturationAdjustmentRed | 0 |
SaturationAdjustmentYellow | 0 |
ScaleFactor35efl | 1.0 |
SceneCaptureType | Standard |
SerialNumber | 530320270 |
Shadows | 4 |
ShadowTint | 0 |
SharpenDetail | 25 |
SharpenEdgeMasking | 0 |
SharpenRadius | +1.0 |
Sharpness | 60 |
ShutterSpeed | 1/320 |
ShutterSpeedValue | 1/320 |
Software | Adobe Photoshop CS4 Windows |
SplitToningBalance | 0 |
SplitToningHighlightHue | 0 |
SplitToningHighlightSaturation | 0 |
SplitToningShadowHue | 0 |
SplitToningShadowSaturation | 0 |
SubjectDistance | 3.2 m |
Tint | +2 |
ToneCurve | 0, 0, 32, 16, 64, 50, 128, 128, 192, 202, 255, 255 |
ToneCurveName | Strong Contrast |
URL_List | |
Version | 6.4.1 |
Vibrance | +6 |
VignetteAmount | 0 |
WhiteBalance (1) | Custom |
WhiteBalance | Auto |