Felt | Verdi |
AlreadyApplied | True |
Aperture | 7.1 |
ApertureValue | 7.1 |
ApproximateFocusDistance | 14.9 |
Artist | karl Inge Jensen |
BitsPerSample | 8 |
BlueHue | 0 |
BlueSaturation | 0 |
Brightness | +50 |
By-line | karl Inge Jensen |
CameraProfile | Adobe Standard |
ChromaticAberrationB | 0 |
ChromaticAberrationR | 0 |
CircleOfConfusion | 0.031 mm |
Clarity | +51 |
ColorComponents | 3 |
ColorNoiseReduction | 25 |
ColorNoiseReductionDetail | 50 |
ColorTemperature | 5780 |
Contrast | +61 |
ConvertToGrayscale | False |
Copyright | karl Inge Jensen |
CopyrightFlag | True |
CopyrightNotice | karl Inge Jensen |
CreateDate (1) | 2011:05:22 07:02:37.68 |
CreateDate | 2011:05:22 07:02:37 |
Creator | karl Inge Jensen |
CreatorAddress | kvamsveien 37 |
CreatorCity | Meldal |
CreatorCountry | Norge |
CreatorPostalCode | 7336 |
CreatorTool | Adobe Photoshop Lightroom 3.4 |
CreatorWorkEmail | kar-inge@loqal.no |
CreatorWorkTelephone | 91857326 |
CropAngle | 0 |
CropBottom | 0.917323 |
CropConstrainToWarp | 0 |
CropHeight | 780 |
CropLeft | 0.015748 |
CropRight | 0.88189 |
CropTop | 0.051181 |
CropUnit | pixels |
CropWidth | 1170 |
CustomRendered | Normal |
DateCreated (1) | 2011:05:22 |
DateCreated | 2011:05:22 07:02:37.68 |
DateTimeOriginal | 2011:05:22 07:02:37 |
Defringe | 0 |
DOF | 0.59 m (14.61 - 15.20 m) |
Exposure | -0.35 |
ExposureCompensation | +1 |
ExposureMode | Auto |
ExposureProgram | Aperture-priority AE |
ExposureTime | 1/125 |
FillLight | 0 |
Firmware | 2.0.8 |
Flash | Off, Did not fire |
FlashCompensation | 0 |
FNumber | 7.1 |
FocalLength | 400.0 mm |
FocalLength35efl | 400.0 mm (35 mm equivalent: 390.4 mm) |
FOV | 5.3 deg |
GrainAmount | 0 |
GreenHue | 0 |
GreenSaturation | 0 |
HasCrop | True |
HasSettings | True |
HighlightRecovery | 0 |
HueAdjustmentAqua | 0 |
HueAdjustmentBlue | 0 |
HueAdjustmentGreen | 0 |
HueAdjustmentMagenta | 0 |
HueAdjustmentOrange | 0 |
HueAdjustmentPurple | 0 |
HueAdjustmentRed | 0 |
HueAdjustmentYellow | 0 |
HyperfocalDistance | 731.97 m |
ImageHeight | 780 |
ImageNumber | 0 |
ImageSize | 1170x780 |
ImageWidth | 1170 |
ISO | 1000 |
Lens | EF100-400mm f/4.5-5.6L IS USM |
LensID (1) | 183 |
LensID | Canon EF 100-400mm f/4.5-5.6L IS USM |
LensInfo | 100-400mm f/? |
LensManualDistortionAmount | 0 |
LensModel | EF100-400mm f/4.5-5.6L IS USM |
LensProfileEnable | 0 |
LensProfileSetup | LensDefaults |
LightValue | 9.3 |
LuminanceAdjustmentAqua | 0 |
LuminanceAdjustmentBlue | 0 |
LuminanceAdjustmentGreen | 0 |
LuminanceAdjustmentMagenta | 0 |
LuminanceAdjustmentOrange | 0 |
LuminanceAdjustmentPurple | 0 |
LuminanceAdjustmentRed | 0 |
LuminanceAdjustmentYellow | 0 |
LuminanceSmoothing | 0 |
Make | Canon |
Marked | True |
MaxApertureValue | 5.7 |
Megapixels | 0.913 |
MeteringMode | Spot |
Model | Canon EOS 5D Mark II |
ModifyDate (1) | 2011:05:22 12:07:56+02:00 |
ModifyDate | 2011:05:22 12:07:56 |
ParametricDarks | 0 |
ParametricHighlights | 0 |
ParametricHighlightSplit | 75 |
ParametricLights | 0 |
ParametricMidtoneSplit | 50 |
ParametricShadows | 0 |
ParametricShadowSplit | 25 |
PerspectiveHorizontal | 0 |
PerspectiveRotate | 0.0 |
PerspectiveScale | 100 |
PerspectiveVertical | 0 |
PostCropVignetteAmount | 0 |
ProcessVersion | 5.7 |
ProfileDescription | sRGB IEC61966-2.1 |
RedHue | 0 |
RedSaturation | 0 |
Rights | karl Inge Jensen |
Saturation | +7 |
SaturationAdjustmentAqua | 0 |
SaturationAdjustmentBlue | 0 |
SaturationAdjustmentGreen | 0 |
SaturationAdjustmentMagenta | 0 |
SaturationAdjustmentOrange | 0 |
SaturationAdjustmentPurple | 0 |
SaturationAdjustmentRed | 0 |
SaturationAdjustmentYellow | 0 |
ScaleFactor35efl | 1.0 |
SceneCaptureType | Standard |
SerialNumber | 2431402754 |
Shadows | 5 |
ShadowTint | 0 |
SharpenDetail | 25 |
SharpenEdgeMasking | 0 |
SharpenRadius | +1.0 |
Sharpness | 25 |
ShutterSpeed | 1/125 |
ShutterSpeedValue | 1/125 |
Software | Adobe Photoshop Lightroom 3.4 |
SplitToningBalance | 0 |
SplitToningHighlightHue | 0 |
SplitToningHighlightSaturation | 0 |
SplitToningShadowHue | 0 |
SplitToningShadowSaturation | 0 |
SubjectDistance | 14.9 m |
Tint | 0 |
ToneCurve | 0, 0, 32, 22, 64, 56, 128, 128, 192, 196, 255, 255 |
ToneCurveName | Medium Contrast |
Version | 6.4 |
Vibrance | +37 |
VignetteAmount | 0 |
WhiteBalance (1) | Custom |
WhiteBalance | Manual |