Felt | Verdi |
AlreadyApplied | True |
Aperture | 18.0 |
ApertureValue | 18.0 |
Artist | P. Isaksen |
BitsPerSample | 8 |
BlueHue | 0 |
BlueSaturation | 0 |
Brightness | +48 |
By-line | P. Isaksen |
CameraProfile | ACR 4.4 |
ChromaticAberrationB | 0 |
ChromaticAberrationR | 0 |
CircleOfConfusion | 0.019 mm |
Clarity | +5 |
ColorComponents | 3 |
ColorMode | RGB |
ColorNoiseReduction | 25 |
ColorSpace | sRGB |
ColorTemperature | 6100 |
Contrast | +24 |
ConvertToGrayscale | False |
CopyrightFlag | False |
CreateDate (1) | 2010:09:05 21:58:23+02:00 |
CreateDate | 2010:06:13 02:03:55 |
Creator | P. Isaksen |
CreatorTool | Adobe Photoshop Elements 6.0 Windows |
CustomRendered | Normal |
DateTimeDigitized | 2010:06:13 02:03:55.42+02:00 |
DateTimeOriginal (1) | 2010:06:13 00:03:55Z |
DateTimeOriginal | 2010:06:13 00:03:55 |
Defringe | 0 |
ExifImageHeight | 2600 |
ExifImageWidth | 3616 |
Exposure | +0.25 |
ExposureCompensation | 0 |
ExposureMode | Auto |
ExposureProgram | Aperture-priority AE |
ExposureTime | 1/8 |
FillLight | 2 |
Firmware | 1.1.0 |
Flash | Off, Did not fire |
FlashCompensation | 0 |
FlashFired | False |
FlashFunction | False |
FlashMode | Off |
FlashRedEyeMode | False |
FlashReturn | No return detection |
FNumber | 18.0 |
FocalLength | 116.0 mm |
FocalLength35efl | 116.0 mm (35 mm equivalent: 187.4 mm) |
Format | image/jpeg |
FOV | 11.0 deg |
GreenHue | 0 |
GreenSaturation | 0 |
HasCrop | False |
HasSettings | True |
HighlightRecovery | 16 |
HueAdjustmentAqua | 0 |
HueAdjustmentBlue | 0 |
HueAdjustmentGreen | 0 |
HueAdjustmentMagenta | 0 |
HueAdjustmentOrange | 0 |
HueAdjustmentPurple | 0 |
HueAdjustmentRed | 0 |
HueAdjustmentYellow | 0 |
HyperfocalDistance | 40.19 m |
ICCProfileName | sRGB IEC61966-2.1 |
ImageHeight | 2600 |
ImageNumber | 0 |
ImageSize | 3616x2600 |
ImageWidth | 3616 |
ISO | 800 |
Keywords | Hentet vogna til Trine og Kenneth |
Lens | EF-S55-250mm f/4-5.6 IS |
LensInfo | 55-250mm f/? |
LightValue | 8.3 |
LuminanceAdjustmentAqua | 0 |
LuminanceAdjustmentBlue | 0 |
LuminanceAdjustmentGreen | 0 |
LuminanceAdjustmentMagenta | 0 |
LuminanceAdjustmentOrange | 0 |
LuminanceAdjustmentPurple | 0 |
LuminanceAdjustmentRed | 0 |
LuminanceAdjustmentYellow | 0 |
LuminanceSmoothing | 0 |
Make | Canon |
MaxApertureValue | 5.0 |
Megapixels | 9.4 |
MeteringMode | Center-weighted average |
Model | Canon EOS 450D |
ModifyDate (1) | 2010:09:05 21:58:23+02:00 |
ModifyDate | 2010:09:05 21:58:23 |
Orientation | Horizontal (normal) |
OwnerName | P. Isaksen |
ParametricDarks | 0 |
ParametricHighlights | 0 |
ParametricHighlightSplit | 75 |
ParametricLights | 0 |
ParametricMidtoneSplit | 50 |
ParametricShadows | 0 |
ParametricShadowSplit | 25 |
PostCropVignetteAmount | 0 |
ProfileDescription | sRGB IEC61966-2.1 |
Rating | 0 |
RawFileName | IMG_1765.CR2 |
RedHue | 0 |
RedSaturation | 0 |
Saturation | +5 |
SaturationAdjustmentAqua | 0 |
SaturationAdjustmentBlue | 0 |
SaturationAdjustmentGreen | 0 |
SaturationAdjustmentMagenta | 0 |
SaturationAdjustmentOrange | 0 |
SaturationAdjustmentPurple | 0 |
SaturationAdjustmentRed | 0 |
SaturationAdjustmentYellow | 0 |
ScaleFactor35efl | 1.6 |
SceneCaptureType | Standard |
SerialNumber | 1730500778 |
Shadows | 5 |
ShadowTint | 0 |
SharpenDetail | 46 |
SharpenEdgeMasking | 0 |
SharpenRadius | +1.8 |
Sharpness | 44 |
ShutterSpeed | 1/8 |
ShutterSpeedValue | 1/8 |
SidecarForExtension | CR2 |
Software | Adobe Photoshop Elements 6.0 Windows |
SplitToningBalance | 0 |
SplitToningHighlightHue | 0 |
SplitToningHighlightSaturation | 0 |
SplitToningShadowHue | 0 |
SplitToningShadowSaturation | 0 |
Subject | Hentet vogna til Trine og Kenneth |
Tint | -6 |
ToneCurve | 0, 0, 32, 22, 64, 56, 128, 128, 192, 196, 255, 255 |
ToneCurveName | Medium Contrast |
URL_List | |
Version | 5.3 |
Vibrance | +21 |
VignetteAmount | 0 |
WhiteBalance (2) | As Shot |
WhiteBalance | Auto |