Felt | Verdi |
AlreadyApplied | True |
Aperture | 4.0 |
ApertureValue | 4.0 |
BitsPerSample | 8 |
BlueHue | 0 |
BlueSaturation | 0 |
Brightness | 0 |
CameraProfile | Adobe Standard |
CFAPattern | [Green,Red][Blue,Green] |
ChromaticAberrationB | 0 |
ChromaticAberrationR | 0 |
CircleOfConfusion | 0.020 mm |
Clarity | +50 |
ColorComponents | 3 |
ColorNoiseReduction | 52 |
ColorTemperature | 7357 |
Contrast (2) | +50 |
Contrast | Low |
ConvertToGrayscale | False |
Copyright | Espen Seierstad |
CopyrightFlag | True |
CopyrightNotice | Espen Seierstad |
CreateDate (1) | 2010:01:06 14:11:25.47+01:00 |
CreateDate | 2010:01:06 14:11:25 |
CreatorTool | Adobe Photoshop Lightroom |
CropAngle | 0 |
CropBottom | 0.805515 |
CropHeight | 2088 |
CropLeft | 0.036807 |
CropRight | 1 |
CropTop | 0 |
CropUnit | pixels |
CropWidth | 3729 |
CustomRendered | Normal |
DateTimeDigitized | 2010:01:06 14:11:25.47+01:00 |
DateTimeOriginal (1) | 2010:01:06 14:11:25.47+01:00 |
DateTimeOriginal | 2010:01:06 14:11:25 |
Defringe | 0 |
DigitalZoomRatio | 1 |
DOF | 2.84 m (65.41 - 68.25 m) |
ExifImageHeight | 2088 |
ExifImageWidth | 3729 |
Exposure | +1.71 |
ExposureCompensation | -4/3 |
ExposureMode | Auto |
ExposureProgram | Program AE |
ExposureTime | 1/60 |
FillLight | 0 |
Flash | No Flash |
FlashFired | False |
FlashFunction | False |
FlashMode | Unknown |
FlashRedEyeMode | False |
FlashReturn | No return detection |
FNumber | 4.0 |
FocalLength | 500.0 mm |
FocalLength35efl | 500.0 mm (35 mm equivalent: 750.0 mm) |
FocalLengthIn35mmFormat | 750 mm |
FOV | 2.7 deg |
GainControl | None |
GradientBasedCorrActive | true |
GradientBasedCorrAmount | 1.000000 |
GradientBasedCorrBrightness | 0.000000 |
GradientBasedCorrClarity (1) | 0.475000 |
GradientBasedCorrClarity | 0.000000 |
GradientBasedCorrContrast (1) | 1.000000 |
GradientBasedCorrContrast | 0.000000 |
GradientBasedCorrExposure (1) | 0.075000 |
GradientBasedCorrExposure (2) | -0.125000 |
GradientBasedCorrExposure | -0.075000 |
GradientBasedCorrHue | 116.000000 |
GradientBasedCorrMaskFullX (1) | 1.011610 |
GradientBasedCorrMaskFullX (2) | -0.009242 |
GradientBasedCorrMaskFullX | 1.003720 |
GradientBasedCorrMaskFullY (1) | 0.794331 |
GradientBasedCorrMaskFullY (2) | 0.793986 |
GradientBasedCorrMaskFullY | -0.003034 |
GradientBasedCorrMaskValue | 1.000000 |
GradientBasedCorrMaskWhat | Mask/Gradient |
GradientBasedCorrMaskZeroX (1) | 0.608128 |
GradientBasedCorrMaskZeroX (2) | 0.329945 |
GradientBasedCorrMaskZeroX | 0.566543 |
GradientBasedCorrMaskZeroY (1) | 0.196799 |
GradientBasedCorrMaskZeroY (2) | -0.041287 |
GradientBasedCorrMaskZeroY | 0.840435 |
GradientBasedCorrSaturation | 0.000000 |
GradientBasedCorrSharpness (1) | 0.600000 |
GradientBasedCorrSharpness | 0.000000 |
GradientBasedCorrWhat | Correction |
GreenHue | 0 |
GreenSaturation | 0 |
HasCrop | True |
HasSettings | True |
HighlightRecovery | 0 |
HueAdjustmentAqua | 0 |
HueAdjustmentBlue | 0 |
HueAdjustmentGreen | 0 |
HueAdjustmentMagenta | 0 |
HueAdjustmentOrange | 0 |
HueAdjustmentPurple | 0 |
HueAdjustmentRed | 0 |
HueAdjustmentYellow | 0 |
HyperfocalDistance | 3120.19 m |
ImageHeight | 2088 |
ImageNumber | 17081 |
ImageSize | 3729x2088 |
ImageWidth | 3729 |
ISO | 200 |
Keywords | Anatidae, Animals, Anseriformes, Aves, Bird, Birds, Cygnus cygnus, Pastel, Swan, Swans, Whooper, Whooper Swan, Winter |
Label | Green |
Lens | 500.0 mm f/4.0 |
LensID (1) | 151 |
LensID | AF-S VR Nikkor 500mm f/4G ED |
LensInfo | 500mm f/4 |
LightSource | Unknown |
LightValue | 8.9 |
LuminanceAdjustmentAqua | 0 |
LuminanceAdjustmentBlue | 0 |
LuminanceAdjustmentGreen | 0 |
LuminanceAdjustmentMagenta | 0 |
LuminanceAdjustmentOrange | 0 |
LuminanceAdjustmentPurple | 0 |
LuminanceAdjustmentRed | 0 |
LuminanceAdjustmentYellow | 0 |
LuminanceSmoothing | 80 |
Make | NIKON CORPORATION |
Marked | True |
MaxApertureValue | 4.0 |
Megapixels | 7.8 |
MeteringMode | Spot |
Model | NIKON D200 |
ModifyDate (1) | 2010:02:27 22:42:22+01:00 |
ModifyDate | 2010:02:27 22:42:22 |
ObjectName | "dukk!" |
PaintCorrectionActive | true |
PaintCorrectionAmount | 1.000000 |
PaintCorrectionBrightness | 0.000000 |
PaintCorrectionClarity | 0.450000 |
PaintCorrectionContrast | 0.200000 |
PaintCorrectionExposure | 0.025000 |
PaintCorrectionHue | 116.000000 |
PaintCorrectionMaskCenterWeight | 0.198184 |
PaintCorrectionMaskFlow | 1.000000 |
PaintCorrectionMaskRadius | 0.010041 |
PaintCorrectionMaskValue | 1.000000 |
PaintCorrectionMaskWhat | Mask/Paint |
PaintCorrectionSaturation | 0.000000 |
PaintCorrectionSharpness | 0.000000 |
PaintCorrectionWhat | Correction |
ParametricDarks | -5 |
ParametricHighlights | +52 |
ParametricHighlightSplit | 75 |
ParametricLights | +38 |
ParametricMidtoneSplit | 50 |
ParametricShadows | -12 |
ParametricShadowSplit | 25 |
PostCropVignetteAmount | 0 |
ProfileDescription | sRGB IEC61966-2.1 |
Rating | 5 |
RedHue | 0 |
RedSaturation | 0 |
Rights | Espen Seierstad |
Saturation (2) | 0 |
Saturation | Normal |
SaturationAdjustmentAqua | 0 |
SaturationAdjustmentBlue | 0 |
SaturationAdjustmentGreen | 0 |
SaturationAdjustmentMagenta | 0 |
SaturationAdjustmentOrange | 0 |
SaturationAdjustmentPurple | 0 |
SaturationAdjustmentRed | 0 |
SaturationAdjustmentYellow | 0 |
ScaleFactor35efl | 1.5 |
SceneCaptureType | Standard |
SceneType | Directly photographed |
SensingMethod | One-chip color area |
Shadows | 12 |
ShadowTint | 0 |
SharpenDetail | 21 |
SharpenEdgeMasking | 0 |
SharpenRadius | +1.2 |
Sharpness (2) | 86 |
Sharpness | Hard |
ShutterSpeed | 1/60 |
ShutterSpeedValue | 1/60 |
Software | Ver.2.00 |
SplitToningBalance | 0 |
SplitToningHighlightHue | 0 |
SplitToningHighlightSaturation | 0 |
SplitToningShadowHue | 0 |
SplitToningShadowSaturation | 0 |
Subject | Anatidae, Animals, Anseriformes, Aves, Bird, Birds, Cygnus cygnus, Pastel, Swan, Swans, Whooper, Whooper Swan, Winter |
SubjectDistance | 66.8 m |
SubjectDistanceRange | Unknown |
Tint | -10 |
Title | "dukk!" |
ToneCurve | 0, 0, 32, 22, 64, 56, 128, 128, 192, 196, 255, 255 |
ToneCurveName | Medium Contrast |
UserComment | Espen Seierstad |
Version | 5.6 |
Vibrance | +25 |
VignetteAmount | 0 |
WhiteBalance (2) | Custom |
WhiteBalance | Auto |