Felt | Verdi |
AlreadyApplied | True |
Aperture | 11.0 |
ApertureValue | 11.0 |
Artist | Ola Bjerrang |
BitsPerSample (1) | 16, 16, 16 |
BitsPerSample | 8 |
BlueHue | 0 |
BlueSaturation | 0 |
Brightness | +55 |
By-line | Ola Bjerrang |
CameraProfile | Adobe Standard |
CFAPattern | [Red,Green][Green,Blue] |
ChromaticAberrationB | 0 |
ChromaticAberrationR | 0 |
CircleOfConfusion | 0.020 mm |
Clarity | +40 |
ColorComponents | 3 |
ColorMode | RGB |
ColorNoiseReduction | 25 |
ColorSpace | Uncalibrated |
ColorTemperature | 6850 |
Contrast (2) | +31 |
Contrast | Normal |
ConvertToGrayscale | False |
Copyright | Ol |
CopyrightNotice | Ol |
CreateDate (1) | 2009:09:07 19:47:13.59+02:00 |
CreateDate | 2009:09:07 19:47:13 |
Creator | Ola Bjerrang |
CreatorTool | Ver.1.10 |
CropAngle | -1.904439 |
CropBottom | 0.927312 |
CropLeft | 0.026659 |
CropRight | 0.934333 |
CropTop | 0.044416 |
CustomRendered | Normal |
DateTimeDigitized | 2009:09:07 19:47:13.59+02:00 |
DateTimeOriginal (1) | 2009:09:07 19:47:13.59+02:00 |
DateTimeOriginal | 2009:09:07 19:47:13 |
Defringe | 0 |
DigitalZoomRatio | 1 |
ExifImageHeight | 889 |
ExifImageWidth | 1280 |
Exposure | 0.00 |
ExposureCompensation | -1 |
ExposureMode | Auto |
ExposureProgram | Aperture-priority AE |
ExposureTime | 0.4 |
FillLight | 6 |
Flash | No Flash |
FlashFired | False |
FlashFunction | False |
FlashMode | Unknown |
FlashRedEyeMode | False |
FlashReturn | No return detection |
FNumber | 11.0 |
FocalLength | 10.0 mm |
FocalLength35efl | 10.0 mm (35 mm equivalent: 15.0 mm) |
FocalLengthIn35mmFormat | 15 mm |
Format | image/jpeg |
FOV | 100.4 deg |
GainControl | None |
GreenHue | 0 |
GreenSaturation | 0 |
HasCrop | True |
HasSettings | True |
HighlightRecovery | 59 |
HueAdjustmentAqua | 0 |
HueAdjustmentBlue | 0 |
HueAdjustmentGreen | 0 |
HueAdjustmentMagenta | 0 |
HueAdjustmentOrange | 0 |
HueAdjustmentPurple | +2 |
HueAdjustmentRed | 0 |
HueAdjustmentYellow | 0 |
HyperfocalDistance | 0.45 m |
ICCProfileName | Adobe RGB (1998) |
ImageHeight (1) | 2642 |
ImageHeight | 889 |
ImageNumber | 36209 |
ImageSize | 1280x889 |
ImageWidth (1) | 3806 |
ImageWidth | 1280 |
ISO | 200 |
Lens | 10.0-20.0 mm f/4.0-5.6 |
LensInfo | 10-20mm f/4-5.6 |
LightSource | Unknown |
LightValue | 7.2 |
LuminanceAdjustmentAqua | -3 |
LuminanceAdjustmentBlue | -18 |
LuminanceAdjustmentGreen | 0 |
LuminanceAdjustmentMagenta | 0 |
LuminanceAdjustmentOrange | -19 |
LuminanceAdjustmentPurple | 0 |
LuminanceAdjustmentRed | -22 |
LuminanceAdjustmentYellow | -18 |
LuminanceSmoothing | 0 |
Make | NIKON CORPORATION |
MaxApertureValue | 4.0 |
Megapixels | 1.1 |
MeteringMode | Multi-segment |
Model | NIKON D300 |
ModifyDate (1) | 2010:01:04 23:38:34+01:00 |
ModifyDate | 2010:01:04 23:38:34 |
Orientation | Horizontal (normal) |
ParametricDarks | +8 |
ParametricHighlights | -78 |
ParametricHighlightSplit | 75 |
ParametricLights | +5 |
ParametricMidtoneSplit | 50 |
ParametricShadows | -11 |
ParametricShadowSplit | 25 |
PhotometricInterpretation | RGB |
PlanarConfiguration | Chunky |
PostCropVignetteAmount | 0 |
ProfileDescription | Adobe RGB (1998) |
Rating | 0 |
RawFileName | _OLA5972.NEF |
RedHue | 0 |
RedSaturation | 0 |
Rights | Ol |
SamplesPerPixel | 3 |
Saturation (2) | 0 |
Saturation | Normal |
SaturationAdjustmentAqua | 0 |
SaturationAdjustmentBlue | +15 |
SaturationAdjustmentGreen | 0 |
SaturationAdjustmentMagenta | -19 |
SaturationAdjustmentOrange | +20 |
SaturationAdjustmentPurple | -28 |
SaturationAdjustmentRed | +21 |
SaturationAdjustmentYellow | -39 |
ScaleFactor35efl | 1.5 |
SceneCaptureType | Standard |
SceneType | Directly photographed |
SensingMethod | One-chip color area |
SerialNumber | 4033439 |
Shadows | 5 |
ShadowTint | 0 |
SharpenDetail | 25 |
SharpenEdgeMasking | 0 |
SharpenRadius | +1.0 |
Sharpness (2) | 13 |
Sharpness | Normal |
ShutterSpeed | 0.4 |
ShutterSpeedValue | 0.4 |
SidecarForExtension | NEF |
Software | Adobe Photoshop CS4 Windows |
SplitToningBalance | 0 |
SplitToningHighlightHue | 0 |
SplitToningHighlightSaturation | 0 |
SplitToningShadowHue | 0 |
SplitToningShadowSaturation | 0 |
SubjectDistanceRange | Unknown |
Tint | +1 |
ToneCurve | 0, 0, 32, 22, 64, 56, 128, 128, 192, 196, 255, 255 |
ToneCurveName | Medium Contrast |
URL_List | |
Version | 5.3 |
Vibrance | +11 |
VignetteAmount | 0 |
WhiteBalance (2) | Custom |
WhiteBalance | Auto |