Felt | Verdi |
AlreadyApplied | True |
Aperture | 5.6 |
ApertureValue | 5.6 |
Artist | Stig Johannessen |
BitsPerSample | 8 |
BlueHue | 0 |
BlueSaturation | 0 |
Brightness | +55 |
By-line | Stig Johannessen |
CameraProfile | ACR 4.4 |
ChromaticAberrationB | +10 |
ChromaticAberrationR | -14 |
CircleOfConfusion | 0.019 mm |
City | Kragerø |
Clarity | +38 |
ColorComponents | 3 |
ColorMode | RGB |
ColorNoiseReduction | 0 |
ColorSpace | sRGB |
ColorTemperature | 4850 |
Contrast | +40 |
ConvertToGrayscale | False |
Copyright | Stig Johannessen |
CopyrightFlag | True |
CopyrightNotice | Stig Johannessen |
Country | Norway |
Country-PrimaryLocationName | Norway |
CreateDate (1) | 2009:11:02 15:34:57+01:00 |
CreateDate | 2009:10:10 14:43:45 |
Creator | Stig Johannessen |
CreatorAddress | Lovisenbergveien 89 |
CreatorCity | Kragerø |
CreatorCountry | Norway |
CreatorPostalCode | NO-3770 |
CreatorTool | Adobe Photoshop CS3 Windows |
CreatorWorkEmail | stijohannessen@hotmail.com |
CreatorWorkTelephone | +47 95888434 |
CropAngle | 3.4344 |
CropBottom | 0.974478 |
CropHeight | 2571 |
CropLeft | 0.097097 |
CropRight | 0.877983 |
CropTop | 0 |
CropUnit | pixels |
CropWidth | 3496 |
CustomRendered | Normal |
DateTimeDigitized | 2009:10:10 14:43:45.83+02:00 |
DateTimeOriginal (1) | 2009:10:10 14:43:45.83+02:00 |
DateTimeOriginal | 2009:10:10 14:43:45 |
Defringe | 0 |
ExifImageHeight | 709 |
ExifImageWidth | 800 |
Exposure | -0.76 |
ExposureCompensation | 0 |
ExposureMode | Manual |
ExposureProgram | Manual |
ExposureTime | 1.6 |
FillLight | 27 |
Firmware | 1.0.4 |
Flash | Off, Did not fire |
FlashCompensation | 0 |
FlashFired | False |
FlashFunction | False |
FlashMode | Off |
FlashRedEyeMode | False |
FlashReturn | No return detection |
FNumber | 5.6 |
FocalLength | 18.0 mm |
FocalLength35efl | 18.0 mm (35 mm equivalent: 29.1 mm) |
Format | image/jpeg |
FOV | 63.5 deg |
GreenHue | 0 |
GreenSaturation | 0 |
HasCrop | True |
HasSettings | True |
HierarchicalSubject | HDR, Stilleben |
HighlightRecovery | 30 |
HueAdjustmentAqua | 0 |
HueAdjustmentBlue | 0 |
HueAdjustmentGreen | 0 |
HueAdjustmentMagenta | 0 |
HueAdjustmentOrange | 0 |
HueAdjustmentPurple | 0 |
HueAdjustmentRed | 0 |
HueAdjustmentYellow | 0 |
HyperfocalDistance | 3.11 m |
ICCProfileName | sRGB IEC61966-2.1 |
ImageHeight (1) | 2571 |
ImageHeight | 709 |
ImageNumber | 0 |
ImageSize | 800x709 |
ImageWidth (1) | 3496 |
ImageWidth | 800 |
ISO | 100 |
Keywords | HDR, Stilleben |
Lens | EF-S18-55mm f/3.5-5.6 IS |
LensInfo | 18-55mm f/? |
LightValue | 4.3 |
Location | Kjølebrønd |
LuminanceAdjustmentAqua | 0 |
LuminanceAdjustmentBlue | 0 |
LuminanceAdjustmentGreen | 0 |
LuminanceAdjustmentMagenta | 0 |
LuminanceAdjustmentOrange | 0 |
LuminanceAdjustmentPurple | 0 |
LuminanceAdjustmentRed | 0 |
LuminanceAdjustmentYellow | 0 |
LuminanceSmoothing | 0 |
Make | Canon |
Marked | True |
MaxApertureValue | 3.5 |
Megapixels | 0.567 |
MeteringMode | Multi-segment |
Model | Canon EOS 450D |
ModifyDate (1) | 2009:11:02 15:34:57+01:00 |
ModifyDate | 2009:11:02 15:34:57 |
Orientation | Horizontal (normal) |
PaintCorrectionActive | true |
PaintCorrectionAmount | 1.000000 |
PaintCorrectionBrightness | 0.000000 |
PaintCorrectionClarity | 0.000000 |
PaintCorrectionContrast | 0.000000 |
PaintCorrectionExposure | -0.425000 |
PaintCorrectionHue | 203.000000 |
PaintCorrectionMaskCenterWeight | 0.000000 |
PaintCorrectionMaskFlow | 0.295000 |
PaintCorrectionMaskRadius | 0.026519 |
PaintCorrectionMaskValue | 1.000000 |
PaintCorrectionMaskWhat | Mask/Paint |
PaintCorrectionSaturation | 0.000000 |
PaintCorrectionSharpness | 0.000000 |
PaintCorrectionWhat | Correction |
ParametricDarks | -5 |
ParametricHighlights | 0 |
ParametricHighlightSplit | 75 |
ParametricLights | +7 |
ParametricMidtoneSplit | 50 |
ParametricShadows | 0 |
ParametricShadowSplit | 25 |
PostCropVignetteAmount | 0 |
ProfileDescription | sRGB IEC61966-2.1 |
RedHue | 0 |
RedSaturation | 0 |
Rights | Stig Johannessen |
Saturation | -26 |
SaturationAdjustmentAqua | 0 |
SaturationAdjustmentBlue | 0 |
SaturationAdjustmentGreen | 0 |
SaturationAdjustmentMagenta | 0 |
SaturationAdjustmentOrange | 0 |
SaturationAdjustmentPurple | 0 |
SaturationAdjustmentRed | 0 |
SaturationAdjustmentYellow | 0 |
ScaleFactor35efl | 1.6 |
SceneCaptureType | Standard |
SerialNumber | 630266831 |
Shadows | 5 |
ShadowTint | 0 |
SharpenDetail | 38 |
SharpenEdgeMasking | 0 |
SharpenRadius | +1.0 |
Sharpness | 20 |
ShutterSpeed | 1.6 |
ShutterSpeedValue | 1.6 |
Software | Adobe Photoshop CS3 Windows |
SplitToningBalance | 0 |
SplitToningHighlightHue | 0 |
SplitToningHighlightSaturation | 0 |
SplitToningShadowHue | 0 |
SplitToningShadowSaturation | 0 |
Sub-location | Kjølebrønd |
Subject | HDR, Stilleben |
Tint | +3 |
ToneCurve | 0, 0, 255, 255 |
ToneCurveName | Linear |
URL_List | |
Version | 5.3 |
Vibrance | 0 |
VignetteAmount | 0 |
WhiteBalance (2) | As Shot |
WhiteBalance | Auto |