Felt | Verdi |
AlreadyApplied | True |
Aperture | 6.3 |
ApertureValue | 6.3 |
BitsPerSample | 8 |
BlueHue | 0 |
BlueSaturation | 0 |
Brightness | 0 |
CameraProfile | ACR 4.4 |
CFAPattern | [Red,Green][Green,Blue] |
ChromaticAberrationB | 0 |
ChromaticAberrationR | 0 |
CircleOfConfusion | 0.020 mm |
Clarity | +50 |
ColorComponents | 3 |
ColorNoiseReduction | 25 |
ColorTemperature | 3050 |
Contrast (2) | 0 |
Contrast | Normal |
ConvertToGrayscale | False |
CreateDate (1) | 2008:11:06 07:06:07.86+01:00 |
CreateDate | 2008:11:06 07:06:07 |
CreatorTool | Adobe Photoshop Lightroom |
CropAngle | 2.49378 |
CropBottom | 0.906016 |
CropHeight | 696 |
CropLeft | 0.270703 |
CropRight | 0.798023 |
CropTop | 0.102375 |
CropUnit | pixels |
CropWidth | 750 |
CustomRendered | Normal |
DateTimeDigitized | 2008:11:06 07:06:07.86+01:00 |
DateTimeOriginal (1) | 2008:11:06 07:06:07.86+01:00 |
DateTimeOriginal | 2008:11:06 07:06:07 |
Defringe | 0 |
DigitalZoomRatio | 1 |
ExifImageHeight | 696 |
ExifImageWidth | 750 |
Exposure | +1.15 |
ExposureCompensation | -8/3 |
ExposureMode | Auto |
ExposureProgram | Aperture-priority AE |
ExposureTime | 0.4 |
FillLight | 0 |
Flash | No Flash |
FlashFired | False |
FlashFunction | False |
FlashMode | Unknown |
FlashRedEyeMode | False |
FlashReturn | No return detection |
FNumber | 6.3 |
FocalLength | 300.0 mm |
FocalLength35efl | 300.0 mm (35 mm equivalent: 450.0 mm) |
FocalLengthIn35mmFormat | 450 mm |
FOV | 4.6 deg |
GainControl | None |
GreenHue | 0 |
GreenSaturation | 0 |
HasCrop | True |
HasSettings | True |
HighlightRecovery | 25 |
HueAdjustmentAqua | 0 |
HueAdjustmentBlue | 0 |
HueAdjustmentGreen | 0 |
HueAdjustmentMagenta | 0 |
HueAdjustmentOrange | 0 |
HueAdjustmentPurple | 0 |
HueAdjustmentRed | 0 |
HueAdjustmentYellow | 0 |
HyperfocalDistance | 713.19 m |
ImageHeight | 696 |
ImageNumber | 5727 |
ImageSize | 750x696 |
ImageWidth | 750 |
ISO | 200 |
Lens | 300.0 mm f/4.0 |
LensInfo | 300mm f/4 |
LightSource | Unknown |
LightValue | 5.6 |
LuminanceAdjustmentAqua | +17 |
LuminanceAdjustmentBlue | +19 |
LuminanceAdjustmentGreen | 0 |
LuminanceAdjustmentMagenta | 0 |
LuminanceAdjustmentOrange | 0 |
LuminanceAdjustmentPurple | 0 |
LuminanceAdjustmentRed | 0 |
LuminanceAdjustmentYellow | 0 |
LuminanceSmoothing | 0 |
Make | NIKON CORPORATION |
MaxApertureValue | 4.0 |
Megapixels | 0.522 |
MeteringMode | Spot |
Model | NIKON D300 |
ModifyDate (1) | 2008:11:09 20:57:42+01:00 |
ModifyDate | 2008:11:09 20:57:42 |
ParametricDarks | -20 |
ParametricHighlights | +60 |
ParametricHighlightSplit | 75 |
ParametricLights | +10 |
ParametricMidtoneSplit | 50 |
ParametricShadows | -60 |
ParametricShadowSplit | 25 |
PostCropVignetteAmount | 0 |
ProfileDescription | sRGB IEC61966-2.1 |
RedHue | 0 |
RedSaturation | 0 |
Saturation (2) | 0 |
Saturation | Normal |
SaturationAdjustmentAqua | +50 |
SaturationAdjustmentBlue | +58 |
SaturationAdjustmentGreen | +10 |
SaturationAdjustmentMagenta | 0 |
SaturationAdjustmentOrange | +13 |
SaturationAdjustmentPurple | +23 |
SaturationAdjustmentRed | 0 |
SaturationAdjustmentYellow | +23 |
ScaleFactor35efl | 1.5 |
SceneCaptureType | Standard |
SceneType | Directly photographed |
SensingMethod | One-chip color area |
SerialNumber | 4009552 |
Shadows | 14 |
ShadowTint | 0 |
SharpenDetail | 50 |
SharpenEdgeMasking | 0 |
SharpenRadius | +1.0 |
Sharpness (2) | 75 |
Sharpness | Normal |
ShutterSpeed | 0.4 |
ShutterSpeedValue | 0.4 |
Software | Ver.1.00 |
SplitToningBalance | 0 |
SplitToningHighlightHue | 0 |
SplitToningHighlightSaturation | 0 |
SplitToningShadowHue | 0 |
SplitToningShadowSaturation | 0 |
SubjectDistanceRange | Unknown |
Tint | -8 |
ToneCurve | 0, 0, 255, 255 |
ToneCurveName | Linear |
Version | 4.6 |
Vibrance | +25 |
VignetteAmount | 0 |
WhiteBalance (2) | As Shot |
WhiteBalance | Auto |