Felt | Verdi |
AlreadyApplied | True |
Aperture | 1.4 |
ApertureValue | 1.4 |
BitsPerSample | 8 |
BlueHue | 0 |
BlueSaturation | 0 |
Brightness | +64 |
CameraProfile | ACR 4.4 |
ChromaticAberrationB | 0 |
ChromaticAberrationR | 0 |
Clarity | +50 |
ColorComponents | 3 |
ColorNoiseReduction | 25 |
ColorTemperature | 3700 |
Contrast | +41 |
ConvertToGrayscale | False |
Copyright | Aleksander M. Stensby |
CopyrightNotice | Aleksander M. Stensby |
CreateDate (1) | 2008:07:12 22:43:28+02:00 |
CreateDate | 2008:07:12 22:43:28 |
CreatorTool | Adobe Photoshop Lightroom |
DateTimeDigitized | 2008:07:12 22:43:28+02:00 |
DateTimeOriginal (1) | 2008:07:12 22:43:28+02:00 |
DateTimeOriginal | 2008:07:12 22:43:28 |
Defringe | 0 |
ExifImageHeight | 467 |
ExifImageWidth | 700 |
Exposure | +0.38 |
ExposureCompensation | -2/3 |
ExposureProgram | Aperture-priority AE |
ExposureTime | 1/500 |
FillLight | 2 |
Firmware | 1.1.1 |
Flash | No Flash |
FlashFired | False |
FNumber | 1.4 |
FocalLength | 50.0 mm |
FocalLength35efl | 50.0 mm |
GreenHue | 0 |
GreenSaturation | 0 |
HasCrop | False |
HasSettings | True |
HighlightRecovery | 71 |
HueAdjustmentAqua | 0 |
HueAdjustmentBlue | 0 |
HueAdjustmentGreen | 0 |
HueAdjustmentMagenta | 0 |
HueAdjustmentOrange | 0 |
HueAdjustmentPurple | 0 |
HueAdjustmentRed | 0 |
HueAdjustmentYellow | 0 |
ImageHeight | 467 |
ImageSize | 700x467 |
ImageWidth | 700 |
ISO | 400 |
Label | Red |
Lens | 50.0 mm |
LensInfo | 50mm f/? |
LightValue | 7.9 |
LuminanceAdjustmentAqua | 0 |
LuminanceAdjustmentBlue | 0 |
LuminanceAdjustmentGreen | 0 |
LuminanceAdjustmentMagenta | 0 |
LuminanceAdjustmentOrange | 0 |
LuminanceAdjustmentPurple | 0 |
LuminanceAdjustmentRed | 0 |
LuminanceAdjustmentYellow | 0 |
LuminanceSmoothing | 79 |
Make | Canon |
MaxApertureValue | 1.4 |
Megapixels | 0.327 |
MeteringMode | Multi-segment |
Model | Canon EOS 300D DIGITAL |
ModifyDate (1) | 2008:09:07 20:21:25+02:00 |
ModifyDate | 2008:09:07 20:21:25 |
ParametricDarks | +62 |
ParametricHighlights | 0 |
ParametricHighlightSplit | 75 |
ParametricLights | +47 |
ParametricMidtoneSplit | 50 |
ParametricShadows | -43 |
ParametricShadowSplit | 25 |
PostCropVignetteAmount | 0 |
ProfileDescription | sRGB IEC61966-2.1 |
RedHue | 0 |
RedSaturation | 0 |
Rights | Aleksander M. Stensby |
Saturation | -7 |
SaturationAdjustmentAqua | 0 |
SaturationAdjustmentBlue | 0 |
SaturationAdjustmentGreen | 0 |
SaturationAdjustmentMagenta | 0 |
SaturationAdjustmentOrange | 0 |
SaturationAdjustmentPurple | 0 |
SaturationAdjustmentRed | 0 |
SaturationAdjustmentYellow | 0 |
SerialNumber | 1230425062 |
Shadows | 7 |
ShadowTint | 0 |
SharpenDetail | 70 |
SharpenEdgeMasking | 0 |
SharpenRadius | +2.5 |
Sharpness | 137 |
ShutterSpeed | 1/500 |
ShutterSpeedValue | 1/500 |
SplitToningBalance | 0 |
SplitToningHighlightHue | 0 |
SplitToningHighlightSaturation | 0 |
SplitToningShadowHue | 0 |
SplitToningShadowSaturation | 0 |
Tint | +5 |
ToneCurve | 0, 0, 32, 22, 64, 56, 128, 128, 192, 196, 255, 255 |
ToneCurveName | Medium Contrast |
Version | 4.5 |
Vibrance | +25 |
VignetteAmount | -5 |
VignetteMidpoint | 50 |
WhiteBalance | As Shot |