Felt | Verdi |
AlreadyApplied | True |
Aperture | 8.0 |
ApertureValue | 8.0 |
ApproximateFocusDistance | 5.01 |
Artist | rcm |
AutoLateralCA | 0 |
AutoWhiteVersion | 134348800 |
BitsPerSample | 8 |
Blacks2012 | -51 |
BlueHue | 0 |
BlueSaturation | 0 |
By-line | rcm |
CameraProfile | Adobe Standard |
CFAPattern | [Red,Green][Green,Blue] |
CircGradBasedCorrActive | true |
CircGradBasedCorrAmount | 1.000000 |
CircGradBasedCorrBrightness | 0.000000 |
CircGradBasedCorrClarity2012 (11) | 0.100000 |
CircGradBasedCorrClarity2012 (3) | 0.000000 |
CircGradBasedCorrClarity2012 (8) | -0.129859 |
CircGradBasedCorrClarity2012 (9) | -0.062405 |
CircGradBasedCorrClarity2012 | 0.313167 |
CircGradBasedCorrContrast2012 (1) | 0.060802 |
CircGradBasedCorrContrast2012 | 0.000000 |
CircGradBasedCorrDefringe | 0.000000 |
CircGradBasedCorrExposure2012 (1) | 0.070122 |
CircGradBasedCorrExposure2012 (10) | 0.144627 |
CircGradBasedCorrExposure2012 (11) | 0.107565 |
CircGradBasedCorrExposure2012 (12) | 0.156726 |
CircGradBasedCorrExposure2012 (13) | 0.134813 |
CircGradBasedCorrExposure2012 (2) | 0.183784 |
CircGradBasedCorrExposure2012 (4) | -0.019627 |
CircGradBasedCorrExposure2012 (5) | -0.200068 |
CircGradBasedCorrExposure2012 (6) | -0.113111 |
CircGradBasedCorrExposure2012 (7) | 0.339063 |
CircGradBasedCorrExposure2012 (8) | 0.087500 |
CircGradBasedCorrExposure2012 (9) | 0.131860 |
CircGradBasedCorrExposure2012 | 0.153582 |
CircGradBasedCorrHighlights2012 | 0.000000 |
CircGradBasedCorrHue (6) | 234.042999 |
CircGradBasedCorrHue | 240.000000 |
CircGradBasedCorrLocalBlacks2012 | 0.000000 |
CircGradBasedCorrLocalDehaze | 0.000000 |
CircGradBasedCorrLocalWhites2012 | 0.000000 |
CircGradBasedCorrLuminanceNoise | 0.000000 |
CircGradBasedCorrMaskAngle (10) | 5.529020 |
CircGradBasedCorrMaskAngle (11) | 11.277100 |
CircGradBasedCorrMaskAngle (12) | 18.234500 |
CircGradBasedCorrMaskAngle (13) | 16.609100 |
CircGradBasedCorrMaskAngle (5) | 0.000000 |
CircGradBasedCorrMaskAngle (6) | -31.999700 |
CircGradBasedCorrMaskAngle (7) | 44.484300 |
CircGradBasedCorrMaskAngle (8) | -24.483800 |
CircGradBasedCorrMaskAngle (9) | 5.312650 |
CircGradBasedCorrMaskAngle | 20.825900 |
CircGradBasedCorrMaskBottom (1) | 0.511912 |
CircGradBasedCorrMaskBottom (10) | 0.375225 |
CircGradBasedCorrMaskBottom (11) | 0.699400 |
CircGradBasedCorrMaskBottom (12) | 0.224191 |
CircGradBasedCorrMaskBottom (13) | 0.160663 |
CircGradBasedCorrMaskBottom (2) | 0.923844 |
CircGradBasedCorrMaskBottom (3) | 1.110990 |
CircGradBasedCorrMaskBottom (4) | 0.666752 |
CircGradBasedCorrMaskBottom (5) | 0.797467 |
CircGradBasedCorrMaskBottom (6) | 0.557835 |
CircGradBasedCorrMaskBottom (7) | 1.376120 |
CircGradBasedCorrMaskBottom (8) | 0.534991 |
CircGradBasedCorrMaskBottom (9) | 0.309141 |
CircGradBasedCorrMaskBottom | 0.228666 |
CircGradBasedCorrMaskFeather (5) | +100 |
CircGradBasedCorrMaskFeather | +50 |
CircGradBasedCorrMaskFlipped | true |
CircGradBasedCorrMaskLeft (1) | 0.362893 |
CircGradBasedCorrMaskLeft (10) | 0.514862 |
CircGradBasedCorrMaskLeft (11) | 0.218373 |
CircGradBasedCorrMaskLeft (12) | 0.593326 |
CircGradBasedCorrMaskLeft (13) | 0.238153 |
CircGradBasedCorrMaskLeft (2) | 0.618675 |
CircGradBasedCorrMaskLeft (3) | 0.906440 |
CircGradBasedCorrMaskLeft (4) | 0.815301 |
CircGradBasedCorrMaskLeft (5) | -0.032154 |
CircGradBasedCorrMaskLeft (6) | -0.353058 |
CircGradBasedCorrMaskLeft (7) | 0.208435 |
CircGradBasedCorrMaskLeft (8) | 0.362272 |
CircGradBasedCorrMaskLeft (9) | 0.628341 |
CircGradBasedCorrMaskLeft | 0.465271 |
CircGradBasedCorrMaskMidpoint | +50 |
CircGradBasedCorrMaskRight (1) | 0.595036 |
CircGradBasedCorrMaskRight (10) | 0.587780 |
CircGradBasedCorrMaskRight (11) | 0.390165 |
CircGradBasedCorrMaskRight (12) | 0.784344 |
CircGradBasedCorrMaskRight (13) | 0.407329 |
CircGradBasedCorrMaskRight (2) | 0.693492 |
CircGradBasedCorrMaskRight (3) | 1.138580 |
CircGradBasedCorrMaskRight (4) | 1.047450 |
CircGradBasedCorrMaskRight (5) | 0.199989 |
CircGradBasedCorrMaskRight (6) | -0.098197 |
CircGradBasedCorrMaskRight (7) | 0.208614 |
CircGradBasedCorrMaskRight (8) | 0.597452 |
CircGradBasedCorrMaskRight (9) | 0.711746 |
CircGradBasedCorrMaskRight | 0.702354 |
CircGradBasedCorrMaskRoundness | 0 |
CircGradBasedCorrMaskTop (1) | 0.106595 |
CircGradBasedCorrMaskTop (10) | 0.319989 |
CircGradBasedCorrMaskTop (11) | 0.581191 |
CircGradBasedCorrMaskTop (12) | -0.047472 |
CircGradBasedCorrMaskTop (13) | -0.069280 |
CircGradBasedCorrMaskTop (2) | 0.325545 |
CircGradBasedCorrMaskTop (3) | 0.615177 |
CircGradBasedCorrMaskTop (4) | -0.320209 |
CircGradBasedCorrMaskTop (5) | 0.301654 |
CircGradBasedCorrMaskTop (6) | 0.603148 |
CircGradBasedCorrMaskTop (7) | 0.663832 |
CircGradBasedCorrMaskTop (8) | 0.236340 |
CircGradBasedCorrMaskTop (9) | 0.259442 |
CircGradBasedCorrMaskTop | -0.054496 |
CircGradBasedCorrMaskValue | 1.000000 |
CircGradBasedCorrMaskVersion | +2 |
CircGradBasedCorrMaskWhat | Mask/CircularGradient |
CircGradBasedCorrMoire | 0.000000 |
CircGradBasedCorrSaturation (21) | 0.057832 |
CircGradBasedCorrSaturation (23) | 0.390434 |
CircGradBasedCorrSaturation (27) | 0.343369 |
CircGradBasedCorrSaturation | 0.000000 |
CircGradBasedCorrShadows2012 | 0.000000 |
CircGradBasedCorrSharpness | 0.000000 |
CircGradBasedCorrTemperature | 0.000000 |
CircGradBasedCorrTint | 0.000000 |
CircGradBasedCorrWhat | Correction |
CircleOfConfusion | 0.030 mm |
Clarity2012 | +2 |
ColorComponents | 3 |
ColorNoiseReduction | 100 |
ColorNoiseReductionDetail | 50 |
ColorNoiseReductionSmoothness | 50 |
ColorSpace | sRGB |
ColorTemperature | 4955 |
ColorTransform | YCbCr |
Contrast | Normal |
Contrast2012 | +30 |
ConvertToGrayscale | False |
Copyright | rocat |
CopyrightNotice | rocat |
CreateDate (1) | 2021:06:07 12:54:45.65 |
CreateDate | 2021:06:07 12:54:45 |
Creator | rcm |
CreatorTool | Adobe Photoshop Lightroom 6.14 (Macintosh) |
CropAngle | 0 |
CropBottom | 1 |
CropConstrainToWarp | 0 |
CropLeft | 0.080785 |
CropRight | 0.912551 |
CropTop | 0 |
CustomRendered | Normal |
DateCreated (1) | 2021:06:07 |
DateCreated | 2021:06:07 12:54:45.65 |
DateTimeOriginal | 2021:06:07 12:54:45 |
DefringeGreenAmount | 0 |
DefringeGreenHueHi | 60 |
DefringeGreenHueLo | 40 |
DefringePurpleAmount | 0 |
DefringePurpleHueHi | 70 |
DefringePurpleHueLo | 30 |
Dehaze | 0 |
DigitalZoomRatio | 1 |
DOF | 2.58 m (4.03 - 6.61 m) |
Exposure2012 | -0.10 |
ExposureCompensation | 0 |
ExposureMode | Manual |
ExposureProgram | Manual |
ExposureTime | 1/320 |
Flash | No Flash |
FNumber | 8.0 |
FocalLength | 70.0 mm |
FocalLength35efl | 70.0 mm (35 mm equivalent: 70.0 mm) |
FocalLengthIn35mmFormat | 70 mm |
Format | image/jpeg |
FOV | 28.8 deg |
GainControl | None |
GradientBasedCorrActive | true |
GradientBasedCorrAmount | 1.000000 |
GradientBasedCorrBrightness | 0.000000 |
GradientBasedCorrClarity2012 | 0.000000 |
GradientBasedCorrContrast2012 | 0.000000 |
GradientBasedCorrDefringe | 0.000000 |
GradientBasedCorrExposure2012 | 0.000000 |
GradientBasedCorrHighlights2012 | 0.000000 |
GradientBasedCorrHue | 170.059006 |
GradientBasedCorrLuminanceNoise | 0.000000 |
GradientBasedCorrMaskFullX | 0.675126 |
GradientBasedCorrMaskFullY | 0.057097 |
GradientBasedCorrMaskValue | 1.000000 |
GradientBasedCorrMaskWhat | Mask/Gradient |
GradientBasedCorrMaskZeroX | 0.521526 |
GradientBasedCorrMaskZeroY | 0.406091 |
GradientBasedCorrMoire | 0.000000 |
GradientBasedCorrSaturation (1) | -0.008000 |
GradientBasedCorrSaturation | 0.000000 |
GradientBasedCorrShadows2012 | 0.040625 |
GradientBasedCorrSharpness | 0.000000 |
GradientBasedCorrTemperature | 0.000000 |
GradientBasedCorrTint | 0.000000 |
GradientBasedCorrWhat | Correction |
GrainAmount | 0 |
GreenHue | 0 |
GreenSaturation | 0 |
HasCrop | True |
HasSettings | True |
Highlights2012 | -22 |
HueAdjustmentAqua | 0 |
HueAdjustmentBlue | 0 |
HueAdjustmentGreen | 0 |
HueAdjustmentMagenta | 0 |
HueAdjustmentOrange | -23 |
HueAdjustmentPurple | 0 |
HueAdjustmentRed | +11 |
HueAdjustmentYellow | -33 |
HyperfocalDistance | 20.39 m |
ImageHeight | 3540 |
ImageNumber | 67154 |
ImageSize | 2832x3540 |
ImageWidth | 2832 |
ISO | 200 |
Lens | 24.0-70.0 mm f/2.8 |
LensID (1) | 147 |
LensID | AF-S Zoom-Nikkor 24-70mm f/2.8G ED |
LensInfo | 24-70mm f/2.8 |
LensManualDistortionAmount | 0 |
LensModel | 24.0-70.0 mm f/2.8 |
LensProfileEnable | 0 |
LensProfileSetup | LensDefaults |
LightSource | Unknown |
LightValue | 13.3 |
LuminanceAdjustmentAqua | 0 |
LuminanceAdjustmentBlue | 0 |
LuminanceAdjustmentGreen | 0 |
LuminanceAdjustmentMagenta | 0 |
LuminanceAdjustmentOrange | 0 |
LuminanceAdjustmentPurple | 0 |
LuminanceAdjustmentRed | 0 |
LuminanceAdjustmentYellow | 0 |
LuminanceNoiseReductionContrast | 50 |
LuminanceNoiseReductionDetail | 50 |
LuminanceSmoothing | 20 |
Make | NIKON CORPORATION |
MaxApertureValue | 2.8 |
Megapixels | 10.0 |
MeteringMode | Center-weighted average |
Model | NIKON D700 |
ModifyDate (1) | 2021:06:20 18:07:18+02:00 |
ModifyDate | 2021:06:20 18:07:18 |
ParametricDarks | 0 |
ParametricHighlights | -30 |
ParametricHighlightSplit | 75 |
ParametricLights | 0 |
ParametricMidtoneSplit | 50 |
ParametricShadows | 0 |
ParametricShadowSplit | 25 |
PerspectiveAspect | 0 |
PerspectiveHorizontal | 0 |
PerspectiveRotate | 0.0 |
PerspectiveScale | 100 |
PerspectiveUpright | 0 |
PerspectiveVertical | 0 |
PerspectiveX | 0.00 |
PerspectiveY | 0.00 |
PostCropVignetteAmount | +9 |
PostCropVignetteFeather | 50 |
PostCropVignetteMidpoint | 50 |
PostCropVignetteRoundness | 0 |
PostCropVignetteStyle | 1 |
ProcessVersion | 6.7 |
ProfileDescription | sRGB IEC61966-2.1 |
Rating | 3 |
RedHue | 0 |
RedSaturation | 0 |
Rights | rocat |
Saturation (1) | -28 |
Saturation | High |
SaturationAdjustmentAqua | 0 |
SaturationAdjustmentBlue | 0 |
SaturationAdjustmentGreen | 0 |
SaturationAdjustmentMagenta | 0 |
SaturationAdjustmentOrange | 0 |
SaturationAdjustmentPurple | 0 |
SaturationAdjustmentRed | 0 |
SaturationAdjustmentYellow | 0 |
ScaleFactor35efl | 1.0 |
SceneCaptureType | Standard |
SceneType | Directly photographed |
SensingMethod | One-chip color area |
SerialNumber | 2472137 |
Shadows2012 | +67 |
ShadowTint | 0 |
SharpenDetail | 35 |
SharpenEdgeMasking | 0 |
SharpenRadius | +0.8 |
Sharpness (1) | 60 |
Sharpness | Hard |
ShutterSpeed | 1/320 |
ShutterSpeedValue | 1/320 |
Software | Adobe Photoshop Lightroom 6.14 (Macintosh) |
SplitToningBalance | +50 |
SplitToningHighlightHue | 0 |
SplitToningHighlightSaturation | 0 |
SplitToningShadowHue | 226 |
SplitToningShadowSaturation | 21 |
SubjectDistanceRange | Unknown |
Tint | +7 |
ToneCurve | 0, 0, 255, 255 |
ToneCurveBlue | 0, 0, 255, 255 |
ToneCurveGreen | 0, 0, 255, 255 |
ToneCurveName | Linear |
ToneCurveName2012 | Custom |
ToneCurvePV2012 | 0, 0, 57, 40, 137, 128, 197, 186, 255, 255 |
ToneCurvePV2012Blue | 0, 0, 255, 255 |
ToneCurvePV2012Green | 0, 0, 255, 255 |
ToneCurvePV2012Red | 0, 0, 255, 255 |
ToneCurveRed | 0, 0, 255, 255 |
ToneMapStrength | 0 |
Version | 10.1 |
Vibrance | 0 |
VignetteAmount | 0 |
WhiteBalance (1) | Custom |
WhiteBalance | Auto |
Whites2012 | +48 |