Felt | Verdi |
AlreadyApplied | True |
Aperture | 4.5 |
ApertureValue | 4.5 |
AutoLateralCA | 0 |
BitsPerSample | 8 |
Blacks2012 | +30 |
BlueHue | -38 |
BlueSaturation | +24 |
BrightnessValue | 8.16 |
CameraProfile | Embedded |
CircleOfConfusion | 0.020 mm |
Clarity2012 | +10 |
ColorComponents | 3 |
ColorGradeBlending | 100 |
ColorGradeGlobalHue | 0 |
ColorGradeGlobalLum | 0 |
ColorGradeGlobalSat | 0 |
ColorGradeHighlightLum | 0 |
ColorGradeMidtoneHue | 0 |
ColorGradeMidtoneLum | 0 |
ColorGradeMidtoneSat | 0 |
ColorGradeShadowLum | 0 |
ColorNoiseReduction | 28 |
ColorNoiseReductionDetail | 50 |
ColorNoiseReductionSmoothness | 50 |
ColorSpace | sRGB |
ColorTransform | YCbCr |
Contrast2012 | +50 |
ConvertToGrayscale | False |
CreateDate | 2020:11:06 01:39:41 |
CreatorTool | Adobe Photoshop Lightroom Classic 10.0 (Windows) |
CropAngle | 0 |
CropBottom | 1 |
CropConstrainToWarp | 0 |
CropLeft | 0 |
CropRight | 1 |
CropTop | 0 |
CustomRendered | Normal |
DateCreated (1) | 2020:11:06 |
DateCreated | 2020:11:06 01:39:41 |
DateTimeOriginal | 2020:11:06 01:39:41 |
DefringeGreenAmount | 0 |
DefringeGreenHueHi | 60 |
DefringeGreenHueLo | 40 |
DefringePurpleAmount | 0 |
DefringePurpleHueHi | 70 |
DefringePurpleHueLo | 30 |
Dehaze | 0 |
DistortionCorrectionAlreadyApplied | True |
Exposure2012 | 0.00 |
ExposureCompensation | 0 |
ExposureMode | Auto |
ExposureProgram | Aperture-priority AE |
ExposureTime | 1/640 |
Flash | Off, Did not fire |
FNumber | 4.5 |
FocalLength | 16.0 mm |
FocalLength35efl | 16.0 mm (35 mm equivalent: 24.0 mm) |
FocalLengthIn35mmFormat | 24 mm |
Format | image/jpeg |
FOV | 73.7 deg |
FujiRatingAlreadyApplied | True |
GrainAmount | 0 |
GrainFrequency | 40 |
GreenHue | +31 |
GreenSaturation | -18 |
HasCrop | False |
HasSettings | True |
Highlights2012 | -65 |
HueAdjustmentAqua | +11 |
HueAdjustmentBlue | -31 |
HueAdjustmentGreen | +18 |
HueAdjustmentMagenta | +18 |
HueAdjustmentOrange | -10 |
HueAdjustmentPurple | +18 |
HueAdjustmentRed | +18 |
HueAdjustmentYellow | 0 |
HyperfocalDistance | 2.84 m |
ImageHeight | 1080 |
ImageSize | 1444x1080 |
ImageWidth | 1444 |
IncrementalTemperature | 0 |
IncrementalTint | 0 |
ISO | 200 |
LateralChromaticAberrationCorrectionAlreadyApplied | True |
Lens | XC16-50mmF3.5-5.6 OIS |
LensInfo | 16-50mm f/3.5-5.6 |
LensMake | FUJIFILM |
LensManualDistortionAmount | 0 |
LensModel | XC16-50mmF3.5-5.6 OIS |
LensProfileEnable | 0 |
LensSerialNumber | 33A34130 |
LightSource | Unknown |
LightValue | 12.7 |
LuminanceAdjustmentAqua | +16 |
LuminanceAdjustmentBlue | +9 |
LuminanceAdjustmentGreen | +11 |
LuminanceAdjustmentMagenta | +18 |
LuminanceAdjustmentOrange | +15 |
LuminanceAdjustmentPurple | +18 |
LuminanceAdjustmentRed | +15 |
LuminanceAdjustmentYellow | +9 |
LuminanceSmoothing | 0 |
Make | FUJIFILM |
MaxApertureValue | 3.5 |
Megapixels | 1.6 |
MeteringMode | Multi-segment |
Model | X-E1 |
ModifyDate (1) | 2020:12:15 20:42:29+01:00 |
ModifyDate | 2020:12:15 20:42:29 |
OverrideLookVignette | True |
ParametricDarks | 0 |
ParametricHighlights | 0 |
ParametricHighlightSplit | 75 |
ParametricLights | 0 |
ParametricMidtoneSplit | 50 |
ParametricShadows | 0 |
ParametricShadowSplit | 25 |
PerspectiveAspect | 0 |
PerspectiveHorizontal | 0 |
PerspectiveRotate | 0.0 |
PerspectiveScale | 100 |
PerspectiveUpright | 0 |
PerspectiveVertical | 0 |
PerspectiveX | 0.00 |
PerspectiveY | 0.00 |
PostCropVignetteAmount | -18 |
PostCropVignetteFeather | 50 |
PostCropVignetteHighlightContrast | 0 |
PostCropVignetteMidpoint | 50 |
PostCropVignetteRoundness | 0 |
PostCropVignetteStyle | 1 |
PreservedFileName | DSCF3234.RAF |
ProcessVersion | 11.0 |
ProfileDescription | sRGB IEC61966-2.1 |
RawFileName | |
RedHue | +18 |
RedSaturation | -18 |
Saturation | +10 |
SaturationAdjustmentAqua | +2 |
SaturationAdjustmentBlue | +16 |
SaturationAdjustmentGreen | -38 |
SaturationAdjustmentMagenta | -8 |
SaturationAdjustmentOrange | -10 |
SaturationAdjustmentPurple | -9 |
SaturationAdjustmentRed | -15 |
SaturationAdjustmentYellow | -10 |
ScaleFactor35efl | 1.5 |
SceneCaptureType | Standard |
SceneType | Directly photographed |
SensingMethod | One-chip color area |
SensitivityType | Standard Output Sensitivity |
Shadows2012 | +50 |
ShadowTint | -8 |
SharpenDetail | 25 |
SharpenEdgeMasking | 0 |
SharpenRadius | +1.0 |
Sharpness (1) | 38 |
Sharpness | Normal |
ShutterSpeed | 1/640 |
ShutterSpeedValue | 1/640 |
Software | Adobe Photoshop Lightroom Classic 10.0 (Windows) |
SplitToningBalance | -88 |
SplitToningHighlightHue | 178 |
SplitToningHighlightSaturation | 18 |
SplitToningShadowHue | 0 |
SplitToningShadowSaturation | 0 |
SubjectDistanceRange | Unknown |
Texture | 0 |
ToneCurveName2012 | Custom |
ToneCurvePV2012 | 0, 8, 255, 255 |
ToneCurvePV2012Blue | 0, 0, 55, 38, 121, 127, 201, 214, 255, 255 |
ToneCurvePV2012Green | 0, 0, 58, 38, 120, 128, 177, 192, 255, 255 |
ToneCurvePV2012Red | 0, 0, 56, 36, 119, 127, 175, 192, 220, 230, 255, 255 |
Version | 13.0 |
Vibrance | -20 |
VignetteAmount | 0 |
VignetteCorrectionAlreadyApplied | True |
WhiteBalance (1) | As Shot |
WhiteBalance | Auto |
Whites2012 | -15 |