Felt | Verdi |
AlreadyApplied | True |
Aperture | 6.3 |
ApertureValue | 6.3 |
ApproximateFocusDistance | 20.9 |
AutoLateralCA | 1 |
AutoWhiteVersion | 134348800 |
BitsPerSample | 8 |
Blacks2012 | -10 |
BlueHue | +15 |
BlueSaturation | 0 |
CameraProfile | Adobe Standard |
CircGradBasedCorrActive | true |
CircGradBasedCorrAmount | 1.000000 |
CircGradBasedCorrBrightness | 0.000000 |
CircGradBasedCorrClarity2012 | 0.000000 |
CircGradBasedCorrContrast2012 | 0.000000 |
CircGradBasedCorrDefringe | 0.000000 |
CircGradBasedCorrExposure2012 (1) | -0.175000 |
CircGradBasedCorrExposure2012 | 0.075000 |
CircGradBasedCorrHighlights2012 | 0.000000 |
CircGradBasedCorrHue | 240.000000 |
CircGradBasedCorrLocalBlacks2012 | 0.000000 |
CircGradBasedCorrLocalDehaze | 0.000000 |
CircGradBasedCorrLocalWhites2012 | 0.000000 |
CircGradBasedCorrLuminanceNoise | 0.000000 |
CircGradBasedCorrMaskAngle (1) | 0.000000 |
CircGradBasedCorrMaskAngle (2) | 12.568900 |
CircGradBasedCorrMaskAngle | -0.245201 |
CircGradBasedCorrMaskBottom (1) | 0.846551 |
CircGradBasedCorrMaskBottom (2) | 0.751298 |
CircGradBasedCorrMaskBottom | 0.824000 |
CircGradBasedCorrMaskCenterWeight (1) | 0.027506 |
CircGradBasedCorrMaskCenterWeight | 0.354993 |
CircGradBasedCorrMaskFeather | +50 |
CircGradBasedCorrMaskFlipped (1) | false |
CircGradBasedCorrMaskFlipped | true |
CircGradBasedCorrMaskFlow (1) | 0.518000 |
CircGradBasedCorrMaskFlow | 1.000000 |
CircGradBasedCorrMaskLeft (1) | 0.146992 |
CircGradBasedCorrMaskLeft (2) | 0.625374 |
CircGradBasedCorrMaskLeft | 0.202551 |
CircGradBasedCorrMaskMidpoint | +50 |
CircGradBasedCorrMaskRadius (1) | 0.048657 |
CircGradBasedCorrMaskRadius (2) | 0.024819 |
CircGradBasedCorrMaskRadius (3) | 0.024860 |
CircGradBasedCorrMaskRadius (4) | 0.016428 |
CircGradBasedCorrMaskRadius (5) | 0.011108 |
CircGradBasedCorrMaskRadius (6) | 0.011131 |
CircGradBasedCorrMaskRadius (7) | 0.008513 |
CircGradBasedCorrMaskRadius (8) | 0.008529 |
CircGradBasedCorrMaskRadius | 0.005986 |
CircGradBasedCorrMaskRight (1) | 0.494305 |
CircGradBasedCorrMaskRight (2) | 0.669169 |
CircGradBasedCorrMaskRight | 0.474717 |
CircGradBasedCorrMaskRoundness | 0 |
CircGradBasedCorrMaskTop (1) | 0.332989 |
CircGradBasedCorrMaskTop (2) | 0.437905 |
CircGradBasedCorrMaskTop | 0.350586 |
CircGradBasedCorrMaskValue (5) | 0.000000 |
CircGradBasedCorrMaskValue | 1.000000 |
CircGradBasedCorrMaskVersion | +2 |
CircGradBasedCorrMaskWhat (6) | Mask/Paint |
CircGradBasedCorrMaskWhat | Mask/CircularGradient |
CircGradBasedCorrMoire | 0.000000 |
CircGradBasedCorrSaturation (5) | 0.120000 |
CircGradBasedCorrSaturation | 0.000000 |
CircGradBasedCorrShadows2012 (1) | 0.000000 |
CircGradBasedCorrShadows2012 | -0.223210 |
CircGradBasedCorrSharpness | 0.000000 |
CircGradBasedCorrTemperature | 0.000000 |
CircGradBasedCorrTint | 0.000000 |
CircGradBasedCorrWhat | Correction |
CircleOfConfusion | 0.026 mm |
Clarity2012 | +20 |
ColorComponents | 3 |
ColorNoiseReduction | 25 |
ColorNoiseReductionDetail | 50 |
ColorNoiseReductionSmoothness | 50 |
ColorSpace | Uncalibrated |
ColorTemperature | 7550 |
ColorTransform | YCbCr |
Contrast2012 | +30 |
ConvertToGrayscale | False |
CreateDate (1) | 2020:11:05 15:37:51.37 |
CreateDate | 2020:11:05 15:37:51 |
CreatorTool | Adobe Photoshop Lightroom 6.14 (Windows) |
CropAngle | 0 |
CropBottom | 0.950386 |
CropConstrainToWarp | 0 |
CropLeft | 0.028902 |
CropRight | 0.891137 |
CropTop | 0.088151 |
CustomRendered | Normal |
DateCreated (1) | 2020:11:05 |
DateCreated | 2020:11:05 15:37:51.37 |
DateTimeOriginal | 2020:11:05 15:37:51 |
DefringeGreenAmount | 0 |
DefringeGreenHueHi | 60 |
DefringeGreenHueLo | 40 |
DefringePurpleAmount | 0 |
DefringePurpleHueHi | 70 |
DefringePurpleHueLo | 30 |
Dehaze | 0 |
DistortionCorrectionAlreadyApplied | True |
DOF | 0.60 m (20.61 - 21.20 m) |
Exposure2012 | +0.20 |
ExposureCompensation | 0 |
ExposureMode | Manual |
ExposureProgram | Manual |
ExposureTime | 1/100 |
Firmware | 1.0.2 |
Flash | Off, Did not fire |
FlashCompensation | 0 |
FNumber | 6.3 |
FocalLength | 483.0 mm |
FocalLength35efl | 483.0 mm (35 mm equivalent: 561.3 mm) |
Format | image/jpeg |
FOV | 3.7 deg |
GrainAmount | 0 |
GreenHue | +10 |
GreenSaturation | 0 |
HasCrop | True |
HasSettings | True |
Highlights2012 | -58 |
HueAdjustmentAqua | 0 |
HueAdjustmentBlue | 0 |
HueAdjustmentGreen | +20 |
HueAdjustmentMagenta | 0 |
HueAdjustmentOrange | -16 |
HueAdjustmentPurple | 0 |
HueAdjustmentRed | +10 |
HueAdjustmentYellow | -8 |
HyperfocalDistance | 1432.15 m |
ImageHeight | 3587 |
ImageNumber | 0 |
ImageSize | 5380x3587 |
ImageWidth | 5380 |
ISO | 4000 |
LateralChromaticAberrationCorrectionAlreadyApplied | True |
Lens | TAMRON SP 150-600mm F/5-6.3 Di VC USD G2 A022 |
LensID (1) | 747 |
LensID | Tamron SP 150-600mm f/5-6.3 Di VC USD G2 |
LensInfo | 150-600mm f/? |
LensManualDistortionAmount | 0 |
LensModel | TAMRON SP 150-600mm F/5-6.3 Di VC USD G2 A022 |
LensProfileChromaticAberrationScale | 100 |
LensProfileDistortionScale | 100 |
LensProfileEnable | 1 |
LensProfileFilename | Canon (TAMRON SP 150-600mm F_5-6.3 Di VC USD G2 A022E) - RAW.lcp |
LensProfileName | Adobe (TAMRON SP 150-600mm F/5-6.3 Di VC USD G2 A022E) |
LensProfileSetup | LensDefaults |
LensProfileVignettingScale | 100 |
LensSerialNumber | 0000000000 |
LightValue | 6.6 |
LuminanceAdjustmentAqua | 0 |
LuminanceAdjustmentBlue | 0 |
LuminanceAdjustmentGreen | -20 |
LuminanceAdjustmentMagenta | 0 |
LuminanceAdjustmentOrange | +25 |
LuminanceAdjustmentPurple | 0 |
LuminanceAdjustmentRed | +10 |
LuminanceAdjustmentYellow | -24 |
LuminanceNoiseReductionContrast | 0 |
LuminanceNoiseReductionDetail | 50 |
LuminanceSmoothing | 15 |
Make | Canon |
MaxApertureValue | 6.2 |
Megapixels | 19.3 |
MeteringMode | Spot |
Model | Canon EOS 6D Mark II |
ModifyDate (1) | 2020:11:07 18:19:48+01:00 |
ModifyDate | 2020:11:07 18:19:48 |
ParametricDarks | 0 |
ParametricHighlights | -28 |
ParametricHighlightSplit | 75 |
ParametricLights | 0 |
ParametricMidtoneSplit | 50 |
ParametricShadows | 0 |
ParametricShadowSplit | 25 |
PerspectiveAspect | 0 |
PerspectiveHorizontal | 0 |
PerspectiveRotate | 0.0 |
PerspectiveScale | 100 |
PerspectiveUpright | 0 |
PerspectiveVertical | 0 |
PerspectiveX | 0.00 |
PerspectiveY | 0.00 |
PostCropVignetteAmount | -25 |
PostCropVignetteFeather | 50 |
PostCropVignetteHighlightContrast | 0 |
PostCropVignetteMidpoint | 50 |
PostCropVignetteRoundness | 0 |
PostCropVignetteStyle | 1 |
ProcessVersion | 6.7 |
ProfileDescription | Adobe RGB (1998) |
RecommendedExposureIndex | 4000 |
RedHue | -10 |
RedSaturation | 0 |
Saturation | +5 |
SaturationAdjustmentAqua | 0 |
SaturationAdjustmentBlue | 0 |
SaturationAdjustmentGreen | +25 |
SaturationAdjustmentMagenta | 0 |
SaturationAdjustmentOrange | +25 |
SaturationAdjustmentPurple | 0 |
SaturationAdjustmentRed | 0 |
SaturationAdjustmentYellow | +35 |
ScaleFactor35efl | 1.2 |
SceneCaptureType | Standard |
SensitivityType | Recommended Exposure Index |
SerialNumber | 013021002146 |
Shadows2012 | 0 |
ShadowTint | -25 |
SharpenDetail | 25 |
SharpenEdgeMasking | 0 |
SharpenRadius | +1.0 |
Sharpness | 25 |
ShutterSpeed | 1/100 |
ShutterSpeedValue | 1/100 |
Software | Adobe Photoshop Lightroom 6.14 (Windows) |
SplitToningBalance | 0 |
SplitToningHighlightHue | 0 |
SplitToningHighlightSaturation | 0 |
SplitToningShadowHue | 0 |
SplitToningShadowSaturation | 0 |
Tint | +10 |
ToneCurve | 0, 0, 255, 255 |
ToneCurveBlue | 0, 0, 255, 255 |
ToneCurveGreen | 0, 0, 255, 255 |
ToneCurveName | Linear |
ToneCurveName2012 | Linear |
ToneCurvePV2012 | 0, 0, 255, 255 |
ToneCurvePV2012Blue | 0, 0, 255, 255 |
ToneCurvePV2012Green | 0, 0, 255, 255 |
ToneCurvePV2012Red | 0, 0, 255, 255 |
ToneCurveRed | 0, 0, 255, 255 |
ToneMapStrength | 0 |
Version | 10.1 |
Vibrance | -5 |
VignetteAmount | 0 |
VignetteCorrectionAlreadyApplied | True |
WhiteBalance (1) | Custom |
WhiteBalance | Manual |
Whites2012 | +15 |