Felt | Verdi |
AlreadyApplied | True |
Aperture | 8.0 |
ApertureValue | 8.0 |
ApproximateFocusDistance | 6.51 |
AutoLateralCA | 1 |
AutoWhiteVersion | 134348800 |
BitsPerSample | 8 |
Blacks2012 | -29 |
BlueHue | 0 |
BlueSaturation | 0 |
CameraProfile | Adobe Standard |
CircleOfConfusion | 0.006 mm |
Clarity2012 | 0 |
ColorComponents | 3 |
ColorNoiseReduction | 25 |
ColorNoiseReductionDetail | 50 |
ColorNoiseReductionSmoothness | 50 |
ColorSpace | sRGB |
ColorTemperature | 6500 |
ColorTransform | YCbCr |
Contrast2012 | 0 |
ConvertToGrayscale | False |
CreateDate (1) | 2017:08:05 14:41:10.00 |
CreateDate | 2017:08:05 14:41:10 |
CreatorTool | Adobe Photoshop Lightroom 6.12 (Windows) |
CropAngle | 0 |
CropBottom | 0.881051 |
CropConstrainToWarp | 0 |
CropLeft | 0.245161 |
CropRight | 1 |
CropTop | 0 |
CustomRendered | Normal |
DateCreated (1) | 2017:08:05 |
DateCreated | 2017:08:05 14:41:10.00 |
DateTimeOriginal | 2017:08:05 14:41:10 |
DefringeGreenAmount | 0 |
DefringeGreenHueHi | 60 |
DefringeGreenHueLo | 40 |
DefringePurpleAmount | 0 |
DefringePurpleHueHi | 70 |
DefringePurpleHueLo | 30 |
Dehaze | 0 |
DistortionCorrectionAlreadyApplied | True |
DOF | 10.40 m (4.19 - 14.59 m) |
Exposure2012 | -0.10 |
ExposureCompensation | 0 |
ExposureMode | Auto |
ExposureProgram | Aperture-priority AE |
ExposureTime | 1/640 |
Firmware | 1.3.4 |
Flash | Off, Did not fire |
FlashCompensation | 0 |
FNumber | 8.0 |
FocalLength | 24.0 mm |
FocalLength35efl | 24.0 mm (35 mm equivalent: 117.3 mm) |
Format | image/jpeg |
FOV | 17.5 deg |
GrainAmount | 0 |
GreenHue | 0 |
GreenSaturation | 0 |
HasCrop | True |
HasExtendedXMP | A1FB08BE598BE8DC5BB7E3433E904FFC |
HasSettings | True |
HierarchicalSubject | Fotgraf Børre, Steder|Norge|Vestby, Steder|Norge|Vestby|Hølen, Steder|Norge|Vestby|Vestbylandskap, Årstider|Sommer |
Highlights2012 | -100 |
HueAdjustmentAqua | 0 |
HueAdjustmentBlue | 0 |
HueAdjustmentGreen | 0 |
HueAdjustmentMagenta | 0 |
HueAdjustmentOrange | 0 |
HueAdjustmentPurple | 0 |
HueAdjustmentRed | 0 |
HueAdjustmentYellow | 0 |
HyperfocalDistance | 11.71 m |
ImageHeight | 870 |
ImageNumber | 0 |
ImageSize | 1118x870 |
ImageWidth | 1118 |
ISO | 100 |
Keywords | Fotgraf Børre, Hølen, Norge, Sommer, Steder, Vestby, Vestbylandskap, Årstider |
LateralChromaticAberrationCorrectionAlreadyApplied | True |
Lens | EF24-105mm f/4L IS USM |
LensID (1) | 237 |
LensID | Canon EF 24-105mm f/4L IS USM |
LensInfo | 24-105mm f/? |
LensManualDistortionAmount | 0 |
LensModel | EF24-105mm f/4L IS USM |
LensProfileChromaticAberrationScale | 100 |
LensProfileDistortionScale | 100 |
LensProfileEnable | 1 |
LensProfileFilename | Canon EOS-1Ds Mark III (Canon EF 24-105mm f4 L IS USM) - RAW.lcp |
LensProfileName | Adobe (Canon EF 24-105mm f/4 L IS USM) |
LensProfileSetup | LensDefaults |
LensProfileVignettingScale | 100 |
LensSerialNumber | 000060d79d |
LightValue | 15.3 |
LuminanceAdjustmentAqua | 0 |
LuminanceAdjustmentBlue | -81 |
LuminanceAdjustmentGreen | +44 |
LuminanceAdjustmentMagenta | 0 |
LuminanceAdjustmentOrange | 0 |
LuminanceAdjustmentPurple | 0 |
LuminanceAdjustmentRed | 0 |
LuminanceAdjustmentYellow | +61 |
LuminanceNoiseReductionContrast | 0 |
LuminanceNoiseReductionDetail | 50 |
LuminanceSmoothing | 52 |
Make | Canon |
MaxApertureValue | 4.0 |
Megapixels | 0.973 |
MeteringMode | Spot |
Model | Canon EOS 5D Mark III |
ModifyDate (1) | 2019:05:27 20:28:36+02:00 |
ModifyDate | 2019:05:27 20:28:36 |
PaintCorrectionActive | true |
PaintCorrectionAmount | 1.000000 |
PaintCorrectionBrightness | 0.000000 |
PaintCorrectionClarity2012 (8) | -0.540230 |
PaintCorrectionClarity2012 (9) | -0.632180 |
PaintCorrectionClarity2012 | 0.000000 |
PaintCorrectionContrast2012 (9) | -0.885060 |
PaintCorrectionContrast2012 | 0.000000 |
PaintCorrectionDefringe (10) | 0.952380 |
PaintCorrectionDefringe (11) | 1.000000 |
PaintCorrectionDefringe (7) | 0.000000 |
PaintCorrectionDefringe (8) | 0.172410 |
PaintCorrectionDefringe (9) | 0.931030 |
PaintCorrectionDefringe | 0.761900 |
PaintCorrectionExposure2012 (1) | 0.172500 |
PaintCorrectionExposure2012 (2) | 0.218500 |
PaintCorrectionExposure2012 (3) | 0.494250 |
PaintCorrectionExposure2012 (4) | 0.770000 |
PaintCorrectionExposure2012 (6) | 0.103500 |
PaintCorrectionExposure2012 (7) | 0.287250 |
PaintCorrectionExposure2012 (8) | 0.438250 |
PaintCorrectionExposure2012 | 0.000000 |
PaintCorrectionHighlights2012 | 0.000000 |
PaintCorrectionHue | 0.000000 |
PaintCorrectionLocalBlacks2012 | 0.000000 |
PaintCorrectionLocalDehaze | 0.000000 |
PaintCorrectionLocalWhites2012 | 0.000000 |
PaintCorrectionLuminanceNoise (1) | 0.021490 |
PaintCorrectionLuminanceNoise (11) | 0.952380 |
PaintCorrectionLuminanceNoise (8) | 0.931030 |
PaintCorrectionLuminanceNoise (9) | 1.000000 |
PaintCorrectionLuminanceNoise | 0.857140 |
PaintCorrectionMaskCenterWeight (16) | 0.198184 |
PaintCorrectionMaskCenterWeight (5) | 0.000000 |
PaintCorrectionMaskCenterWeight (8) | 0.137873 |
PaintCorrectionMaskCenterWeight | 0.078534 |
PaintCorrectionMaskFlow (13) | 0.609000 |
PaintCorrectionMaskFlow (5) | 0.644000 |
PaintCorrectionMaskFlow | 0.689000 |
PaintCorrectionMaskRadius (1) | 0.027118 |
PaintCorrectionMaskRadius (10) | 0.015646 |
PaintCorrectionMaskRadius (11) | 0.015763 |
PaintCorrectionMaskRadius (12) | 0.016324 |
PaintCorrectionMaskRadius (13) | 0.015822 |
PaintCorrectionMaskRadius (14) | 0.015825 |
PaintCorrectionMaskRadius (15) | 0.016370 |
PaintCorrectionMaskRadius (16) | 0.016395 |
PaintCorrectionMaskRadius (17) | 0.015878 |
PaintCorrectionMaskRadius (18) | 0.053305 |
PaintCorrectionMaskRadius (19) | 0.053132 |
PaintCorrectionMaskRadius (2) | 0.026831 |
PaintCorrectionMaskRadius (20) | 0.029751 |
PaintCorrectionMaskRadius (21) | 0.023409 |
PaintCorrectionMaskRadius (22) | 0.029034 |
PaintCorrectionMaskRadius (23) | 0.023788 |
PaintCorrectionMaskRadius (24) | 0.024114 |
PaintCorrectionMaskRadius (25) | 0.029853 |
PaintCorrectionMaskRadius (3) | 0.033426 |
PaintCorrectionMaskRadius (4) | 0.026770 |
PaintCorrectionMaskRadius (5) | 0.033175 |
PaintCorrectionMaskRadius (6) | 0.021218 |
PaintCorrectionMaskRadius (7) | 0.021164 |
PaintCorrectionMaskRadius (8) | 0.013085 |
PaintCorrectionMaskRadius (9) | 0.015689 |
PaintCorrectionMaskRadius | 0.030801 |
PaintCorrectionMaskValue (12) | 0.000000 |
PaintCorrectionMaskValue | 0.629000 |
PaintCorrectionMaskWhat | Mask/Paint |
PaintCorrectionMoire (11) | 0.857140 |
PaintCorrectionMoire (2) | 0.000000 |
PaintCorrectionMoire (9) | 1.000000 |
PaintCorrectionMoire | 0.714290 |
PaintCorrectionSaturation | 0.000000 |
PaintCorrectionShadows2012 | 0.000000 |
PaintCorrectionSharpness (10) | -0.809520 |
PaintCorrectionSharpness (11) | -1.000000 |
PaintCorrectionSharpness (8) | 0.000000 |
PaintCorrectionSharpness (9) | -0.954020 |
PaintCorrectionSharpness | -0.571430 |
PaintCorrectionTemperature (8) | 0.227470 |
PaintCorrectionTemperature | 0.000000 |
PaintCorrectionTint (8) | 0.080460 |
PaintCorrectionTint | 0.000000 |
PaintCorrectionWhat | Correction |
ParametricDarks | 0 |
ParametricHighlights | 0 |
ParametricHighlightSplit | 75 |
ParametricLights | 0 |
ParametricMidtoneSplit | 50 |
ParametricShadows | 0 |
ParametricShadowSplit | 25 |
PerspectiveAspect | 0 |
PerspectiveHorizontal | 0 |
PerspectiveRotate | 0.0 |
PerspectiveScale | 100 |
PerspectiveUpright | 0 |
PerspectiveVertical | 0 |
PerspectiveX | 0.00 |
PerspectiveY | 0.00 |
PostCropVignetteAmount | 0 |
ProcessVersion | 6.7 |
ProfileDescription | sRGB IEC61966-2.1 |
RecommendedExposureIndex | 100 |
RedHue | 0 |
RedSaturation | 0 |
Saturation | 0 |
SaturationAdjustmentAqua | 0 |
SaturationAdjustmentBlue | 0 |
SaturationAdjustmentGreen | +10 |
SaturationAdjustmentMagenta | 0 |
SaturationAdjustmentOrange | 0 |
SaturationAdjustmentPurple | 0 |
SaturationAdjustmentRed | 0 |
SaturationAdjustmentYellow | -21 |
ScaleFactor35efl | 4.9 |
SceneCaptureType | Standard |
SensitivityType | Recommended Exposure Index |
SerialNumber | 023021001656 |
Shadows2012 | +100 |
ShadowTint | 0 |
SharpenDetail | 25 |
SharpenEdgeMasking | 0 |
SharpenRadius | +1.0 |
Sharpness | 74 |
ShutterSpeed | 1/640 |
ShutterSpeedValue | 1/640 |
Software | Adobe Photoshop Lightroom 6.12 (Windows) |
SplitToningBalance | 0 |
SplitToningHighlightHue | 0 |
SplitToningHighlightSaturation | 0 |
SplitToningShadowHue | 0 |
SplitToningShadowSaturation | 0 |
Subject | Fotgraf Børre, Hølen, Norge, Sommer, Steder, Vestby, Vestbylandskap, Årstider |
Tint | +10 |
ToneCurve | 0, 0, 255, 255 |
ToneCurveBlue | 0, 0, 255, 255 |
ToneCurveGreen | 0, 0, 255, 255 |
ToneCurveName | Linear |
ToneCurveName2012 | Strong Contrast |
ToneCurvePV2012 | 0, 0, 32, 16, 64, 50, 128, 128, 192, 202, 255, 255 |
ToneCurvePV2012Blue | 0, 0, 255, 255 |
ToneCurvePV2012Green | 0, 0, 255, 255 |
ToneCurvePV2012Red | 0, 0, 255, 255 |
ToneCurveRed | 0, 0, 255, 255 |
ToneMapStrength | 0 |
Version | 9.12 |
Vibrance | 0 |
VignetteAmount | 0 |
VignetteCorrectionAlreadyApplied | True |
WhiteBalance (1) | Cloudy |
WhiteBalance | Auto |
Whites2012 | +67 |