Felt | Verdi |
AlreadyApplied | True |
Aperture | 8.0 |
ApertureValue | 8.0 |
ApproximateFocusDistance | 4294967295 |
Artist | GAUTE FORBERGSKOG |
AutoLateralCA | 1 |
BitsPerSample | 8 |
Blacks2012 | 0 |
BlueHue | 0 |
BlueSaturation | 0 |
By-line | GAUTE FORBERGSKOG |
CameraProfile | Adobe Standard |
CFAPattern | [Red,Green][Green,Blue] |
CircGradBasedCorrActive | true |
CircGradBasedCorrAmount | 1.000000 |
CircGradBasedCorrBrightness | 0.000000 |
CircGradBasedCorrClarity | 0.000000 |
CircGradBasedCorrClarity2012 (2) | 0.000000 |
CircGradBasedCorrClarity2012 | 0.055863 |
CircGradBasedCorrContrast | 0.000000 |
CircGradBasedCorrContrast2012 (5) | 0.375607 |
CircGradBasedCorrContrast2012 (6) | 0.238433 |
CircGradBasedCorrContrast2012 | 0.177981 |
CircGradBasedCorrCorrectionRangeMaskLumMax | 1.000000 |
CircGradBasedCorrCorrectionRangeMaskLumMin | 0.000000 |
CircGradBasedCorrCorrectionRangeMaskType | 0 |
CircGradBasedCorrCorrectionRangeMaskVersion | +2 |
CircGradBasedCorrDefringe | 0.000000 |
CircGradBasedCorrExposure | 0.000000 |
CircGradBasedCorrExposure2012 (5) | 0.164897 |
CircGradBasedCorrExposure2012 | 0.102624 |
CircGradBasedCorrHighlights2012 | 0.000000 |
CircGradBasedCorrHue | 0.000000 |
CircGradBasedCorrLocalBlacks2012 | -0.115784 |
CircGradBasedCorrLocalDehaze | 0.000000 |
CircGradBasedCorrLocalWhites2012 (6) | 0.227852 |
CircGradBasedCorrLocalWhites2012 (7) | 0.142521 |
CircGradBasedCorrLocalWhites2012 | 0.540845 |
CircGradBasedCorrLuminanceNoise | 0.000000 |
CircGradBasedCorrMaskAngle (3) | -0.003801 |
CircGradBasedCorrMaskAngle (4) | -16.512400 |
CircGradBasedCorrMaskAngle (5) | -8.655840 |
CircGradBasedCorrMaskAngle (7) | 35.246900 |
CircGradBasedCorrMaskAngle | 0.001785 |
CircGradBasedCorrMaskBottom (1) | 0.676653 |
CircGradBasedCorrMaskBottom (2) | 0.640767 |
CircGradBasedCorrMaskBottom (3) | 0.642643 |
CircGradBasedCorrMaskBottom (4) | 0.547832 |
CircGradBasedCorrMaskBottom (5) | 0.489739 |
CircGradBasedCorrMaskBottom (6) | 0.655599 |
CircGradBasedCorrMaskBottom (7) | 0.890762 |
CircGradBasedCorrMaskBottom | 0.798478 |
CircGradBasedCorrMaskFeather | +100 |
CircGradBasedCorrMaskFlipped | true |
CircGradBasedCorrMaskLeft (1) | 0.064492 |
CircGradBasedCorrMaskLeft (2) | 0.134817 |
CircGradBasedCorrMaskLeft (3) | 0.217874 |
CircGradBasedCorrMaskLeft (4) | 0.323981 |
CircGradBasedCorrMaskLeft (5) | 0.430816 |
CircGradBasedCorrMaskLeft (6) | 0.549029 |
CircGradBasedCorrMaskLeft (7) | 0.673869 |
CircGradBasedCorrMaskLeft | 0.720255 |
CircGradBasedCorrMaskMidpoint | +50 |
CircGradBasedCorrMaskRight (1) | 0.151241 |
CircGradBasedCorrMaskRight (2) | 0.221566 |
CircGradBasedCorrMaskRight (3) | 0.269317 |
CircGradBasedCorrMaskRight (4) | 0.454118 |
CircGradBasedCorrMaskRight (5) | 0.554293 |
CircGradBasedCorrMaskRight (6) | 0.638708 |
CircGradBasedCorrMaskRight (7) | 0.747756 |
CircGradBasedCorrMaskRight | 0.946622 |
CircGradBasedCorrMaskRoundness | 0 |
CircGradBasedCorrMaskTop (1) | 0.513854 |
CircGradBasedCorrMaskTop (2) | 0.477968 |
CircGradBasedCorrMaskTop (3) | 0.479840 |
CircGradBasedCorrMaskTop (4) | 0.527471 |
CircGradBasedCorrMaskTop (5) | 0.475512 |
CircGradBasedCorrMaskTop (6) | 0.448480 |
CircGradBasedCorrMaskTop (7) | 0.445639 |
CircGradBasedCorrMaskTop | -0.001291 |
CircGradBasedCorrMaskValue | 1.000000 |
CircGradBasedCorrMaskVersion | +2 |
CircGradBasedCorrMaskWhat | Mask/CircularGradient |
CircGradBasedCorrMoire | 0.000000 |
CircGradBasedCorrSaturation | 0.000000 |
CircGradBasedCorrShadows2012 | 0.000000 |
CircGradBasedCorrSharpness | 0.000000 |
CircGradBasedCorrTemperature | 0.409777 |
CircGradBasedCorrTint | 0.000000 |
CircGradBasedCorrWhat | Correction |
CircleOfConfusion | 0.030 mm |
Clarity2012 | 0 |
ColorComponents | 3 |
ColorMode | RGB |
ColorNoiseReduction | 26 |
ColorNoiseReductionDetail | 50 |
ColorNoiseReductionSmoothness | 50 |
ColorSpace | Uncalibrated |
ColorTemperature | 5600 |
ColorTransform | YCbCr |
Contrast | Normal |
Contrast2012 | 0 |
ConvertToGrayscale | False |
Copyright | 2018 GAUTE FORBERGSKOG |
CopyrightNotice | 2018 GAUTE FORBERGSKOG |
CreateDate | 2018:10:02 13:12:13 |
Creator | GAUTE FORBERGSKOG |
CropAngle | -0.003801 |
CropBottom | 0.756155 |
CropConstrainToWarp | 0 |
CropLeft | 0.093968 |
CropRight | 0.97297 |
CropTop | 0.143295 |
CustomRendered | Normal |
DateCreated (1) | 2018:10:02 |
DateCreated | 2018:10:02 13:09:16.096 |
DateTimeOriginal | 2018:10:02 13:12:13 |
DefringeGreenAmount | 0 |
DefringeGreenHueHi | 60 |
DefringeGreenHueLo | 40 |
DefringePurpleAmount | 0 |
DefringePurpleHueHi | 70 |
DefringePurpleHueLo | 30 |
Dehaze | 0 |
DistortionCorrectionAlreadyApplied | True |
DOF | inf (2.40 m - inf) |
ExifImageHeight | 924 |
ExifImageWidth | 1791 |
Exposure2012 | 0.00 |
ExposureCompensation | 0 |
ExposureMode | Manual |
ExposureProgram | Manual |
ExposureTime | 1/80 |
Flash | No Flash |
FNumber | 8.0 |
FocalLength | 24.0 mm |
FocalLength35efl | 24.0 mm (35 mm equivalent: 24.0 mm) |
FocalLengthIn35mmFormat | 24 mm |
Format | image/jpeg |
FOV | 73.7 deg |
GainControl | None |
GradientBasedCorrActive | true |
GradientBasedCorrAmount | 1.000000 |
GradientBasedCorrBrightness | 0.000000 |
GradientBasedCorrClarity | 0.000000 |
GradientBasedCorrClarity2012 | 0.000000 |
GradientBasedCorrContrast | 0.000000 |
GradientBasedCorrContrast2012 | 0.000000 |
GradientBasedCorrCorrectionRangeMaskLumMax | 1.000000 |
GradientBasedCorrCorrectionRangeMaskLumMin | 0.000000 |
GradientBasedCorrCorrectionRangeMaskType | 0 |
GradientBasedCorrCorrectionRangeMaskVersion | +2 |
GradientBasedCorrDefringe | 0.000000 |
GradientBasedCorrExposure | 0.000000 |
GradientBasedCorrExposure2012 (1) | -0.266156 |
GradientBasedCorrExposure2012 (2) | -0.263463 |
GradientBasedCorrExposure2012 | -0.180105 |
GradientBasedCorrHighlights2012 (1) | -1.000000 |
GradientBasedCorrHighlights2012 | 0.000000 |
GradientBasedCorrHue | 0.000000 |
GradientBasedCorrLocalBlacks2012 | 0.000000 |
GradientBasedCorrLocalDehaze | 0.000000 |
GradientBasedCorrLocalWhites2012 | 0.000000 |
GradientBasedCorrLuminanceNoise | 0.000000 |
GradientBasedCorrMaskFullX (1) | 0.253062 |
GradientBasedCorrMaskFullX (2) | 0.279327 |
GradientBasedCorrMaskFullX | 0.089875 |
GradientBasedCorrMaskFullY (1) | -0.008664 |
GradientBasedCorrMaskFullY (2) | 0.999912 |
GradientBasedCorrMaskFullY | 0.436424 |
GradientBasedCorrMaskValue | 1.000000 |
GradientBasedCorrMaskWhat | Mask/Gradient |
GradientBasedCorrMaskZeroX (1) | 0.321096 |
GradientBasedCorrMaskZeroX (2) | 0.342481 |
GradientBasedCorrMaskZeroX | 0.340089 |
GradientBasedCorrMaskZeroY (1) | 0.390538 |
GradientBasedCorrMaskZeroY (2) | 0.351736 |
GradientBasedCorrMaskZeroY | 0.444412 |
GradientBasedCorrMoire | 0.000000 |
GradientBasedCorrSaturation | 0.000000 |
GradientBasedCorrShadows2012 (1) | -0.231113 |
GradientBasedCorrShadows2012 | 0.000000 |
GradientBasedCorrSharpness | 0.000000 |
GradientBasedCorrTemperature (1) | -0.269531 |
GradientBasedCorrTemperature (2) | 0.269455 |
GradientBasedCorrTemperature | 0.516004 |
GradientBasedCorrTint | 0.000000 |
GradientBasedCorrWhat | Correction |
GrainAmount | 0 |
GreenHue | 0 |
GreenSaturation | 0 |
HasCrop | True |
HasExtendedXMP | FC10B11EDA08B8CD078F73C352AB4C44 |
HasSettings | True |
HierarchicalSubject | 2018, Mosjøen, høst |
Highlights2012 | -100 |
HueAdjustmentAqua | -24 |
HueAdjustmentBlue | -4 |
HueAdjustmentGreen | -30 |
HueAdjustmentMagenta | 0 |
HueAdjustmentOrange | -4 |
HueAdjustmentPurple | +1 |
HueAdjustmentRed | -15 |
HueAdjustmentYellow | +6 |
HyperfocalDistance | 2.40 m |
ICCProfileName | Adobe RGB (1998) |
ImageHeight | 924 |
ImageNumber | 4804 |
ImageSize | 1791x924 |
ImageWidth | 1791 |
IsMergedPanorama | True |
ISO | 64 |
Keywords | 2018, Mosjøen, høst |
Label | |
Lens | 24.0-70.0 mm f/2.8 |
LensID (1) | 170 |
LensID | AF-S Nikkor 24-70mm f/2.8E ED VR |
LensInfo | 24-70mm f/2.8 |
LensManualDistortionAmount | 0 |
LensModel | 24.0-70.0 mm f/2.8 |
LensProfileChromaticAberrationScale | 100 |
LensProfileDistortionScale | 100 |
LensProfileEnable | 1 |
LensProfileSetup | LensDefaults |
LensProfileVignettingScale | 100 |
LightSource | Unknown |
LightValue | 13.0 |
LookAmount | 1.000000 |
LookGroup | Profiles |
LookName | Adobe Color |
LookParametersCameraProfile | Adobe Standard |
LookParametersConvertToGrayscale | False |
LookParametersLookTable | E1095149FDB39D7A057BAB208837E2E1 |
LookParametersProcessVersion | 10.0 |
LookParametersToneCurvePV2012 | 0, 0, 22, 16, 40, 35, 127, 127, 224, 230, 240, 246, 255, 255 |
LookParametersToneCurvePV2012Blue | 0, 0, 255, 255 |
LookParametersToneCurvePV2012Green | 0, 0, 255, 255 |
LookParametersToneCurvePV2012Red | 0, 0, 255, 255 |
LookParametersVersion | 10.5 |
LookSupportsAmount | false |
LookSupportsMonochrome | false |
LookSupportsOutputReferred | false |
LuminanceAdjustmentAqua | +2 |
LuminanceAdjustmentBlue | -42 |
LuminanceAdjustmentGreen | -100 |
LuminanceAdjustmentMagenta | -39 |
LuminanceAdjustmentOrange | +10 |
LuminanceAdjustmentPurple | -26 |
LuminanceAdjustmentRed | -15 |
LuminanceAdjustmentYellow | +7 |
LuminanceNoiseReductionContrast | 0 |
LuminanceNoiseReductionDetail | 50 |
LuminanceSmoothing | 14 |
Make | NIKON CORPORATION |
MaxApertureValue | 2.8 |
Megapixels | 1.7 |
MeteringMode | Multi-segment |
Model | NIKON D850 |
ModifyDate (1) | 2018:10:04 21:00:40+02:00 |
ModifyDate | 2018:10:04 21:00:40 |
Orientation | Horizontal (normal) |
OverrideLookVignette | False |
PaintCorrectionActive | true |
PaintCorrectionAmount | 1.000000 |
PaintCorrectionBrightness | 0.000000 |
PaintCorrectionClarity | 0.000000 |
PaintCorrectionClarity2012 (1) | 0.000000 |
PaintCorrectionClarity2012 | 0.275561 |
PaintCorrectionContrast | 0.000000 |
PaintCorrectionContrast2012 (1) | 0.000000 |
PaintCorrectionContrast2012 | 0.337720 |
PaintCorrectionCorrectionRangeMaskLumMax | 1.000000 |
PaintCorrectionCorrectionRangeMaskLumMin | 0.000000 |
PaintCorrectionCorrectionRangeMaskType | 0 |
PaintCorrectionCorrectionRangeMaskVersion | +2 |
PaintCorrectionDefringe | 0.000000 |
PaintCorrectionExposure | 0.000000 |
PaintCorrectionExposure2012 (1) | 0.000000 |
PaintCorrectionExposure2012 | 0.151434 |
PaintCorrectionHighlights2012 (1) | 0.000000 |
PaintCorrectionHighlights2012 | 0.688865 |
PaintCorrectionHue | 0.000000 |
PaintCorrectionLocalBlacks2012 (1) | -0.103231 |
PaintCorrectionLocalBlacks2012 | 0.000000 |
PaintCorrectionLocalDehaze | 0.000000 |
PaintCorrectionLocalWhites2012 (1) | 0.530226 |
PaintCorrectionLocalWhites2012 | 0.021693 |
PaintCorrectionLuminanceNoise | 0.000000 |
PaintCorrectionMaskCenterWeight (20) | 0.222178 |
PaintCorrectionMaskCenterWeight | 0.000000 |
PaintCorrectionMaskFlow | 1.000000 |
PaintCorrectionMaskRadius (11) | 0.005164 |
PaintCorrectionMaskRadius (12) | 0.004567 |
PaintCorrectionMaskRadius (15) | 0.047756 |
PaintCorrectionMaskRadius (27) | 0.023074 |
PaintCorrectionMaskRadius (28) | 0.052113 |
PaintCorrectionMaskRadius (34) | 0.047051 |
PaintCorrectionMaskRadius (4) | 0.061100 |
PaintCorrectionMaskRadius (6) | 0.033429 |
PaintCorrectionMaskRadius (8) | 0.007949 |
PaintCorrectionMaskRadius | 0.026831 |
PaintCorrectionMaskValue (18) | 0.000000 |
PaintCorrectionMaskValue | 0.652344 |
PaintCorrectionMaskWhat | Mask/Paint |
PaintCorrectionMoire | 0.000000 |
PaintCorrectionSaturation (3) | 0.523400 |
PaintCorrectionSaturation | 0.000000 |
PaintCorrectionShadows2012 (1) | 0.341057 |
PaintCorrectionShadows2012 | -0.159208 |
PaintCorrectionSharpness | 0.000000 |
PaintCorrectionTemperature | 0.000000 |
PaintCorrectionTint | 0.000000 |
PaintCorrectionWhat | Correction |
ParametricDarks | 0 |
ParametricHighlights | 0 |
ParametricHighlightSplit | 75 |
ParametricLights | 0 |
ParametricMidtoneSplit | 50 |
ParametricShadows | 0 |
ParametricShadowSplit | 25 |
PerspectiveAspect | 0 |
PerspectiveHorizontal | 0 |
PerspectiveRotate | 0.0 |
PerspectiveScale | 100 |
PerspectiveUpright | 0 |
PerspectiveVertical | 0 |
PerspectiveX | 0.00 |
PerspectiveY | 0.00 |
PostCropVignetteAmount | -11 |
PostCropVignetteFeather | 50 |
PostCropVignetteHighlightContrast | 0 |
PostCropVignetteMidpoint | 50 |
PostCropVignetteRoundness | 0 |
PostCropVignetteStyle | 1 |
ProcessVersion | 10.0 |
ProfileDescription | Adobe RGB (1998) |
Rating | 0 |
RawFileName | _8504509-Pano.dng |
RecommendedExposureIndex | 64 |
RedHue | 0 |
RedSaturation | 0 |
Rights | 2018 GAUTE FORBERGSKOG |
Saturation (1) | -7 |
Saturation | Normal |
SaturationAdjustmentAqua | +7 |
SaturationAdjustmentBlue | -30 |
SaturationAdjustmentGreen | -5 |
SaturationAdjustmentMagenta | -9 |
SaturationAdjustmentOrange | +11 |
SaturationAdjustmentPurple | -27 |
SaturationAdjustmentRed | +10 |
SaturationAdjustmentYellow | +41 |
ScaleFactor35efl | 1.0 |
SceneCaptureType | Standard |
SceneType | Directly photographed |
SensingMethod | One-chip color area |
SensitivityType | Recommended Exposure Index |
SerialNumber | 6023637 |
Shadows2012 | +22 |
ShadowTint | 0 |
SharpenDetail | 25 |
SharpenEdgeMasking | 100 |
SharpenRadius | +1.0 |
Sharpness (1) | 40 |
Sharpness | Normal |
ShutterSpeed | 1/80 |
ShutterSpeedValue | 1/80 |
Software | Adobe Photoshop CC 2018 (Macintosh) |
SplitToningBalance | 0 |
SplitToningHighlightHue | 0 |
SplitToningHighlightSaturation | 0 |
SplitToningShadowHue | 0 |
SplitToningShadowSaturation | 0 |
Subject | 2018, Mosjøen, høst |
SubjectDistanceRange | Unknown |
Tint | +4 |
ToneCurve | 0, 0, 32, 22, 64, 56, 128, 128, 192, 196, 255, 255 |
ToneCurveBlue | 0, 0, 255, 255 |
ToneCurveGreen | 0, 0, 255, 255 |
ToneCurveName | Medium Contrast |
ToneCurveName2012 | Linear |
ToneCurvePV2012 | 0, 0, 255, 255 |
ToneCurvePV2012Blue | 0, 0, 255, 255 |
ToneCurvePV2012Green | 0, 0, 255, 255 |
ToneCurvePV2012Red | 0, 0, 255, 255 |
ToneCurveRed | 0, 0, 255, 255 |
ToneMapStrength | 0 |
Transformation | Perspective |
URL_List | |
Version | 10.5 |
Vibrance | +24 |
VignetteAmount | 0 |
VignetteCorrectionAlreadyApplied | True |
VirtualFocalLength | 0.620111 |
VirtualImageXCenter | 0.507831 |
VirtualImageYCenter | 0.310085 |
WhiteBalance (1) | As Shot |
WhiteBalance | Auto |
Whites2012 | 0 |