Felt | Verdi |
AlreadyApplied | True |
Aperture | 11.0 |
ApertureValue | 11.0 |
ApproximateFocusDistance | 3.72 |
Artist | Mikkel Nordbaek |
AutoLateralCA | 1 |
BitsPerSample | 8 |
BlackClip | 0.072179 |
Blacks2012 | -26 |
BlendingOpacity | 0.0 |
BlendWithEV | -1.8 |
BlueHue | 0 |
BlueSaturation | 0 |
Brightness | 1.1 |
BrightnessIndividualColors | 0.0,0.0,0.0,0.0,0.0,0.0,0.0,0.0 |
By-line | Mikkel Nordbaek |
CameraProfile | Embedded |
CircleOfConfusion | 0.027 mm |
Clarity2012 | +22 |
ColorComponents | 3 |
ColorNoiseReduction | 0 |
ColorSpace | sRGB |
ColorTemperature | 2.5 |
Contrast2012 | +22 |
ConvertToGrayscale | False |
Copyright | Mikkel Nordbaek |
CopyrightNotice | Mikkel Nordbaek |
CreateDate (1) | 2018:05:12 21:55:56.82 |
CreateDate | 2018:05:12 21:55:56 |
Creator | Mikkel Nordbaek |
CreatorTool | Adobe Photoshop Lightroom Classic 7.3.1 (Windows) |
CropAngle | -0.1 |
CropBottom | 0.997451 |
CropConstrainToWarp | 0 |
CropLeft | 0.017717 |
CropRight | 0.992505 |
CropTop | 0.002567 |
CustomRendered | Normal |
DateCreated (1) | 2018:05:12 21:55:56.82 |
DateCreated | 2018:05:12 |
DateTimeOriginal | 2018:05:12 21:55:56 |
DefringeGreenAmount | 0 |
DefringeGreenHueHi | 60 |
DefringeGreenHueLo | 40 |
DefringePurpleAmount | 0 |
DefringePurpleHueHi | 70 |
DefringePurpleHueLo | 30 |
Dehaze | 0 |
DetailContrast | 5.5 |
DistortionCorrectionAlreadyApplied | True |
DOF | inf (1.75 m - inf) |
ExifImageHeight | 3306 |
ExifImageWidth | 4840 |
Exposure2012 | 0.00 |
ExposureCompensation | 0 |
ExposureMode | Manual |
ExposureProgram | Manual |
ExposureTime | 0.5 |
Firmware | 1.1.6 |
Flash | Off, Did not fire |
FlashCompensation | 0 |
FNumber | 11.0 |
FocalLength | 31.0 mm |
FocalLength35efl | 31.0 mm (35 mm equivalent: 34.8 mm) |
Format | image/jpeg |
FOV | 54.7 deg |
GrainAmount | 0 |
GreenHue | 0 |
GreenSaturation | 0 |
HasCrop | True |
HasExtendedXMP | 05BD367654E429F0B80B4ACE4C1DEE3E |
HasSettings | True |
Highlights2012 | -100 |
HighlightsSmoothing | 40.0 |
HueAdjustmentAqua | 0 |
HueAdjustmentBlue | 0 |
HueAdjustmentGreen | 0 |
HueAdjustmentMagenta | 0 |
HueAdjustmentOrange | 0 |
HueAdjustmentPurple | +15 |
HueAdjustmentRed | 0 |
HueAdjustmentYellow | 0 |
HyperfocalDistance | 3.26 m |
ImageHeight | 3306 |
ImageNumber | 0 |
ImageSize | 4840x3306 |
ImageWidth | 4840 |
IncrementalTemperature | +6 |
IncrementalTint | 0 |
ISO | 100 |
IsPano360 | No |
LateralChromaticAberrationCorrectionAlreadyApplied | True |
Lens | EF17-40mm f/4L USM |
LensID (1) | 231 |
LensID | Canon EF 17-40mm f/4L USM |
LensInfo | 17-40mm f/? |
LensManualDistortionAmount | 0 |
LensModel | EF17-40mm f/4L USM |
LensProfileChromaticAberrationScale | 100 |
LensProfileDistortionScale | 100 |
LensProfileEnable | 1 |
LensProfileFilename | Canon EOS-1Ds Mark III (Canon EF 17-40mm f4 L USM).lcp |
LensProfileName | Adobe (Canon EF 17-40mm f/4 L USM) |
LensProfileSetup | LensDefaults |
LensProfileVignettingScale | 100 |
LensSerialNumber | 0000000000 |
LightValue | 7.9 |
LuminanceAdjustmentAqua | 0 |
LuminanceAdjustmentBlue | -4 |
LuminanceAdjustmentGreen | 0 |
LuminanceAdjustmentMagenta | 0 |
LuminanceAdjustmentOrange | 0 |
LuminanceAdjustmentPurple | 0 |
LuminanceAdjustmentRed | 0 |
LuminanceAdjustmentYellow | 0 |
LuminanceNoiseReductionContrast | 0 |
LuminanceNoiseReductionDetail | 50 |
LuminanceSmoothing | 7 |
Make | Canon |
MaxApertureValue | 4.0 |
Megapixels | 16.0 |
MeteringMode | Multi-segment |
Method | Details Enhancer |
Microsmoothing | 17.4 |
Model | Canon EOS 6D |
ModifyDate (1) | 2018:05:17 22:08:40+02:00 |
ModifyDate | 2018:05:17 22:08:40 |
OverrideLookVignette | False |
PaintCorrectionActive | true |
PaintCorrectionAmount | 1.000000 |
PaintCorrectionBrightness | 0.000000 |
PaintCorrectionClarity2012 (2) | 0.058820 |
PaintCorrectionClarity2012 | 0.000000 |
PaintCorrectionContrast2012 | 0.000000 |
PaintCorrectionCorrectionRangeMaskColorAmount | 0.500000 |
PaintCorrectionCorrectionRangeMaskLumFeather | 0.500000 |
PaintCorrectionCorrectionRangeMaskLumMax | 1.000000 |
PaintCorrectionCorrectionRangeMaskLumMin | 0.000000 |
PaintCorrectionCorrectionRangeMaskType | 0 |
PaintCorrectionCorrectionRangeMaskVersion | +2 |
PaintCorrectionDefringe | 0.000000 |
PaintCorrectionExposure2012 (2) | 0.058750 |
PaintCorrectionExposure2012 | 0.000000 |
PaintCorrectionHighlights2012 | 0.000000 |
PaintCorrectionHue | 41.000000 |
PaintCorrectionLocalBlacks2012 (1) | -0.044120 |
PaintCorrectionLocalBlacks2012 | 0.000000 |
PaintCorrectionLocalDehaze | 0.000000 |
PaintCorrectionLocalWhites2012 (1) | 0.058820 |
PaintCorrectionLocalWhites2012 | 0.000000 |
PaintCorrectionLuminanceNoise (1) | 0.000000 |
PaintCorrectionLuminanceNoise | 0.264710 |
PaintCorrectionMaskCenterWeight | 0.000000 |
PaintCorrectionMaskFlow | 1.000000 |
PaintCorrectionMaskRadius (1) | 0.054431 |
PaintCorrectionMaskRadius (10) | 0.034283 |
PaintCorrectionMaskRadius (11) | 0.034469 |
PaintCorrectionMaskRadius (12) | 0.022023 |
PaintCorrectionMaskRadius (13) | 0.021982 |
PaintCorrectionMaskRadius (14) | 0.068259 |
PaintCorrectionMaskRadius (15) | 0.040790 |
PaintCorrectionMaskRadius (16) | 0.090902 |
PaintCorrectionMaskRadius (2) | 0.122113 |
PaintCorrectionMaskRadius (3) | 0.036797 |
PaintCorrectionMaskRadius (4) | 0.036802 |
PaintCorrectionMaskRadius (5) | 0.029195 |
PaintCorrectionMaskRadius (6) | 0.019655 |
PaintCorrectionMaskRadius (7) | 0.036832 |
PaintCorrectionMaskRadius (8) | 0.024381 |
PaintCorrectionMaskRadius (9) | 0.024354 |
PaintCorrectionMaskRadius | 0.054209 |
PaintCorrectionMaskValue | 0.826000 |
PaintCorrectionMaskWhat | Mask/Paint |
PaintCorrectionMoire | 0.000000 |
PaintCorrectionSaturation (1) | -0.102940 |
PaintCorrectionSaturation | 0.000000 |
PaintCorrectionShadows2012 | 0.000000 |
PaintCorrectionSharpness | 0.000000 |
PaintCorrectionTemperature (2) | -0.029410 |
PaintCorrectionTemperature | 0.000000 |
PaintCorrectionTint | 0.000000 |
PaintCorrectionWhat | Correction |
ParametricDarks | -6 |
ParametricHighlights | -11 |
ParametricHighlightSplit | 75 |
ParametricLights | 0 |
ParametricMidtoneSplit | 50 |
ParametricShadows | 0 |
ParametricShadowSplit | 25 |
PerspectiveAspect | 0 |
PerspectiveHorizontal | 0 |
PerspectiveRotate | 0.0 |
PerspectiveScale | 100 |
PerspectiveUpright | 1 |
PerspectiveVertical | 0 |
PerspectiveX | 0.00 |
PerspectiveY | 0.00 |
PostCropVignetteAmount | 0 |
ProcessVersion | 10.0 |
ProfileDescription | sRGB IEC61966-2.1 |
Rating | 5 |
RecommendedExposureIndex | 100 |
RedHue | 0 |
RedSaturation | 0 |
Rights | Mikkel Nordbaek |
Saturation (1) | 0 |
Saturation | 2.6 |
SaturationAdjustmentAqua | 0 |
SaturationAdjustmentBlue | +10 |
SaturationAdjustmentGreen | 0 |
SaturationAdjustmentMagenta | +27 |
SaturationAdjustmentOrange | 0 |
SaturationAdjustmentPurple | +27 |
SaturationAdjustmentRed | 0 |
SaturationAdjustmentYellow | -6 |
SaturationHighlights | 4.4 |
SaturationIndividualColors | 0.0,0.0,0.0,0.0,0.0,0.0,0.0,0.0 |
SaturationShadows | 3.1 |
ScaleFactor35efl | 1.1 |
SceneCaptureType | Standard |
SensitivityType | Recommended Exposure Index |
SerialNumber | 023052000141 |
Shadows2012 | +54 |
ShadowsClipping | 0.0 |
ShadowsSmoothing | 16.0 |
ShadowTint | 0 |
SharpenDetail | 25 |
SharpenEdgeMasking | 43 |
SharpenRadius | +1.0 |
Sharpness | 71 |
ShutterSpeed | 0.5 |
ShutterSpeedValue | 0.5 |
Smoothing | High |
SmoothingMode | Light |
Software | Adobe Photoshop Lightroom Classic 7.3.1 (Windows) |
SplitToningBalance | 0 |
SplitToningHighlightHue | 25 |
SplitToningHighlightSaturation | 12 |
SplitToningShadowHue | 217 |
SplitToningShadowSaturation | 1 |
Strength | 70.0 |
TemperatureIndividualColors | 0.0,0.0,0.0,0.0,0.0,0.0,0.0,0.0 |
ToneCompression | 5.2 |
ToneCurve | 0, 0, 255, 255 |
ToneCurveBlue | 0, 0, 255, 255 |
ToneCurveGreen | 0, 0, 255, 255 |
ToneCurveName | Linear |
ToneCurveName2012 | Linear |
ToneCurvePV2012 | 0, 0, 255, 255 |
ToneCurvePV2012Blue | 0, 0, 255, 255 |
ToneCurvePV2012Green | 0, 0, 255, 255 |
ToneCurvePV2012Red | 0, 0, 255, 255 |
ToneCurveRed | 0, 0, 255, 255 |
ToneMapStrength | 0 |
Version (1) | 6.0 |
Version | 10.3 |
Vibrance | +10 |
VignetteAmount | 0 |
VignetteCorrectionAlreadyApplied | True |
WhiteBalance (1) | Custom |
WhiteBalance | Auto |
WhiteClip | 0.072179 |
Whites2012 | +19 |