Felt | Verdi |
AlreadyApplied | True |
Aperture | 6.7 |
ApertureValue | 6.7 |
ApproximateFocusDistance | 4294967295 |
Artist | Helge Aukland |
AutoLateralCA | 0 |
AutoWhiteVersion | 134348800 |
BitsPerSample | 8 |
Blacks2012 | 0 |
BlueHue | 0 |
BlueSaturation | 0 |
By-line | Helge Aukland |
CameraProfile | Adobe Standard |
CircGradBasedCorrActive | true |
CircGradBasedCorrAmount | 1.000000 |
CircGradBasedCorrBrightness | 0.000000 |
CircGradBasedCorrClarity2012 (1) | 1.000000 |
CircGradBasedCorrClarity2012 | 0.623069 |
CircGradBasedCorrContrast2012 (1) | 0.350860 |
CircGradBasedCorrContrast2012 | 0.000000 |
CircGradBasedCorrDefringe | 0.000000 |
CircGradBasedCorrExposure2012 (1) | 0.087342 |
CircGradBasedCorrExposure2012 | 0.000000 |
CircGradBasedCorrHighlights2012 (1) | -0.711815 |
CircGradBasedCorrHighlights2012 | 0.000000 |
CircGradBasedCorrHue | 0.000000 |
CircGradBasedCorrLuminanceNoise | 0.000000 |
CircGradBasedCorrMaskAngle (1) | 3.820150 |
CircGradBasedCorrMaskAngle | 5.648230 |
CircGradBasedCorrMaskBottom (1) | 0.272923 |
CircGradBasedCorrMaskBottom | 0.942423 |
CircGradBasedCorrMaskFeather | +70 |
CircGradBasedCorrMaskFlipped | true |
CircGradBasedCorrMaskLeft (1) | -0.002417 |
CircGradBasedCorrMaskLeft | -0.004737 |
CircGradBasedCorrMaskMidpoint | +50 |
CircGradBasedCorrMaskRight (1) | 1.115890 |
CircGradBasedCorrMaskRight | 1.004620 |
CircGradBasedCorrMaskRoundness | 0 |
CircGradBasedCorrMaskTop (1) | -0.149896 |
CircGradBasedCorrMaskTop | 0.092402 |
CircGradBasedCorrMaskValue | 1.000000 |
CircGradBasedCorrMaskVersion | +2 |
CircGradBasedCorrMaskWhat | Mask/CircularGradient |
CircGradBasedCorrMoire | 0.000000 |
CircGradBasedCorrSaturation | 0.000000 |
CircGradBasedCorrShadows2012 (1) | -1.000000 |
CircGradBasedCorrShadows2012 | -0.004916 |
CircGradBasedCorrSharpness (1) | 0.002633 |
CircGradBasedCorrSharpness | 0.000000 |
CircGradBasedCorrTemperature | 0.000000 |
CircGradBasedCorrTint (1) | -0.006320 |
CircGradBasedCorrTint | 0.000000 |
CircGradBasedCorrWhat | Correction |
CircleOfConfusion | 0.022 mm |
Clarity2012 | +25 |
ColorComponents | 3 |
ColorNoiseReduction | 25 |
ColorNoiseReductionDetail | 50 |
ColorNoiseReductionSmoothness | 50 |
ColorTemperature | 7500 |
ColorTransform | YCbCr |
Contrast2012 | 0 |
ConvertToGrayscale | False |
Copyright | helge.aukland@hotmail.no |
CopyrightNotice | helge.aukland@hotmail.no |
CreateDate (1) | 2017:11:07 13:12:37.67 |
CreateDate | 2017:11:07 13:12:37 |
Creator | Helge Aukland |
CreatorTool | Adobe Photoshop Lightroom 5.7.1 (Macintosh) |
CustomRendered | Normal |
DateCreated (1) | 2017:11:07 |
DateCreated | 2017:11:07 13:12:37.67 |
DateTimeOriginal | 2017:11:07 13:12:37 |
DefringeGreenAmount | 0 |
DefringeGreenHueHi | 60 |
DefringeGreenHueLo | 40 |
DefringePurpleAmount | 0 |
DefringePurpleHueHi | 70 |
DefringePurpleHueLo | 30 |
DOF | inf (4256.58 m - inf) |
Exposure2012 | 0.00 |
ExposureCompensation | -1/2 |
ExposureMode | Auto |
ExposureProgram | Aperture-priority AE |
ExposureTime | 1/3000 |
Firmware | 2.0.3 |
Flash | Off, Did not fire |
FlashCompensation | 0 |
FNumber | 6.7 |
FocalLength | 800.0 mm |
FocalLength35efl | 800.0 mm (35 mm equivalent: 1071.1 mm) |
Format | image/jpeg |
FOV | 1.9 deg |
GrainAmount | 0 |
GreenHue | 0 |
GreenSaturation | 0 |
HasCrop | False |
HasSettings | True |
Highlights2012 | 0 |
HueAdjustmentAqua | 0 |
HueAdjustmentBlue | 0 |
HueAdjustmentGreen | 0 |
HueAdjustmentMagenta | 0 |
HueAdjustmentOrange | 0 |
HueAdjustmentPurple | 0 |
HueAdjustmentRed | 0 |
HueAdjustmentYellow | 0 |
HyperfocalDistance | 4256.59 m |
ImageHeight | 2581 |
ImageNumber | 0 |
ImageSize | 3872x2581 |
ImageWidth | 3872 |
ISO | 1250 |
Lens | 800mm |
LensID (1) | 170 |
LensID | Sigma 800mm f/5.6 APO EX DG HSM |
LensInfo | 800mm f/? |
LensManualDistortionAmount | 0 |
LensModel | 800mm |
LensProfileEnable | 0 |
LensProfileSetup | LensDefaults |
LensSerialNumber | 0000000000 |
LightValue | 13.4 |
LuminanceAdjustmentAqua | 0 |
LuminanceAdjustmentBlue | 0 |
LuminanceAdjustmentGreen | 0 |
LuminanceAdjustmentMagenta | 0 |
LuminanceAdjustmentOrange | 0 |
LuminanceAdjustmentPurple | 0 |
LuminanceAdjustmentRed | 0 |
LuminanceAdjustmentYellow | 0 |
LuminanceNoiseReductionContrast | 0 |
LuminanceNoiseReductionDetail | 50 |
LuminanceSmoothing | 16 |
Make | Canon |
MaxApertureValue | 5.7 |
Megapixels | 10.0 |
MeteringMode | Multi-segment |
Model | Canon EOS-1D X |
ModifyDate (1) | 2017:11:07 20:53:44+01:00 |
ModifyDate | 2017:11:07 20:53:44 |
ParametricDarks | -15 |
ParametricHighlights | +22 |
ParametricHighlightSplit | 75 |
ParametricLights | +22 |
ParametricMidtoneSplit | 50 |
ParametricShadows | -22 |
ParametricShadowSplit | 25 |
PerspectiveAspect | 0 |
PerspectiveHorizontal | 0 |
PerspectiveRotate | 0.0 |
PerspectiveScale | 100 |
PerspectiveUpright | 0 |
PerspectiveVertical | 0 |
PostCropVignetteAmount | 0 |
ProcessVersion | 6.7 |
ProfileDescription | sRGB IEC61966-2.1 |
RecommendedExposureIndex | 1250 |
RedHue | 0 |
RedSaturation | 0 |
Rights | helge.aukland@hotmail.no |
Saturation | 0 |
SaturationAdjustmentAqua | 0 |
SaturationAdjustmentBlue | 0 |
SaturationAdjustmentGreen | 0 |
SaturationAdjustmentMagenta | 0 |
SaturationAdjustmentOrange | 0 |
SaturationAdjustmentPurple | 0 |
SaturationAdjustmentRed | 0 |
SaturationAdjustmentYellow | 0 |
ScaleFactor35efl | 1.3 |
SceneCaptureType | Standard |
SensitivityType | Recommended Exposure Index |
SerialNumber | 093015000191 |
Shadows2012 | +15 |
ShadowTint | 0 |
SharpenDetail | 25 |
SharpenEdgeMasking | 0 |
SharpenRadius | +1.0 |
Sharpness | 39 |
ShutterSpeed | 1/3000 |
ShutterSpeedValue | 1/3000 |
Software | Adobe Photoshop Lightroom 5.7.1 (Macintosh) |
SplitToningBalance | 0 |
SplitToningHighlightHue | 0 |
SplitToningHighlightSaturation | 0 |
SplitToningShadowHue | 0 |
SplitToningShadowSaturation | 0 |
Tint | +10 |
ToneCurve | 0, 0, 255, 255 |
ToneCurveBlue | 0, 0, 255, 255 |
ToneCurveGreen | 0, 0, 255, 255 |
ToneCurveName | Linear |
ToneCurveName2012 | Linear |
ToneCurvePV2012 | 0, 0, 255, 255 |
ToneCurvePV2012Blue | 0, 0, 255, 255 |
ToneCurvePV2012Green | 0, 0, 255, 255 |
ToneCurvePV2012Red | 0, 0, 255, 255 |
ToneCurveRed | 0, 0, 255, 255 |
Version | 8.7.1 |
Vibrance | 0 |
VignetteAmount | 0 |
WhiteBalance (1) | Shade |
WhiteBalance | Auto |
Whites2012 | 0 |