Felt | Verdi |
AlreadyApplied | True |
Aperture | 11.0 |
ApertureValue | 11.0 |
ApproximateFocusDistance | 4294967295 |
Artist | Mikkel Nordbaek |
AutoLateralCA | 1 |
AutoWhiteVersion | 134348800 |
BitsPerSample | 8 |
BlackClip | 0.036432 |
Blacks2012 | -24 |
BlendingOpacity | 0.0 |
BlendWithEV | -1.0 |
BlueHue | 0 |
BlueSaturation | 0 |
Brightness | 1.3 |
BrightnessIndividualColors | 0.0,0.0,0.0,0.0,0.0,0.0,0.0,0.0 |
By-line | Mikkel Nordbaek |
CameraProfile | Embedded |
CircleOfConfusion | 0.028 mm |
Clarity2012 | +47 |
ColorComponents | 3 |
ColorNoiseReduction | 0 |
ColorSpace | sRGB |
ColorTemperature | 1.9 |
Contrast2012 | +7 |
ConvertToGrayscale | False |
Copyright | Mikkel Nordbaek |
CopyrightNotice | Mikkel Nordbaek |
CreateDate (1) | 2017:07:31 19:57:17.23 |
CreateDate | 2017:07:31 19:57:17 |
Creator | Mikkel Nordbaek |
CreatorTool | Adobe Photoshop Lightroom 6.6.1 (Windows) |
CropAngle | 1.719 |
CropBottom | 0.875622 |
CropConstrainToWarp | 0 |
CropLeft | 0.016037 |
CropRight | 0.961607 |
CropTop | 0.03079 |
CustomRendered | Normal |
DateCreated (1) | 2017:07:31 19:57:17.23 |
DateCreated | 2017:07:31 |
DateTimeOriginal | 2017:07:31 19:57:17 |
DefringeGreenAmount | 0 |
DefringeGreenHueHi | 60 |
DefringeGreenHueLo | 40 |
DefringePurpleAmount | 0 |
DefringePurpleHueHi | 70 |
DefringePurpleHueLo | 30 |
Dehaze | 0 |
DetailContrast | 8.1 |
DOF | inf (4.52 m - inf) |
ExifImageHeight | 2925 |
ExifImageWidth | 5264 |
Exposure2012 | +0.07 |
ExposureCompensation | 0 |
ExposureMode | Manual |
ExposureProgram | Manual |
ExposureTime | 1/125 |
Firmware | 1.1.6 |
Flash | Off, Did not fire |
FlashCompensation | 0 |
FNumber | 11.0 |
FocalLength | 37.0 mm |
FocalLength35efl | 37.0 mm (35 mm equivalent: 40.4 mm) |
Format | image/jpeg |
FOV | 48.0 deg |
GradientBasedCorrActive | true |
GradientBasedCorrAmount | 1.000000 |
GradientBasedCorrBrightness | 0.000000 |
GradientBasedCorrClarity2012 | 0.000000 |
GradientBasedCorrContrast2012 | 0.000000 |
GradientBasedCorrDefringe | 0.000000 |
GradientBasedCorrExposure2012 | -0.147000 |
GradientBasedCorrHighlights2012 | 0.000000 |
GradientBasedCorrHue | 240.000000 |
GradientBasedCorrLocalBlacks2012 | 0.000000 |
GradientBasedCorrLocalDehaze | 0.000000 |
GradientBasedCorrLocalWhites2012 | 0.000000 |
GradientBasedCorrLuminanceNoise | 0.000000 |
GradientBasedCorrMaskFullX | 0.391301 |
GradientBasedCorrMaskFullY | 0.868476 |
GradientBasedCorrMaskValue | 1.000000 |
GradientBasedCorrMaskWhat | Mask/Gradient |
GradientBasedCorrMaskZeroX | 0.456316 |
GradientBasedCorrMaskZeroY | 0.397451 |
GradientBasedCorrMoire | 0.000000 |
GradientBasedCorrSaturation | 0.000000 |
GradientBasedCorrShadows2012 | 0.000000 |
GradientBasedCorrSharpness | 0.000000 |
GradientBasedCorrTemperature | -0.058820 |
GradientBasedCorrTint | 0.000000 |
GradientBasedCorrWhat | Correction |
GrainAmount | 0 |
GreenHue | 0 |
GreenSaturation | 0 |
HasCrop | True |
HasSettings | True |
Highlights2012 | -100 |
HighlightsSmoothing | 86.0 |
HueAdjustmentAqua | 0 |
HueAdjustmentBlue | 0 |
HueAdjustmentGreen | 0 |
HueAdjustmentMagenta | 0 |
HueAdjustmentOrange | -17 |
HueAdjustmentPurple | 0 |
HueAdjustmentRed | 0 |
HueAdjustmentYellow | 0 |
HyperfocalDistance | 4.52 m |
ImageHeight | 2925 |
ImageNumber | 0 |
ImageSize | 5264x2925 |
ImageWidth | 5264 |
IncrementalTemperature | 0 |
IncrementalTint | 0 |
ISO | 100 |
IsPano360 | No |
Lens | EF17-40mm f/4L USM |
LensID (1) | 231 |
LensID | Canon EF 17-40mm f/4L USM |
LensInfo | 17-40mm f/? |
LensManualDistortionAmount | 0 |
LensModel | EF17-40mm f/4L USM |
LensProfileChromaticAberrationScale | 100 |
LensProfileDistortionScale | 100 |
LensProfileEnable | 1 |
LensProfileFilename | Canon EOS-1Ds Mark III (Canon EF 17-40mm f4 L USM).lcp |
LensProfileName | Adobe (Canon EF 17-40mm f/4 L USM) |
LensProfileSetup | LensDefaults |
LensProfileVignettingScale | 100 |
LensSerialNumber | 0000000000 |
LightValue | 13.9 |
LuminanceAdjustmentAqua | 0 |
LuminanceAdjustmentBlue | -6 |
LuminanceAdjustmentGreen | 0 |
LuminanceAdjustmentMagenta | 0 |
LuminanceAdjustmentOrange | -8 |
LuminanceAdjustmentPurple | 0 |
LuminanceAdjustmentRed | 0 |
LuminanceAdjustmentYellow | -8 |
LuminanceNoiseReductionContrast | 0 |
LuminanceNoiseReductionDetail | 50 |
LuminanceSmoothing | 11 |
Make | Canon |
MaxApertureValue | 4.0 |
Megapixels | 15.4 |
MeteringMode | Multi-segment |
Method | Details Enhancer |
Microsmoothing | 16.8 |
Model | Canon EOS 6D |
ModifyDate (1) | 2017:08:17 20:33:58+02:00 |
ModifyDate | 2017:08:17 20:33:58 |
PaintCorrectionActive | true |
PaintCorrectionAmount | 1.000000 |
PaintCorrectionBrightness | 0.000000 |
PaintCorrectionClarity2012 | 0.176470 |
PaintCorrectionContrast2012 | 0.000000 |
PaintCorrectionDefringe | 0.000000 |
PaintCorrectionExposure2012 | 0.000000 |
PaintCorrectionHighlights2012 | 0.000000 |
PaintCorrectionHue | 240.000000 |
PaintCorrectionLocalBlacks2012 | 0.000000 |
PaintCorrectionLocalDehaze | 0.000000 |
PaintCorrectionLocalWhites2012 | 0.000000 |
PaintCorrectionLuminanceNoise | 0.000000 |
PaintCorrectionMaskCenterWeight | 0.000000 |
PaintCorrectionMaskFlow | 1.000000 |
PaintCorrectionMaskRadius (1) | 0.097769 |
PaintCorrectionMaskRadius (2) | 0.097181 |
PaintCorrectionMaskRadius (3) | 0.072032 |
PaintCorrectionMaskRadius (4) | 0.042823 |
PaintCorrectionMaskRadius | 0.060095 |
PaintCorrectionMaskValue | 1.000000 |
PaintCorrectionMaskWhat | Mask/Paint |
PaintCorrectionMoire | 0.000000 |
PaintCorrectionSaturation | 0.000000 |
PaintCorrectionShadows2012 | 0.000000 |
PaintCorrectionSharpness | 0.000000 |
PaintCorrectionTemperature | 0.000000 |
PaintCorrectionTint | 0.220590 |
PaintCorrectionWhat | Correction |
ParametricDarks | 0 |
ParametricHighlights | +13 |
ParametricHighlightSplit | 75 |
ParametricLights | +10 |
ParametricMidtoneSplit | 50 |
ParametricShadows | 0 |
ParametricShadowSplit | 25 |
PerspectiveAspect | 0 |
PerspectiveHorizontal | 0 |
PerspectiveRotate | 0.0 |
PerspectiveScale | 100 |
PerspectiveUpright | 1 |
PerspectiveVertical | 0 |
PerspectiveX | 0.00 |
PerspectiveY | 0.00 |
PostCropVignetteAmount | 0 |
ProcessVersion | 6.7 |
ProfileDescription | sRGB IEC61966-2.1 |
RecommendedExposureIndex | 100 |
RedHue | 0 |
RedSaturation | 0 |
Rights | Mikkel Nordbaek |
Saturation (1) | +10 |
Saturation | 2.8 |
SaturationAdjustmentAqua | 0 |
SaturationAdjustmentBlue | +24 |
SaturationAdjustmentGreen | 0 |
SaturationAdjustmentMagenta | 0 |
SaturationAdjustmentOrange | +30 |
SaturationAdjustmentPurple | 0 |
SaturationAdjustmentRed | +20 |
SaturationAdjustmentYellow | +7 |
SaturationHighlights | 7.9 |
SaturationIndividualColors | 0.0,0.0,0.0,0.0,0.0,0.0,0.0,0.0 |
SaturationShadows | 7.1 |
ScaleFactor35efl | 1.1 |
SceneCaptureType | Standard |
SensitivityType | Recommended Exposure Index |
SerialNumber | 023052000141 |
Shadows2012 | +37 |
ShadowsClipping | 0.0 |
ShadowsSmoothing | 59.0 |
ShadowTint | 0 |
SharpenDetail | 25 |
SharpenEdgeMasking | 33 |
SharpenRadius | +1.0 |
Sharpness | 56 |
ShutterSpeed | 1/125 |
ShutterSpeedValue | 1/125 |
Smoothing | 0.0 |
SmoothingMode | Slider |
Software | Adobe Photoshop Lightroom 6.6.1 (Windows) |
SplitToningBalance | 0 |
SplitToningHighlightHue | 11 |
SplitToningHighlightSaturation | 24 |
SplitToningShadowHue | 226 |
SplitToningShadowSaturation | 2 |
Strength | 88.0 |
TemperatureIndividualColors | 0.0,0.0,0.0,0.0,0.0,0.0,0.0,0.0 |
ToneCompression | 8.5 |
ToneCurve | 0, 0, 255, 255 |
ToneCurveBlue | 0, 0, 255, 255 |
ToneCurveGreen | 0, 0, 255, 255 |
ToneCurveName | Linear |
ToneCurveName2012 | Custom |
ToneCurvePV2012 | 0, 0, 57, 57, 121, 135, 182, 207, 255, 255 |
ToneCurvePV2012Blue | 0, 0, 255, 255 |
ToneCurvePV2012Green | 0, 0, 255, 255 |
ToneCurvePV2012Red | 0, 0, 255, 255 |
ToneCurveRed | 0, 0, 255, 255 |
ToneMapStrength | 0 |
Version (1) | 6.0 |
Version | 9.6 |
Vibrance | +35 |
VignetteAmount | 0 |
WhiteBalance (1) | Custom |
WhiteBalance | Auto |
WhiteClip | 0.024199 |
Whites2012 | +37 |