Felt | Verdi |
AlreadyApplied | True |
Aperture | 6.3 |
ApertureValue | 6.3 |
ApproximateFocusDistance | 1.12 |
Artist | SiTron Photography |
AuthorsPosition | Photography |
AutoLateralCA | 0 |
AutoWhiteVersion | 134348800 |
BitsPerSample | 8 |
Blacks2012 | 0 |
BlueHue | 0 |
BlueSaturation | 0 |
By-line | SiTron Photography |
By-lineTitle | Photography |
CameraProfile | Embedded |
CircGradBasedCorrActive | true |
CircGradBasedCorrAmount | 1.000000 |
CircGradBasedCorrBrightness | 0.000000 |
CircGradBasedCorrClarity2012 | 0.000000 |
CircGradBasedCorrContrast2012 | -1.000000 |
CircGradBasedCorrDefringe | 0.000000 |
CircGradBasedCorrExposure2012 (1) | 0.210175 |
CircGradBasedCorrExposure2012 | 0.104516 |
CircGradBasedCorrHighlights2012 | 0.009623 |
CircGradBasedCorrHue | 0.000000 |
CircGradBasedCorrLocalBlacks2012 | -0.054592 |
CircGradBasedCorrLocalDehaze | 0.000000 |
CircGradBasedCorrLocalWhites2012 | 0.231898 |
CircGradBasedCorrLuminanceNoise | 0.000000 |
CircGradBasedCorrMaskAngle | -0.252885 |
CircGradBasedCorrMaskBottom (1) | 0.268687 |
CircGradBasedCorrMaskBottom | 0.280809 |
CircGradBasedCorrMaskFeather | +63 |
CircGradBasedCorrMaskFlipped | true |
CircGradBasedCorrMaskLeft (1) | 0.516345 |
CircGradBasedCorrMaskLeft | 0.377619 |
CircGradBasedCorrMaskMidpoint | +50 |
CircGradBasedCorrMaskRight (1) | 0.542533 |
CircGradBasedCorrMaskRight | 0.403807 |
CircGradBasedCorrMaskRoundness | 0 |
CircGradBasedCorrMaskTop (1) | 0.248920 |
CircGradBasedCorrMaskTop | 0.261042 |
CircGradBasedCorrMaskValue | 1.000000 |
CircGradBasedCorrMaskVersion | +2 |
CircGradBasedCorrMaskWhat | Mask/CircularGradient |
CircGradBasedCorrMoire | 0.000000 |
CircGradBasedCorrSaturation | 0.000000 |
CircGradBasedCorrShadows2012 | 0.403296 |
CircGradBasedCorrSharpness | 0.000000 |
CircGradBasedCorrTemperature | 0.000000 |
CircGradBasedCorrTint | 0.000000 |
CircGradBasedCorrWhat | Correction |
CircleOfConfusion | 0.030 mm |
City | New York |
Clarity2012 | -48 |
ColorComponents | 3 |
ColorNoiseReduction | 0 |
ColorSpace | sRGB |
ColorTransform | YCbCr |
Contrast | Normal |
Contrast2012 | 0 |
ConvertToGrayscale | False |
Copyright | Kamizoom Studios |
CopyrightFlag | True |
CopyrightNotice | Kamizoom Studios |
Country | United States |
Country-PrimaryLocationCode | US |
Country-PrimaryLocationName | United States |
CountryCode | US |
CreateDate | 2017:07:26 19:29:36 |
Creator | SiTron Photography |
CreatorAddress | Tjødnavegen 19 |
CreatorCity | Straume |
CreatorCountry | Norway |
CreatorPostalCode | 5354 |
CreatorRegion | Bergen |
CreatorTool | Adobe Photoshop Lightroom 6.9 (Macintosh) |
CreatorWorkEmail | kamizoom_studios@gmail.com |
CreatorWorkTelephone | 45266227 |
CreatorWorkURL | kamizoom.com |
CropAngle | -0.252885 |
CropBottom | 0.881054 |
CropConstrainToWarp | 0 |
CropLeft | 0.018492 |
CropRight | 0.976752 |
CropTop | 0.003611 |
CustomRendered | Normal |
DateCreated (1) | 2017:07:26 |
DateCreated | 2017:07:26 19:29:36.058 |
DateTimeOriginal | 2017:07:26 19:29:36 |
DefringeGreenAmount | 0 |
DefringeGreenHueHi | 60 |
DefringeGreenHueLo | 40 |
DefringePurpleAmount | 0 |
DefringePurpleHueHi | 70 |
DefringePurpleHueLo | 30 |
Dehaze | 0 |
DigitalZoomRatio | 1 |
DOF | 0.18 m (1.04 - 1.22 m) |
Exposure2012 | -0.15 |
ExposureCompensation | 0 |
ExposureMode | Manual |
ExposureProgram | Manual |
ExposureTime | 1/250 |
Flash | On, Return not detected |
FNumber | 6.3 |
FocalLength | 50.0 mm |
FocalLength35efl | 50.0 mm (35 mm equivalent: 50.0 mm) |
FocalLengthIn35mmFormat | 50 mm |
Format | image/jpeg |
FOV | 39.6 deg |
GainControl | None |
GPSLatitude (1) | 40 deg 51' 15.00" |
GPSLatitude | 40 deg 51' 15.00" N |
GPSLatitudeRef | North |
GPSLongitude (1) | 73 deg 54' 35.00" |
GPSLongitude | 73 deg 54' 35.00" W |
GPSLongitudeRef | West |
GPSPosition | 40 deg 51' 15.00" N, 73 deg 54' 35.00" W |
GPSVersionID | 2.2.0.0 |
GrainAmount | 0 |
GreenHue | 0 |
GreenSaturation | 0 |
HasCrop | True |
HasSettings | True |
Highlights2012 | 0 |
HueAdjustmentAqua | 0 |
HueAdjustmentBlue | 0 |
HueAdjustmentGreen | 0 |
HueAdjustmentMagenta | 0 |
HueAdjustmentOrange | 0 |
HueAdjustmentPurple | 0 |
HueAdjustmentRed | 0 |
HueAdjustmentYellow | 0 |
HyperfocalDistance | 13.21 m |
ImageHeight | 2500 |
ImageNumber | 8641 |
ImageSize | 2322x2500 |
ImageWidth | 2322 |
IncrementalTemperature | 0 |
IncrementalTint | 0 |
ISO | 100 |
Keywords | 500px, Colombian, Lightroom, New York, Photo Studio, Sigma Art, Sitron, Yoanna Fandino, adult, alone, amazing, babe, badgirl, balck, beautiful, boobs, caliente, eyes, girl, glamour, hot, latino, lingerie, love, lovely, mackup, model, people, percing, photooftheday, photoshots, playboy, portrait, s sweet, sexy, she, true, wet, white, yoyofandino |
Lens | 50.0 mm f/1.4 |
LensID (1) | 136 |
LensID | Sigma 50mm F1.4 DG HSM | A |
LensInfo | 50mm f/1.4 |
LensManualDistortionAmount | 0 |
LensModel | 50.0 mm f/1.4 |
LensProfileChromaticAberrationScale | 100 |
LensProfileDistortionScale | 100 |
LensProfileEnable | 0 |
LensProfileFilename | NIKON D3X (Sigma DG 12-24mm f4.5-5.6 EX HSM).lcp |
LensProfileName | Adobe (Sigma DG 12-24mm f/4.5-5.6 EX HSM) |
LensProfileSetup | Custom |
LensProfileVignettingScale | 100 |
LightSource | Unknown |
LightValue | 13.3 |
LuminanceAdjustmentAqua | 0 |
LuminanceAdjustmentBlue | 0 |
LuminanceAdjustmentGreen | 0 |
LuminanceAdjustmentMagenta | 0 |
LuminanceAdjustmentOrange | 0 |
LuminanceAdjustmentPurple | 0 |
LuminanceAdjustmentRed | 0 |
LuminanceAdjustmentYellow | 0 |
LuminanceSmoothing | 0 |
Make | NIKON CORPORATION |
Marked | True |
MaxApertureValue | 1.4 |
Megapixels | 5.8 |
MeteringMode | Multi-segment |
Model | NIKON D810A |
ModifyDate (1) | 2017:07:30 16:35:09+02:00 |
ModifyDate | 2017:07:30 16:35:09 |
PaintCorrectionActive | true |
PaintCorrectionAmount | 1.000000 |
PaintCorrectionBrightness | 0.000000 |
PaintCorrectionClarity2012 | 0.003716 |
PaintCorrectionContrast2012 | 0.064405 |
PaintCorrectionDefringe | 0.000000 |
PaintCorrectionExposure2012 | 0.077172 |
PaintCorrectionHighlights2012 | 0.025915 |
PaintCorrectionHue | 0.000000 |
PaintCorrectionLocalBlacks2012 | 0.000000 |
PaintCorrectionLocalDehaze | 0.000000 |
PaintCorrectionLocalWhites2012 | 0.720846 |
PaintCorrectionLuminanceNoise | 0.000000 |
PaintCorrectionMaskCenterWeight (1) | 0.189118 |
PaintCorrectionMaskCenterWeight | 0.000000 |
PaintCorrectionMaskFlow (1) | 0.799735 |
PaintCorrectionMaskFlow | 1.000000 |
PaintCorrectionMaskRadius (1) | 0.007087 |
PaintCorrectionMaskRadius | 0.007014 |
PaintCorrectionMaskValue (1) | 1.000000 |
PaintCorrectionMaskValue | 0.000000 |
PaintCorrectionMaskWhat | Mask/Paint |
PaintCorrectionMoire | 0.000000 |
PaintCorrectionSaturation (1) | -0.431212 |
PaintCorrectionSaturation | 0.000000 |
PaintCorrectionShadows2012 | 0.000000 |
PaintCorrectionSharpness | 0.000000 |
PaintCorrectionTemperature | 0.000000 |
PaintCorrectionTint | 0.000000 |
PaintCorrectionWhat | Correction |
ParametricDarks | 0 |
ParametricHighlights | 0 |
ParametricHighlightSplit | 75 |
ParametricLights | 0 |
ParametricMidtoneSplit | 50 |
ParametricShadows | 0 |
ParametricShadowSplit | 25 |
PerspectiveAspect | 0 |
PerspectiveHorizontal | 0 |
PerspectiveRotate | 0.0 |
PerspectiveScale | 100 |
PerspectiveUpright | 0 |
PerspectiveVertical | 0 |
PerspectiveX | 0.00 |
PerspectiveY | 0.00 |
PostCropVignetteAmount | 0 |
ProcessVersion | 6.7 |
ProfileDescription | sRGB IEC61966-2.1 |
Province-State | New York |
Rating | 3 |
RedHue | 0 |
RedSaturation | 0 |
Rights | Kamizoom Studios |
Saturation (1) | -5 |
Saturation | Normal |
SaturationAdjustmentAqua | 0 |
SaturationAdjustmentBlue | 0 |
SaturationAdjustmentGreen | 0 |
SaturationAdjustmentMagenta | 0 |
SaturationAdjustmentOrange | 0 |
SaturationAdjustmentPurple | 0 |
SaturationAdjustmentRed | 0 |
SaturationAdjustmentYellow | 0 |
ScaleFactor35efl | 1.0 |
SceneCaptureType | Portrait |
SceneType | Directly photographed |
SensingMethod | One-chip color area |
SensitivityType | Recommended Exposure Index |
SerialNumber | 6000593 |
Shadows2012 | 0 |
ShadowTint | 0 |
SharpenDetail | 25 |
SharpenEdgeMasking | 0 |
SharpenRadius | +0.5 |
Sharpness (1) | 0 |
Sharpness | Normal |
ShutterSpeed | 1/250 |
ShutterSpeedValue | 1/250 |
Software | Adobe Photoshop Lightroom 6.9 (Macintosh) |
SplitToningBalance | 0 |
SplitToningHighlightHue | 0 |
SplitToningHighlightSaturation | 0 |
SplitToningShadowHue | 0 |
SplitToningShadowSaturation | 0 |
State | New York |
Subject | 500px, Colombian, Lightroom, New York, Photo Studio, Sigma Art, Sitron, Yoanna Fandino, adult, alone, amazing, babe, badgirl, balck, beautiful, boobs, caliente, eyes, girl, glamour, hot, latino, lingerie, love, lovely, mackup, model, people, percing, photooftheday, photoshots, playboy, portrait, s sweet, sexy, she, true, wet, white, yoyofandino |
SubjectDistanceRange | Unknown |
ToneCurve | 0, 0, 255, 255 |
ToneCurveBlue | 0, 0, 255, 255 |
ToneCurveGreen | 0, 0, 255, 255 |
ToneCurveName | Linear |
ToneCurveName2012 | Linear |
ToneCurvePV2012 | 0, 0, 255, 255 |
ToneCurvePV2012Blue | 0, 0, 255, 255 |
ToneCurvePV2012Green | 0, 0, 255, 255 |
ToneCurvePV2012Red | 0, 0, 255, 255 |
ToneCurveRed | 0, 0, 255, 255 |
ToneMapStrength | 0 |
Version | 9.9 |
Vibrance | +6 |
VignetteAmount | 0 |
WhiteBalance (1) | As Shot |
WhiteBalance | Auto |
Whites2012 | 0 |