Felt | Verdi |
AlreadyApplied | True |
Aperture | 9.0 |
ApertureValue | 9.0 |
Artist | 373051003880 |
AutoLateralCA | 1 |
AutoWhiteVersion | 134348800 |
BitsPerSample | 8 |
Blacks2012 | +21 |
BlueHue | 0 |
BlueSaturation | 0 |
By-line | 373051003880 |
CameraProfile | Embedded |
CircleOfConfusion | 0.030 mm |
Clarity2012 | -29 |
ColorComponents | 3 |
ColorNoiseReduction | 15 |
ColorNoiseReductionDetail | 50 |
ColorNoiseReductionSmoothness | 50 |
ColorSpace | sRGB |
ColorTransform | YCbCr |
Contrast2012 | +15 |
ConvertToGrayscale | False |
CreateDate | 2017:07:11 11:55:28 |
Creator | 373051003880 |
CreatorTool | Adobe Photoshop Lightroom 5.7.1 (Macintosh) |
CropAngle | 0 |
CropBottom | 1 |
CropConstrainToWarp | 0 |
CropLeft | 0 |
CropRight | 1 |
CropTop | 0.085058 |
CustomRendered | Normal |
DateCreated (1) | 2017:07:11 |
DateCreated | 2017:07:11 11:55:28 |
DateTimeOriginal | 2017:07:11 11:55:28 |
DefringeGreenAmount | 0 |
DefringeGreenHueHi | 60 |
DefringeGreenHueLo | 40 |
DefringePurpleAmount | 0 |
DefringePurpleHueHi | 70 |
DefringePurpleHueLo | 30 |
Exposure2012 | +0.30 |
ExposureCompensation | 0 |
ExposureMode | Manual |
ExposureProgram | Manual |
ExposureTime | 1/200 |
Firmware | Firmware Version 1.1.6 |
Flash | Off, Did not fire |
FlashCompensation | 0 |
FNumber | 9.0 |
FocalLength | 24.0 mm |
FocalLength35efl | 24.0 mm (35 mm equivalent: 24.3 mm) |
Format | image/jpeg |
FOV | 73.0 deg |
GradientBasedCorrActive | true |
GradientBasedCorrAmount | 1.000000 |
GradientBasedCorrBrightness | 0.000000 |
GradientBasedCorrClarity2012 | -0.240256 |
GradientBasedCorrContrast2012 | 0.085850 |
GradientBasedCorrDefringe | -0.000878 |
GradientBasedCorrExposure2012 | -0.153617 |
GradientBasedCorrHighlights2012 | -0.210762 |
GradientBasedCorrHue | 230.000000 |
GradientBasedCorrLuminanceNoise | 0.000000 |
GradientBasedCorrMaskFullX | 0.513667 |
GradientBasedCorrMaskFullY | 0.267201 |
GradientBasedCorrMaskValue | 1.000000 |
GradientBasedCorrMaskWhat | Mask/Gradient |
GradientBasedCorrMaskZeroX | 0.514725 |
GradientBasedCorrMaskZeroY | 0.548826 |
GradientBasedCorrMoire | 0.000000 |
GradientBasedCorrSaturation (1) | 0.086640 |
GradientBasedCorrSaturation | 0.092126 |
GradientBasedCorrShadows2012 | 0.200053 |
GradientBasedCorrSharpness | 0.071103 |
GradientBasedCorrTemperature | 0.001931 |
GradientBasedCorrTint | 0.000000 |
GradientBasedCorrWhat | Correction |
GrainAmount | 0 |
GreenHue | 0 |
GreenSaturation | 0 |
HasCrop | True |
HasSettings | True |
Highlights2012 | -25 |
HueAdjustmentAqua | 0 |
HueAdjustmentBlue | 0 |
HueAdjustmentGreen | 0 |
HueAdjustmentMagenta | 0 |
HueAdjustmentOrange | 0 |
HueAdjustmentPurple | 0 |
HueAdjustmentRed | 0 |
HueAdjustmentYellow | 0 |
HyperfocalDistance | 2.16 m |
ImageHeight | 3338 |
ImageSize | 5472x3338 |
ImageWidth | 5472 |
IncrementalTemperature | 0 |
IncrementalTint | 0 |
ISO | 250 |
Lens | Canon EF 24-70mm f/2.8L II USM |
LensID (1) | 495 |
LensID | Canon EF 24-70mm f/2.8L II USM |
LensInfo | 24-70mm f/? |
LensManualDistortionAmount | 0 |
LensModel | Canon EF 24-70mm f/2.8L II USM |
LensProfileChromaticAberrationScale | 100 |
LensProfileDistortionScale | 100 |
LensProfileEnable | 1 |
LensProfileFilename | Canon EOS-1Ds Mark III (Canon EF 24-70mm f2.8 L USM).lcp |
LensProfileName | Adobe (Canon EF 24-70mm f/2.8 L USM) |
LensProfileSetup | Custom |
LensProfileVignettingScale | 100 |
LensSerialNumber | 3630000901 |
LightValue | 12.7 |
LuminanceAdjustmentAqua | +2 |
LuminanceAdjustmentBlue | -24 |
LuminanceAdjustmentGreen | +18 |
LuminanceAdjustmentMagenta | 0 |
LuminanceAdjustmentOrange | +13 |
LuminanceAdjustmentPurple | +8 |
LuminanceAdjustmentRed | +10 |
LuminanceAdjustmentYellow | +27 |
LuminanceNoiseReductionContrast | 17 |
LuminanceNoiseReductionDetail | 50 |
LuminanceSmoothing | 15 |
Make | Canon |
MaxApertureValue | 2.7 |
Megapixels | 18.3 |
MeteringMode | Multi-segment |
Model | Canon EOS 6D |
ModifyDate (1) | 2017:07:13 22:28:40+02:00 |
ModifyDate | 2017:07:13 22:28:40 |
OwnerName | 373051003880 |
ParametricDarks | +18 |
ParametricHighlights | -8 |
ParametricHighlightSplit | 75 |
ParametricLights | +7 |
ParametricMidtoneSplit | 50 |
ParametricShadows | -7 |
ParametricShadowSplit | 25 |
PerspectiveAspect | 0 |
PerspectiveHorizontal | 0 |
PerspectiveRotate | 0.0 |
PerspectiveScale | 100 |
PerspectiveUpright | 1 |
PerspectiveVertical | 0 |
PostCropVignetteAmount | 0 |
ProcessVersion | 6.7 |
ProfileDescription | sRGB IEC61966-2.1 |
RedHue | 0 |
RedSaturation | 0 |
Saturation | 0 |
SaturationAdjustmentAqua | +25 |
SaturationAdjustmentBlue | +22 |
SaturationAdjustmentGreen | +20 |
SaturationAdjustmentMagenta | 0 |
SaturationAdjustmentOrange | +39 |
SaturationAdjustmentPurple | +8 |
SaturationAdjustmentRed | +32 |
SaturationAdjustmentYellow | +29 |
ScaleFactor35efl | 1.0 |
SceneCaptureType | Standard |
SerialNumber | 373051003880 |
Shadows2012 | +25 |
ShadowTint | 0 |
SharpenDetail | 70 |
SharpenEdgeMasking | 0 |
SharpenRadius | +1.0 |
Sharpness | 98 |
ShutterSpeed | 1/200 |
ShutterSpeedValue | 1/200 |
Software | Adobe Photoshop Lightroom 5.7.1 (Macintosh) |
SplitToningBalance | 0 |
SplitToningHighlightHue | 0 |
SplitToningHighlightSaturation | 0 |
SplitToningShadowHue | 0 |
SplitToningShadowSaturation | 0 |
ToneCurve | 0, 0, 255, 255 |
ToneCurveBlue | 0, 0, 255, 255 |
ToneCurveGreen | 0, 0, 255, 255 |
ToneCurveName | Linear |
ToneCurveName2012 | Custom |
ToneCurvePV2012 | 0, 0, 78, 72, 141, 130, 187, 183, 255, 255 |
ToneCurvePV2012Blue | 0, 0, 255, 255 |
ToneCurvePV2012Green | 0, 0, 255, 255 |
ToneCurvePV2012Red | 0, 0, 255, 255 |
ToneCurveRed | 0, 0, 255, 255 |
Version | 8.7.1 |
Vibrance | 0 |
VignetteAmount | 0 |
WhiteBalance (1) | As Shot |
WhiteBalance | Auto |
Whites2012 | +14 |