Felt | Verdi |
AlreadyApplied | True |
Aperture | 5.0 |
ApertureValue | 5.0 |
ApproximateFocusDistance | 3.34 |
Artist | Nora Olsen |
AuthorsPosition | Gamlefar i vintersne |
AutoLateralCA | 1 |
AutoWhiteVersion | 134348800 |
BitsPerSample | 8 |
Blacks2012 | -62 |
BlueHue | 0 |
BlueSaturation | 0 |
By-line | Nora Olsen |
By-lineTitle | Gamlefar i vintersne |
CameraProfile | Adobe Standard |
CircleOfConfusion | 0.030 mm |
Clarity2012 | +38 |
ColorComponents | 1 |
ColorMode | Grayscale |
ColorNoiseReduction | 25 |
ColorNoiseReductionDetail | 50 |
ColorNoiseReductionSmoothness | 50 |
ColorSpace | Uncalibrated |
ColorTemperature | 5900 |
ColorTransform | Unknown (RGB or CMYK) |
Contrast2012 | +33 |
ConvertToGrayscale | True |
Copyright | (C) Ikke til kommersielt bruk |
CopyrightFlag | True |
CopyrightNotice | (C) Ikke til kommersielt bruk |
Country | Norge |
Country-PrimaryLocationName | Norge |
CreateDate | 2016:04:14 13:48:41 |
Creator | Nora Olsen |
CreatorCountry | Norge |
CreatorWorkEmail | nora.olsen@lyse.net |
CreatorWorkURL | https://www.facebook.com/fotografNoraO/ |
Credit | |
CustomRendered | Normal |
DateCreated (1) | 2016:04:14 |
DateCreated | 2016:04:14 13:48:41.027 |
DateTimeOriginal | 2016:04:14 13:48:41 |
Dehaze | 0 |
DOF | 0.12 m (3.28 - 3.40 m) |
ExifImageHeight | 3648 |
ExifImageWidth | 5472 |
Exposure2012 | +0.05 |
ExposureCompensation | 0 |
ExposureMode | Manual |
ExposureProgram | Manual |
ExposureTime | 1/1600 |
Firmware | 1.1.6 |
Flash | Off, Did not fire |
FlashCompensation | 0 |
FNumber | 5.0 |
FocalLength | 161.0 mm |
FocalLength35efl | 161.0 mm (35 mm equivalent: 161.0 mm) |
Format | image/jpeg |
FOV | 12.8 deg |
GrainAmount | 0 |
GrayMixerAqua | +3 |
GrayMixerBlue | +38 |
GrayMixerGreen | +17 |
GrayMixerMagenta | +3 |
GrayMixerOrange | +23 |
GrayMixerPurple | +1 |
GrayMixerRed | +12 |
GrayMixerYellow | +19 |
GreenHue | 0 |
GreenSaturation | 0 |
HasCrop | False |
HasSettings | True |
Headline | Gamlefar i vintersne |
Highlights2012 | -100 |
HyperfocalDistance | 172.54 m |
ICCProfileName | Gray Gamma 2.2 |
ImageHeight | 3648 |
ImageNumber | 0 |
ImageSize | 5472x3648 |
ImageWidth | 5472 |
Instructions | Full copyright |
ISO | 640 |
Keywords | gamlefar, hund, vinter, påske, snø, robin, nora, fotogarfi |
LateralChromaticAberrationCorrectionAlreadyApplied | True |
Lens | 70-300mm |
LensID (1) | 156 |
LensID | Tamron SP 70-300mm f/4-5.6 Di VC USD (A005) |
LensInfo | 70-300mm f/? |
LensManualDistortionAmount | 0 |
LensModel | 70-300mm |
LensProfileChromaticAberrationScale | 100 |
LensProfileDistortionScale | 100 |
LensProfileEnable | 0 |
LensProfileFilename | Canon (TAMRON 70-300mm F4-5.6 Di A17E) - RAW.lcp |
LensProfileName | Adobe (TAMRON 70-300mm F/4-5.6 Di A17E, Canon) |
LensProfileSetup | Custom |
LensProfileVignettingScale | 100 |
LensSerialNumber | 0000000000 |
LightValue | 12.6 |
LuminanceSmoothing | 0 |
Make | Canon |
Marked | True |
MaxApertureValue | 4.8 |
Megapixels | 20.0 |
MeteringMode | Spot |
Model | Canon EOS 6D |
ModifyDate (1) | 2017:04:18 14:55:45+02:00 |
ModifyDate | 2017:04:18 14:55:45 |
Orientation | Horizontal (normal) |
ParametricDarks | +3 |
ParametricHighlights | +11 |
ParametricHighlightSplit | 75 |
ParametricLights | -22 |
ParametricMidtoneSplit | 50 |
ParametricShadows | 0 |
ParametricShadowSplit | 25 |
PatientSex | female |
PerspectiveAspect | 0 |
PerspectiveHorizontal | 0 |
PerspectiveRotate | 0.0 |
PerspectiveScale | 100 |
PerspectiveUpright | 0 |
PerspectiveVertical | 0 |
PerspectiveX | 0.00 |
PerspectiveY | 0.00 |
PostCropVignetteAmount | 0 |
ProcessVersion | 6.7 |
ProfileDescription | Gray Gamma 2.2 |
Rating | 5 |
RawFileName | Sætra_17_0729.CR2 |
RecommendedExposureIndex | 640 |
RedHue | 0 |
RedSaturation | 0 |
Rights | (C) Ikke til kommersielt bruk |
ScaleFactor35efl | 1.0 |
SceneCaptureType | Standard |
SensitivityType | Recommended Exposure Index |
SerialNumber | 413051003252 |
Shadows2012 | +32 |
ShadowTint | 0 |
SharpenDetail | 25 |
SharpenEdgeMasking | 0 |
SharpenRadius | +1.0 |
Sharpness | 25 |
ShutterSpeed | 1/1600 |
ShutterSpeedValue | 1/1600 |
Software | Adobe Photoshop CC 2015.5 (Windows) |
SpecialInstructions | Full copyright |
SplitToningBalance | 0 |
SplitToningHighlightHue | 0 |
SplitToningHighlightSaturation | 0 |
SplitToningShadowHue | 0 |
SplitToningShadowSaturation | 0 |
Subject | gamlefar, hund, vinter, påske, snø, robin, nora, fotogarfi |
Tint | +8 |
ToneCurve | 0, 0, 32, 22, 64, 56, 128, 128, 192, 196, 255, 255 |
ToneCurveBlue | 0, 0, 255, 255 |
ToneCurveGreen | 0, 0, 255, 255 |
ToneCurveName | Medium Contrast |
ToneCurveName2012 | Linear |
ToneCurvePV2012 | 0, 0, 255, 255 |
ToneCurvePV2012Blue | 0, 0, 255, 255 |
ToneCurvePV2012Green | 0, 0, 255, 255 |
ToneCurvePV2012Red | 0, 0, 255, 255 |
ToneCurveRed | 0, 0, 255, 255 |
ToneMapStrength | 0 |
Urgency | 1 (most urgent) |
URL_List | |
Version | 9.7 |
VignetteAmount | 0 |
WhiteBalance (1) | As Shot |
WhiteBalance | Manual |
Whites2012 | -100 |