Felt | Verdi |
AlreadyApplied | True |
Aperture | 4.0 |
ApertureValue | 4.0 |
ApproximateFocusDistance | 4294967295 |
Artist | Mikkel Nordbaek |
AutoLateralCA | 1 |
AutoWhiteVersion | 134348800 |
BitsPerSample | 8 |
Blacks2012 | -15 |
BlueHue | 0 |
BlueSaturation | 0 |
By-line | Mikkel Nordbaek |
CameraProfile | Adobe Standard |
CircGradBasedCorrActive | true |
CircGradBasedCorrAmount | 1.000000 |
CircGradBasedCorrBrightness | 0.000000 |
CircGradBasedCorrClarity2012 (2) | 0.632350 |
CircGradBasedCorrClarity2012 (7) | 0.250000 |
CircGradBasedCorrClarity2012 (9) | 0.500000 |
CircGradBasedCorrClarity2012 | 0.411760 |
CircGradBasedCorrContrast2012 | 0.000000 |
CircGradBasedCorrDefringe | 0.000000 |
CircGradBasedCorrExposure2012 | -0.088250 |
CircGradBasedCorrHighlights2012 | 0.000000 |
CircGradBasedCorrHue (22) | 45.000000 |
CircGradBasedCorrHue | 240.000000 |
CircGradBasedCorrLocalBlacks2012 | 0.000000 |
CircGradBasedCorrLocalDehaze | 0.000000 |
CircGradBasedCorrLocalWhites2012 | 0.000000 |
CircGradBasedCorrLuminanceNoise | 0.000000 |
CircGradBasedCorrMaskAngle (23) | 15.322800 |
CircGradBasedCorrMaskAngle (3) | 5.427460 |
CircGradBasedCorrMaskAngle (5) | -1.835990 |
CircGradBasedCorrMaskAngle (7) | 3.479470 |
CircGradBasedCorrMaskAngle (8) | 6.954130 |
CircGradBasedCorrMaskAngle | 1.343000 |
CircGradBasedCorrMaskBottom (1) | 0.646211 |
CircGradBasedCorrMaskBottom (10) | 0.306151 |
CircGradBasedCorrMaskBottom (11) | 0.579346 |
CircGradBasedCorrMaskBottom (12) | 0.775123 |
CircGradBasedCorrMaskBottom (13) | 0.541675 |
CircGradBasedCorrMaskBottom (14) | 0.663462 |
CircGradBasedCorrMaskBottom (15) | 0.713029 |
CircGradBasedCorrMaskBottom (16) | 0.714863 |
CircGradBasedCorrMaskBottom (17) | 0.719414 |
CircGradBasedCorrMaskBottom (18) | 0.714565 |
CircGradBasedCorrMaskBottom (19) | 0.262411 |
CircGradBasedCorrMaskBottom (2) | 0.656490 |
CircGradBasedCorrMaskBottom (20) | 0.319711 |
CircGradBasedCorrMaskBottom (21) | 0.432858 |
CircGradBasedCorrMaskBottom (22) | 0.340421 |
CircGradBasedCorrMaskBottom (23) | 0.706387 |
CircGradBasedCorrMaskBottom (3) | 0.829292 |
CircGradBasedCorrMaskBottom (4) | 0.563408 |
CircGradBasedCorrMaskBottom (5) | 0.645841 |
CircGradBasedCorrMaskBottom (6) | 0.499923 |
CircGradBasedCorrMaskBottom (7) | 0.477001 |
CircGradBasedCorrMaskBottom (8) | 0.728780 |
CircGradBasedCorrMaskBottom (9) | 0.363472 |
CircGradBasedCorrMaskBottom | 0.720523 |
CircGradBasedCorrMaskFeather | +100 |
CircGradBasedCorrMaskFlipped | true |
CircGradBasedCorrMaskLeft (1) | 0.439676 |
CircGradBasedCorrMaskLeft (10) | 0.424725 |
CircGradBasedCorrMaskLeft (11) | 0.574586 |
CircGradBasedCorrMaskLeft (12) | 0.693088 |
CircGradBasedCorrMaskLeft (13) | 0.206958 |
CircGradBasedCorrMaskLeft (14) | 0.320127 |
CircGradBasedCorrMaskLeft (15) | 0.590556 |
CircGradBasedCorrMaskLeft (16) | 0.856819 |
CircGradBasedCorrMaskLeft (17) | 0.786754 |
CircGradBasedCorrMaskLeft (18) | 0.546654 |
CircGradBasedCorrMaskLeft (19) | 0.640692 |
CircGradBasedCorrMaskLeft (2) | 0.069862 |
CircGradBasedCorrMaskLeft (20) | 0.291710 |
CircGradBasedCorrMaskLeft (21) | 0.298500 |
CircGradBasedCorrMaskLeft (22) | 0.723354 |
CircGradBasedCorrMaskLeft (23) | 0.718318 |
CircGradBasedCorrMaskLeft (3) | 0.700732 |
CircGradBasedCorrMaskLeft (4) | 0.783811 |
CircGradBasedCorrMaskLeft (5) | 0.875596 |
CircGradBasedCorrMaskLeft (6) | 0.386160 |
CircGradBasedCorrMaskLeft (7) | 0.661135 |
CircGradBasedCorrMaskLeft (8) | 0.115698 |
CircGradBasedCorrMaskLeft (9) | 0.510317 |
CircGradBasedCorrMaskLeft | 0.816392 |
CircGradBasedCorrMaskMidpoint | +50 |
CircGradBasedCorrMaskRight (1) | 0.529602 |
CircGradBasedCorrMaskRight (10) | 0.450985 |
CircGradBasedCorrMaskRight (11) | 0.628370 |
CircGradBasedCorrMaskRight (12) | 0.760108 |
CircGradBasedCorrMaskRight (13) | 0.234121 |
CircGradBasedCorrMaskRight (14) | 0.381044 |
CircGradBasedCorrMaskRight (15) | 0.640485 |
CircGradBasedCorrMaskRight (16) | 0.921066 |
CircGradBasedCorrMaskRight (17) | 0.812789 |
CircGradBasedCorrMaskRight (18) | 0.569716 |
CircGradBasedCorrMaskRight (19) | 0.655638 |
CircGradBasedCorrMaskRight (2) | 0.115197 |
CircGradBasedCorrMaskRight (20) | 0.381576 |
CircGradBasedCorrMaskRight (21) | 0.318593 |
CircGradBasedCorrMaskRight (22) | 0.743472 |
CircGradBasedCorrMaskRight (23) | 0.722856 |
CircGradBasedCorrMaskRight (3) | 0.756381 |
CircGradBasedCorrMaskRight (4) | 0.872525 |
CircGradBasedCorrMaskRight (5) | 0.921494 |
CircGradBasedCorrMaskRight (6) | 0.451728 |
CircGradBasedCorrMaskRight (7) | 0.687590 |
CircGradBasedCorrMaskRight (8) | 0.233321 |
CircGradBasedCorrMaskRight (9) | 0.658684 |
CircGradBasedCorrMaskRight | 0.839385 |
CircGradBasedCorrMaskRoundness | 0 |
CircGradBasedCorrMaskTop (1) | 0.450602 |
CircGradBasedCorrMaskTop (10) | 0.281248 |
CircGradBasedCorrMaskTop (11) | 0.480648 |
CircGradBasedCorrMaskTop (12) | 0.726056 |
CircGradBasedCorrMaskTop (13) | 0.449562 |
CircGradBasedCorrMaskTop (14) | 0.658501 |
CircGradBasedCorrMaskTop (15) | 0.624523 |
CircGradBasedCorrMaskTop (16) | 0.638003 |
CircGradBasedCorrMaskTop (17) | 0.666115 |
CircGradBasedCorrMaskTop (18) | 0.626343 |
CircGradBasedCorrMaskTop (19) | 0.225679 |
CircGradBasedCorrMaskTop (2) | 0.519060 |
CircGradBasedCorrMaskTop (20) | 0.277004 |
CircGradBasedCorrMaskTop (21) | 0.395755 |
CircGradBasedCorrMaskTop (22) | 0.303502 |
CircGradBasedCorrMaskTop (23) | 0.581308 |
CircGradBasedCorrMaskTop (3) | 0.273749 |
CircGradBasedCorrMaskTop (4) | 0.496244 |
CircGradBasedCorrMaskTop (5) | 0.464155 |
CircGradBasedCorrMaskTop (6) | 0.450635 |
CircGradBasedCorrMaskTop (7) | 0.377804 |
CircGradBasedCorrMaskTop (8) | 0.662152 |
CircGradBasedCorrMaskTop (9) | 0.279887 |
CircGradBasedCorrMaskTop | 0.552805 |
CircGradBasedCorrMaskValue | 1.000000 |
CircGradBasedCorrMaskVersion | +2 |
CircGradBasedCorrMoire | 0.000000 |
CircGradBasedCorrSaturation (44) | 0.820000 |
CircGradBasedCorrSaturation | 0.000000 |
CircGradBasedCorrShadows2012 | 0.000000 |
CircGradBasedCorrSharpness (11) | 0.352940 |
CircGradBasedCorrSharpness (2) | 0.500000 |
CircGradBasedCorrSharpness (6) | 0.382350 |
CircGradBasedCorrSharpness | 0.000000 |
CircGradBasedCorrTemperature (1) | 0.147060 |
CircGradBasedCorrTemperature (2) | 0.514710 |
CircGradBasedCorrTemperature (3) | 0.911760 |
CircGradBasedCorrTemperature | 0.000000 |
CircGradBasedCorrTint | 0.000000 |
CircGradBasedCorrWhat | Correction |
CircleOfConfusion | 0.028 mm |
Clarity2012 | +65 |
ColorComponents | 3 |
ColorNoiseReduction | 100 |
ColorNoiseReductionDetail | 50 |
ColorNoiseReductionSmoothness | 50 |
ColorSpace | sRGB |
ColorTemperature | 4868 |
ColorTransform | YCbCr |
Contrast2012 | +32 |
ConvertToGrayscale | False |
Copyright | Mikkel Nordbaek |
CopyrightNotice | Mikkel Nordbaek |
CreateDate (1) | 2016:11:19 17:19:59.83 |
CreateDate | 2016:11:19 17:19:59 |
Creator | Mikkel Nordbaek |
CropAngle | 1.343 |
CropBottom | 0.899517 |
CropConstrainToWarp | 0 |
CropLeft | 0.024109 |
CropRight | 0.977035 |
CropTop | 0.02725 |
CustomRendered | Normal |
DateCreated (1) | 2016:11:19 |
DateCreated | 2016:11:19 17:19:59.83 |
DateTimeOriginal | 2016:11:19 17:19:59 |
DefringeGreenAmount | 0 |
DefringeGreenHueHi | 60 |
DefringeGreenHueLo | 40 |
DefringePurpleAmount | 0 |
DefringePurpleHueHi | 70 |
DefringePurpleHueLo | 30 |
Dehaze | 0 |
DOF | inf (5.16 m - inf) |
Exposure2012 | +0.52 |
ExposureCompensation | 0 |
ExposureMode | Manual |
ExposureProgram | Manual |
ExposureTime | 5 |
Firmware | 1.1.6 |
Flash | Off, Did not fire |
FlashCompensation | 0 |
FNumber | 4.0 |
FocalLength | 24.0 mm |
Format | image/jpeg |
FOV | 69.7 deg |
GradientBasedCorrActive | true |
GradientBasedCorrAmount | 1.000000 |
GradientBasedCorrBrightness | 0.000000 |
GradientBasedCorrClarity2012 | 0.000000 |
GradientBasedCorrContrast2012 | 0.000000 |
GradientBasedCorrDefringe | 0.000000 |
GradientBasedCorrExposure2012 | -0.176500 |
GradientBasedCorrHighlights2012 | 0.000000 |
GradientBasedCorrHue | 240.000000 |
GradientBasedCorrLocalBlacks2012 | 0.000000 |
GradientBasedCorrLocalDehaze | 0.000000 |
GradientBasedCorrLocalWhites2012 | 0.000000 |
GradientBasedCorrLuminanceNoise | 0.352940 |
GradientBasedCorrMaskFullX (1) | 0.382173 |
GradientBasedCorrMaskFullX | 0.231770 |
GradientBasedCorrMaskFullY (1) | 0.804660 |
GradientBasedCorrMaskFullY | 0.153478 |
GradientBasedCorrMaskValue | 1.000000 |
GradientBasedCorrMaskWhat | Mask/Gradient |
GradientBasedCorrMaskZeroX (1) | 0.390516 |
GradientBasedCorrMaskZeroX | 0.273284 |
GradientBasedCorrMaskZeroY (1) | 0.655301 |
GradientBasedCorrMaskZeroY | 0.384893 |
GradientBasedCorrMoire | 0.000000 |
GradientBasedCorrSaturation | 0.000000 |
GradientBasedCorrShadows2012 | 0.000000 |
GradientBasedCorrSharpness (1) | -0.588240 |
GradientBasedCorrSharpness | 0.000000 |
GradientBasedCorrTemperature | 0.000000 |
GradientBasedCorrTint | 0.000000 |
GradientBasedCorrWhat | Correction |
GrainAmount | 0 |
GreenHue | 0 |
GreenSaturation | 0 |
HasCrop | True |
HasSettings | True |
Highlights2012 | -100 |
HueAdjustmentAqua | 0 |
HueAdjustmentBlue | 0 |
HueAdjustmentGreen | 0 |
HueAdjustmentMagenta | 0 |
HueAdjustmentOrange | 0 |
HueAdjustmentPurple | 0 |
HueAdjustmentRed | -38 |
HueAdjustmentYellow | 0 |
HyperfocalDistance | 5.16 m |
ImageHeight | 3059 |
ImageNumber | 0 |
ImageSize | 5288x3059 |
ImageWidth | 5288 |
ISO | 100 |
Lens | EF24-105mm f/4L IS USM |
LensID (1) | 237 |
LensID | Canon EF 24-105mm f/4L IS USM |
LensInfo | 24-105mm f/? |
LensManualDistortionAmount | 0 |
LensModel | EF24-105mm f/4L IS USM |
LensProfileChromaticAberrationScale | 100 |
LensProfileDistortionScale | 100 |
LensProfileEnable | 1 |
LensProfileSetup | LensDefaults |
LensProfileVignettingScale | 100 |
LensSerialNumber | 0000a2cf95 |
LightValue | 1.7 |
LuminanceAdjustmentAqua | 0 |
LuminanceAdjustmentBlue | -58 |
LuminanceAdjustmentGreen | 0 |
LuminanceAdjustmentMagenta | 0 |
LuminanceAdjustmentOrange | 0 |
LuminanceAdjustmentPurple | 0 |
LuminanceAdjustmentRed | +35 |
LuminanceAdjustmentYellow | 0 |
LuminanceNoiseReductionContrast | 0 |
LuminanceNoiseReductionDetail | 50 |
LuminanceSmoothing | 27 |
Make | Canon |
MaxApertureValue | 4.0 |
Megapixels | 16.2 |
MeteringMode | Multi-segment |
Model | Canon EOS 6D |
ModifyDate (1) | 2016:11:19 21:00:20+01:00 |
ModifyDate | 2016:11:19 21:00:20 |
PaintCorrectionActive | true |
PaintCorrectionAmount | 1.000000 |
PaintCorrectionBrightness | 0.000000 |
PaintCorrectionClarity2012 (1) | 0.705880 |
PaintCorrectionClarity2012 (2) | 0.000000 |
PaintCorrectionClarity2012 | 0.426470 |
PaintCorrectionContrast2012 | 0.000000 |
PaintCorrectionDefringe | 0.000000 |
PaintCorrectionExposure2012 (1) | 0.000000 |
PaintCorrectionExposure2012 (2) | 0.044000 |
PaintCorrectionExposure2012 | 0.220500 |
PaintCorrectionHighlights2012 | 0.000000 |
PaintCorrectionHue | 240.000000 |
PaintCorrectionLocalBlacks2012 | 0.000000 |
PaintCorrectionLocalDehaze | 0.000000 |
PaintCorrectionLocalWhites2012 | 0.000000 |
PaintCorrectionLuminanceNoise | 0.000000 |
PaintCorrectionMaskCenterWeight | 0.000000 |
PaintCorrectionMaskFlow | 0.792000 |
PaintCorrectionMaskRadius (1) | 0.067063 |
PaintCorrectionMaskRadius (10) | 0.032464 |
PaintCorrectionMaskRadius (11) | 0.027166 |
PaintCorrectionMaskRadius (12) | 0.027220 |
PaintCorrectionMaskRadius (13) | 0.027321 |
PaintCorrectionMaskRadius (14) | 0.006178 |
PaintCorrectionMaskRadius (2) | 0.066406 |
PaintCorrectionMaskRadius (3) | 0.066610 |
PaintCorrectionMaskRadius (4) | 0.025642 |
PaintCorrectionMaskRadius (5) | 0.048185 |
PaintCorrectionMaskRadius (6) | 0.049437 |
PaintCorrectionMaskRadius (7) | 0.036325 |
PaintCorrectionMaskRadius (8) | 0.026315 |
PaintCorrectionMaskRadius (9) | 0.032410 |
PaintCorrectionMaskRadius | 0.015559 |
PaintCorrectionMaskValue | 0.848000 |
PaintCorrectionMaskWhat | Mask/Paint |
PaintCorrectionMoire | 0.000000 |
PaintCorrectionSaturation | 0.000000 |
PaintCorrectionShadows2012 | 0.000000 |
PaintCorrectionSharpness (2) | 0.000000 |
PaintCorrectionSharpness | 0.161760 |
PaintCorrectionTemperature | 0.000000 |
PaintCorrectionTint | 0.000000 |
PaintCorrectionWhat | Correction |
ParametricDarks | +28 |
ParametricHighlights | +5 |
ParametricHighlightSplit | 75 |
ParametricLights | 0 |
ParametricMidtoneSplit | 50 |
ParametricShadows | -11 |
ParametricShadowSplit | 25 |
PerspectiveAspect | 0 |
PerspectiveHorizontal | 0 |
PerspectiveRotate | 0.0 |
PerspectiveScale | 100 |
PerspectiveUpright | 1 |
PerspectiveVertical | 0 |
PerspectiveX | 0.00 |
PerspectiveY | 0.00 |
PostCropVignetteAmount | -7 |
PostCropVignetteFeather | 50 |
PostCropVignetteHighlightContrast | 0 |
PostCropVignetteMidpoint | 50 |
PostCropVignetteRoundness | 0 |
PostCropVignetteStyle | 1 |
ProcessVersion | 6.7 |
ProfileDescription | sRGB IEC61966-2.1 |
RecommendedExposureIndex | 100 |
RedHue | 0 |
RedSaturation | 0 |
Rights | Mikkel Nordbaek |
Saturation | +15 |
SaturationAdjustmentAqua | 0 |
SaturationAdjustmentBlue | -68 |
SaturationAdjustmentGreen | +3 |
SaturationAdjustmentMagenta | 0 |
SaturationAdjustmentOrange | -55 |
SaturationAdjustmentPurple | 0 |
SaturationAdjustmentRed | +56 |
SaturationAdjustmentYellow | -72 |
ScaleFactor35efl | 1.1 |
SceneCaptureType | Standard |
SensitivityType | Recommended Exposure Index |
SerialNumber | 023052000141 |
Shadows2012 | +78 |
ShadowTint | 0 |
SharpenDetail | 25 |
SharpenEdgeMasking | 28 |
SharpenRadius | +1.0 |
Sharpness | 71 |
ShutterSpeed | 5 |
ShutterSpeedValue | 5 |
SplitToningBalance | 0 |
SplitToningHighlightHue | 0 |
SplitToningHighlightSaturation | 0 |
SplitToningShadowHue | 0 |
SplitToningShadowSaturation | 0 |
Tint | -3 |
ToneCurve | 0, 0, 255, 255 |
ToneCurveBlue | 0, 0, 255, 255 |
ToneCurveGreen | 0, 0, 255, 255 |
ToneCurveName | Linear |
ToneCurveName2012 | Linear |
ToneCurvePV2012 | 0, 0, 255, 255 |
ToneCurvePV2012Blue | 0, 0, 255, 255 |
ToneCurvePV2012Green | 0, 0, 255, 255 |
ToneCurvePV2012Red | 0, 0, 255, 255 |
ToneCurveRed | 0, 0, 255, 255 |
ToneMapStrength | 0 |
Version | 9.6 |
Vibrance | +37 |
VignetteAmount | 0 |
WhiteBalance (1) | Custom |
WhiteBalance | Auto |
Whites2012 | +19 |