Felt | Verdi |
AlreadyApplied | True |
Aperture | 6.0 |
ApertureValue | 6.0 |
ApproximateFocusDistance | 2.66 |
Artist | Bjørn Åge Olavesen |
AuthorsPosition | Fotograf |
AutoLateralCA | 1 |
AutoWhiteVersion | 134348800 |
BitsPerSample | 8 |
Blacks2012 | +32 |
BlueHue | 0 |
BlueSaturation | 0 |
By-line | Bjørn Åge Olavesen |
By-lineTitle | Fotograf |
CameraProfile | Embedded |
CircleOfConfusion | 0.020 mm |
Clarity2012 | -2 |
ColorComponents | 3 |
ColorNoiseReduction | 0 |
ColorTransform | YCbCr |
Contrast | Normal |
Contrast2012 | +25 |
ConvertToGrayscale | True |
Copyright | Bjørn Åge Olavesen |
CopyrightFlag | True |
CopyrightNotice | Bjørn Åge Olavesen |
CreateDate (1) | 2016:05:24 06:57:32.25 |
CreateDate | 2016:05:24 06:57:32 |
Creator | Bjørn Åge Olavesen |
CreatorAddress | Roald Amundsensvei 176 |
CreatorCity | Torp |
CreatorCountry | Norway |
CreatorPostalCode | 1658 |
CreatorRegion | Fredrikstad |
CreatorTool | Adobe Photoshop Lightroom 5.7.1 (Windows) |
CreatorWorkEmail | bjaaol@online.no |
CreatorWorkTelephone | +4793634578 |
CreatorWorkURL | olavesenfoto.com |
CustomRendered | Normal |
DateCreated (1) | 2016:05:24 |
DateCreated | 2016:05:24 06:57:32.25 |
DateTimeOriginal | 2016:05:24 06:57:32 |
DigitalZoomRatio | 1 |
DOF | 0.05 m (2.64 - 2.68 m) |
Exposure2012 | +0.15 |
ExposureCompensation | -5 |
ExposureMode | Manual |
ExposureProgram | Manual |
ExposureTime | 1/20 |
Flash | No Flash |
FNumber | 6.0 |
FocalLength | 185.0 mm |
FocalLength35efl | 185.0 mm (35 mm equivalent: 277.0 mm) |
FocalLengthIn35mmFormat | 277 mm |
Format | image/jpeg |
FOV | 7.4 deg |
GainControl | None |
GrainAmount | 0 |
GrayMixerAqua | +100 |
GrayMixerBlue | -30 |
GrayMixerGreen | -26 |
GrayMixerMagenta | +69 |
GrayMixerOrange | -3 |
GrayMixerPurple | -41 |
GrayMixerRed | +47 |
GrayMixerYellow | +16 |
GreenHue | 0 |
GreenSaturation | 0 |
HasCrop | False |
HasExtendedXMP | 68C32AAEAAF48E761E517CD7C5C7DA4C |
HasSettings | True |
Highlights2012 | 0 |
HyperfocalDistance | 284.26 m |
ImageHeight | 808 |
ImageNumber | 30997 |
ImageSize | 944x808 |
ImageWidth | 944 |
IncrementalTemperature | 0 |
IncrementalTint | 0 |
ISO | 200 |
Lens | 18.0-200.0 mm f/3.5-6.3 |
LensID (1) | 255 |
LensID | Sigma 18-200mm F3.5-6.3 DC |
LensInfo | 18-200mm f/3.5-6.3 |
LensManualDistortionAmount | 0 |
LensModel | 18.0-200.0 mm f/3.5-6.3 |
LensProfileEnable | 1 |
LensProfileSetup | LensDefaults |
LightSource | Unknown |
LightValue | 8.5 |
LuminanceNoiseReductionContrast | 54 |
LuminanceNoiseReductionDetail | 79 |
LuminanceSmoothing | 26 |
Make | NIKON CORPORATION |
Marked | True |
MaxApertureValue | 5.9 |
Megapixels | 0.763 |
MeteringMode | Center-weighted average |
Model | NIKON D300 |
ModifyDate (1) | 2016:08:03 23:05:42+02:00 |
ModifyDate | 2016:08:03 23:05:42 |
PaintCorrectionActive | true |
PaintCorrectionAmount | 1.000000 |
PaintCorrectionBrightness | 0.000000 |
PaintCorrectionClarity2012 | 0.000000 |
PaintCorrectionContrast2012 | 0.000000 |
PaintCorrectionDefringe | 0.000000 |
PaintCorrectionExposure2012 | 0.000000 |
PaintCorrectionHighlights2012 | 0.000000 |
PaintCorrectionHue | 240.000000 |
PaintCorrectionLuminanceNoise | 0.000000 |
PaintCorrectionMaskCenterWeight | 0.071401 |
PaintCorrectionMaskFlow | 1.000000 |
PaintCorrectionMaskRadius (10) | 0.039338 |
PaintCorrectionMaskRadius (2) | 0.118981 |
PaintCorrectionMaskRadius (7) | 0.110330 |
PaintCorrectionMaskRadius (8) | 0.073379 |
PaintCorrectionMaskRadius | 0.066338 |
PaintCorrectionMaskValue | 0.473000 |
PaintCorrectionMaskWhat | Mask/Paint |
PaintCorrectionMoire | 0.000000 |
PaintCorrectionSaturation | 0.000000 |
PaintCorrectionShadows2012 | 0.000000 |
PaintCorrectionSharpness (1) | 0.537000 |
PaintCorrectionSharpness (2) | 0.315000 |
PaintCorrectionSharpness | 0.148000 |
PaintCorrectionTemperature | 0.000000 |
PaintCorrectionTint | 0.000000 |
PaintCorrectionWhat | Correction |
ParametricDarks | -29 |
ParametricHighlights | -52 |
ParametricHighlightSplit | 75 |
ParametricLights | +58 |
ParametricMidtoneSplit | 50 |
ParametricShadows | 0 |
ParametricShadowSplit | 25 |
PerspectiveAspect | 0 |
PerspectiveHorizontal | 0 |
PerspectiveRotate | 0.0 |
PerspectiveScale | 100 |
PerspectiveUpright | 0 |
PerspectiveVertical | 0 |
PostCropVignetteAmount | 0 |
ProcessVersion | 6.7 |
ProfileDescription | Adobe RGB (1998) |
RedHue | 0 |
RedSaturation | 0 |
Rights | Bjørn Åge Olavesen |
Saturation | Normal |
ScaleFactor35efl | 1.5 |
SceneCaptureType | Standard |
SceneType | Directly photographed |
SensingMethod | One-chip color area |
SerialNumber | 4054475 |
Shadows2012 | 0 |
ShadowTint | 0 |
SharpenDetail | 52 |
SharpenEdgeMasking | 0 |
SharpenRadius | +2.2 |
Sharpness (1) | 89 |
Sharpness | Normal |
ShutterSpeed | 1/20 |
ShutterSpeedValue | 1/20 |
Software | Adobe Photoshop Lightroom 5.7.1 (Windows) |
SplitToningBalance | 0 |
SplitToningHighlightHue | 0 |
SplitToningHighlightSaturation | 0 |
SplitToningShadowHue | 0 |
SplitToningShadowSaturation | 0 |
SubjectDistanceRange | Unknown |
ToneCurve | 0, 0, 255, 255 |
ToneCurveBlue | 0, 0, 255, 255 |
ToneCurveGreen | 0, 0, 255, 255 |
ToneCurveName | Linear |
ToneCurveName2012 | Linear |
ToneCurvePV2012 | 0, 0, 255, 255 |
ToneCurvePV2012Blue | 0, 0, 255, 255 |
ToneCurvePV2012Green | 0, 0, 255, 255 |
ToneCurvePV2012Red | 0, 0, 255, 255 |
ToneCurveRed | 0, 0, 255, 255 |
Version | 8.7.1 |
VignetteAmount | 0 |
WhiteBalance (1) | Custom |
WhiteBalance | Auto |
Whites2012 | 0 |