Felt | Verdi |
AlreadyApplied | True |
Aperture | 2.8 |
ApertureValue | 2.8 |
ApproximateFocusDistance | 4294967295 |
Artist | Espen Alexander Sørensen |
AutoLateralCA | 0 |
AutoWhiteVersion | 134348800 |
BitsPerSample | 8 |
Blacks2012 | -88 |
BlueHue | 0 |
BlueSaturation | 0 |
By-line | Espen Alexander Sørensen |
CameraProfile | Adobe Standard |
CircleOfConfusion | 0.019 mm |
Clarity2012 | +48 |
ColorComponents | 3 |
ColorNoiseReduction | 25 |
ColorNoiseReductionDetail | 50 |
ColorNoiseReductionSmoothness | 50 |
ColorSpace | sRGB |
ColorTemperature | 3700 |
ColorTransform | YCbCr |
Contrast2012 | 0 |
ConvertToGrayscale | False |
Copyright | Espen Alexander Sørensen |
CopyrightFlag | True |
CopyrightNotice | Espen Alexander Sørensen |
Country | Norway |
Country-PrimaryLocationCode | NO |
Country-PrimaryLocationName | Norway |
CountryCode | NO |
CreateDate (1) | 2015:09:09 22:07:48.00 |
CreateDate | 2015:09:09 22:07:48 |
Creator | Espen Alexander Sørensen |
CreatorCity | Ålesund |
CreatorCountry | Norway |
CreatorTool | Adobe Photoshop Lightroom 6.1.1 (Windows) |
CreatorWorkEmail | lesten86@gmail.com |
CustomRendered | Normal |
DateCreated (1) | 2015:09:09 |
DateCreated | 2015:09:09 22:07:48.00 |
DateTimeOriginal | 2015:09:09 22:07:48 |
DefringeGreenAmount | 0 |
DefringeGreenHueHi | 60 |
DefringeGreenHueLo | 40 |
DefringePurpleAmount | 0 |
DefringePurpleHueHi | 70 |
DefringePurpleHueLo | 30 |
Dehaze | 0 |
DOF | inf (5.51 m - inf) |
Exposure2012 | -0.60 |
ExposureCompensation | 0 |
ExposureMode | Manual |
ExposureProgram | Manual |
ExposureTime | 30 |
Firmware | 1.0.2 |
Flash | Off, Did not fire |
FlashCompensation | 0 |
FNumber | 2.8 |
FocalLength | 17.0 mm |
FocalLength35efl | 17.0 mm (35 mm equivalent: 27.3 mm) |
Format | image/jpeg |
FOV | 66.8 deg |
GPSAltitude (1) | 8.3 m |
GPSAltitude | 8.3 m Above Sea Level |
GPSAltitudeRef | Above Sea Level |
GPSDateStamp | 2015:09:09 |
GPSDateTime | 2015:09:09 21:07:42.075Z |
GPSDOP | 4.2 |
GPSImgDirection | 10 |
GPSImgDirectionRef | Magnetic North |
GPSLatitude (1) | 62 deg 30' 51.64" |
GPSLatitude | 62 deg 30' 51.64" N |
GPSLatitudeRef | North |
GPSLongitude (1) | 6 deg 27' 40.13" |
GPSLongitude | 6 deg 27' 40.13" E |
GPSLongitudeRef | East |
GPSMapDatum | WGS-84 |
GPSMeasureMode | 3-Dimensional Measurement |
GPSPosition | 62 deg 30' 51.64" N, 6 deg 27' 40.13" E |
GPSSatellites | 21 |
GPSStatus | Measurement Active |
GPSTimeStamp | 21:07:42.075 |
GPSVersionID | 2.3.0.0 |
GradientBasedCorrActive | true |
GradientBasedCorrAmount | 1.000000 |
GradientBasedCorrBrightness | 0.000000 |
GradientBasedCorrClarity2012 | 0.142860 |
GradientBasedCorrContrast2012 | 0.000000 |
GradientBasedCorrDefringe | 0.000000 |
GradientBasedCorrExposure2012 | 0.252750 |
GradientBasedCorrHighlights2012 | 0.000000 |
GradientBasedCorrHue | 240.000000 |
GradientBasedCorrLocalBlacks2012 | -0.010990 |
GradientBasedCorrLocalWhites2012 | -0.296700 |
GradientBasedCorrLuminanceNoise | 0.000000 |
GradientBasedCorrMaskFullX | 0.719864 |
GradientBasedCorrMaskFullY | 0.659873 |
GradientBasedCorrMaskValue | 1.000000 |
GradientBasedCorrMaskWhat | Mask/Gradient |
GradientBasedCorrMaskZeroX | 0.327674 |
GradientBasedCorrMaskZeroY | 0.262420 |
GradientBasedCorrMoire | 0.000000 |
GradientBasedCorrSaturation (1) | -0.054950 |
GradientBasedCorrSaturation | 0.000000 |
GradientBasedCorrShadows2012 | 0.076920 |
GradientBasedCorrSharpness | 0.000000 |
GradientBasedCorrTemperature | 0.000000 |
GradientBasedCorrTint | 0.032970 |
GradientBasedCorrWhat | Correction |
GrainAmount | 0 |
GreenHue | 0 |
GreenSaturation | 0 |
HasCrop | False |
HasSettings | True |
Highlights2012 | -83 |
HueAdjustmentAqua | 0 |
HueAdjustmentBlue | 0 |
HueAdjustmentGreen | 0 |
HueAdjustmentMagenta | 0 |
HueAdjustmentOrange | 0 |
HueAdjustmentPurple | 0 |
HueAdjustmentRed | 0 |
HueAdjustmentYellow | 0 |
HyperfocalDistance | 5.51 m |
ImageHeight | 3648 |
ImageNumber | 0 |
ImageSize | 5472x3648 |
ImageWidth | 5472 |
ISO | 800 |
Keywords | Norway, light, night, nordlys, norge, northern lights, northernlights, sunnmøre, ålesund |
Lens | EF-S17-55mm f/2.8 IS USM |
LensID (1) | 240 |
LensID | Canon EF-S 17-55mm f/2.8 IS USM |
LensInfo | 17-55mm f/? |
LensManualDistortionAmount | 0 |
LensModel | EF-S17-55mm f/2.8 IS USM |
LensProfileEnable | 0 |
LensProfileSetup | LensDefaults |
LensSerialNumber | 0000068209 |
LightValue | -4.9 |
LuminanceAdjustmentAqua | 0 |
LuminanceAdjustmentBlue | +22 |
LuminanceAdjustmentGreen | +69 |
LuminanceAdjustmentMagenta | 0 |
LuminanceAdjustmentOrange | -29 |
LuminanceAdjustmentPurple | +18 |
LuminanceAdjustmentRed | +11 |
LuminanceAdjustmentYellow | +4 |
LuminanceSmoothing | 0 |
Make | Canon |
Marked | True |
MaxApertureValue | 2.8 |
Megapixels | 20.0 |
MeteringMode | Partial |
Model | Canon EOS 7D Mark II |
ModifyDate (1) | 2015:09:11 23:32:51+02:00 |
ModifyDate | 2015:09:11 23:32:51 |
OwnerName | Espen Alexander Sorensen |
ParametricDarks | +3 |
ParametricHighlights | -20 |
ParametricHighlightSplit | 75 |
ParametricLights | +18 |
ParametricMidtoneSplit | 50 |
ParametricShadows | -18 |
ParametricShadowSplit | 25 |
PerspectiveAspect | 0 |
PerspectiveHorizontal | 0 |
PerspectiveRotate | 0.0 |
PerspectiveScale | 100 |
PerspectiveUpright | 0 |
PerspectiveVertical | 0 |
PostCropVignetteAmount | 0 |
ProcessVersion | 6.7 |
ProfileDescription | sRGB IEC61966-2.1 |
Province-State | Møre og Romsdal |
RecommendedExposureIndex | 800 |
RedHue | 0 |
RedSaturation | 0 |
Rights | Espen Alexander Sørensen |
Saturation | 0 |
SaturationAdjustmentAqua | 0 |
SaturationAdjustmentBlue | -27 |
SaturationAdjustmentGreen | +22 |
SaturationAdjustmentMagenta | 0 |
SaturationAdjustmentOrange | -73 |
SaturationAdjustmentPurple | -22 |
SaturationAdjustmentRed | 0 |
SaturationAdjustmentYellow | -20 |
ScaleFactor35efl | 1.6 |
SceneCaptureType | Standard |
SensitivityType | Recommended Exposure Index |
SerialNumber | 023020000902 |
Shadows2012 | -40 |
ShadowTint | 0 |
SharpenDetail | 25 |
SharpenEdgeMasking | 0 |
SharpenRadius | +1.0 |
Sharpness | 25 |
ShutterSpeed | 30 |
ShutterSpeedValue | 30 |
Software | Adobe Photoshop Lightroom 6.1.1 (Windows) |
SplitToningBalance | 0 |
SplitToningHighlightHue | 0 |
SplitToningHighlightSaturation | 0 |
SplitToningShadowHue | 0 |
SplitToningShadowSaturation | 0 |
State | Møre og Romsdal |
Subject | Norway, light, night, nordlys, norge, northern lights, northernlights, sunnmøre, ålesund |
Tint | +28 |
ToneCurve | 0, 0, 255, 255 |
ToneCurveBlue | 0, 0, 255, 255 |
ToneCurveGreen | 0, 0, 255, 255 |
ToneCurveName | Linear |
ToneCurveName2012 | Linear |
ToneCurvePV2012 | 0, 0, 255, 255 |
ToneCurvePV2012Blue | 0, 0, 255, 255 |
ToneCurvePV2012Green | 0, 0, 255, 255 |
ToneCurvePV2012Red | 0, 0, 255, 255 |
ToneCurveRed | 0, 0, 255, 255 |
ToneMapStrength | 0 |
Version | 9.1.1 |
Vibrance | +17 |
VignetteAmount | 0 |
WhiteBalance (1) | Custom |
WhiteBalance | Auto |
Whites2012 | -10 |