Felt | Verdi |
AlreadyApplied | True |
Aperture | 22.0 |
ApertureValue | 22.0 |
Artist | Ann Birgitte Tveiten |
AutoLateralCA | 1 |
AutoWhiteVersion | 134348800 |
BitsPerSample | 8 |
Blacks2012 | 0 |
BlueHue | 0 |
BlueSaturation | 0 |
BrightnessValue | -0.45 |
By-line | Ann Birgitte Tveiten |
CameraProfile | Adobe Standard |
CircGradBasedCorrActive | true |
CircGradBasedCorrAmount | 1.000000 |
CircGradBasedCorrBrightness | 0.000000 |
CircGradBasedCorrClarity2012 (1) | 0.164348 |
CircGradBasedCorrClarity2012 | 0.222656 |
CircGradBasedCorrContrast2012 (1) | 0.241616 |
CircGradBasedCorrContrast2012 | 0.118617 |
CircGradBasedCorrDefringe | 0.000000 |
CircGradBasedCorrExposure2012 (1) | 0.003430 |
CircGradBasedCorrExposure2012 | 0.103087 |
CircGradBasedCorrHighlights2012 | 0.000000 |
CircGradBasedCorrHue | 0.000000 |
CircGradBasedCorrLocalBlacks2012 (1) | -0.097180 |
CircGradBasedCorrLocalBlacks2012 | 0.000000 |
CircGradBasedCorrLocalWhites2012 | 0.000000 |
CircGradBasedCorrLuminanceNoise | 0.000000 |
CircGradBasedCorrMaskAngle (1) | 19.677800 |
CircGradBasedCorrMaskAngle | 44.831200 |
CircGradBasedCorrMaskBottom (1) | 1.214260 |
CircGradBasedCorrMaskBottom | 0.703108 |
CircGradBasedCorrMaskFeather | +94 |
CircGradBasedCorrMaskFlipped | true |
CircGradBasedCorrMaskLeft (1) | -0.082477 |
CircGradBasedCorrMaskLeft | 0.039883 |
CircGradBasedCorrMaskMidpoint | +50 |
CircGradBasedCorrMaskRight (1) | 0.434344 |
CircGradBasedCorrMaskRight | 0.113768 |
CircGradBasedCorrMaskRoundness | 0 |
CircGradBasedCorrMaskTop (1) | 0.530910 |
CircGradBasedCorrMaskTop | 0.271988 |
CircGradBasedCorrMaskValue | 1.000000 |
CircGradBasedCorrMaskVersion | +2 |
CircGradBasedCorrMaskWhat | Mask/CircularGradient |
CircGradBasedCorrMoire | 0.000000 |
CircGradBasedCorrSaturation (1) | 0.122046 |
CircGradBasedCorrSaturation (3) | 0.187405 |
CircGradBasedCorrSaturation | 0.000000 |
CircGradBasedCorrShadows2012 (1) | 0.000000 |
CircGradBasedCorrShadows2012 | 1.000000 |
CircGradBasedCorrSharpness (1) | 0.907679 |
CircGradBasedCorrSharpness | 0.415396 |
CircGradBasedCorrTemperature (1) | 0.098990 |
CircGradBasedCorrTemperature | 0.132527 |
CircGradBasedCorrTint (1) | -0.036585 |
CircGradBasedCorrTint | 0.000000 |
CircGradBasedCorrWhat | Correction |
CircleOfConfusion | 0.020 mm |
Clarity2012 | 0 |
ColorComponents | 3 |
ColorNoiseReduction | 25 |
ColorNoiseReductionDetail | 50 |
ColorNoiseReductionSmoothness | 50 |
ColorSpace | sRGB |
ColorTemperature | 7650 |
ColorTransform | YCbCr |
Contrast2012 | 0 |
ConvertToGrayscale | False |
Copyright | Ann Birgitte Tveien |
CopyrightFlag | True |
CopyrightNotice | Ann Birgitte Tveien |
CreateDate | 2015:06:30 23:13:33 |
Creator | Ann Birgitte Tveiten |
CreatorAddress | Østerøya 83 |
CreatorCity | Flekkerøy |
CreatorCountry | Norway |
CreatorPostalCode | 4625 |
CreatorTool | Adobe Photoshop Lightroom 6.1 (Macintosh) |
CreatorWorkEmail | annbirgitte.tveiten@me.com |
CreatorWorkTelephone | +47 91916969 |
CreatorWorkURL | www.abbefoto.com |
CropAngle | 1.418 |
CropBottom | 0.922318 |
CropConstrainToWarp | 0 |
CropLeft | 0.014676 |
CropRight | 0.889298 |
CropTop | 0 |
CustomRendered | Normal |
DateCreated (1) | 2015:06:30 23:13:33 |
DateCreated | 2015:06:30 |
DateTimeOriginal | 2015:06:30 23:13:33 |
DefringeGreenAmount | 0 |
DefringeGreenHueHi | 60 |
DefringeGreenHueLo | 40 |
DefringePurpleAmount | 0 |
DefringePurpleHueHi | 70 |
DefringePurpleHueLo | 30 |
Dehaze | 0 |
Exposure2012 | 0.00 |
ExposureCompensation | 0 |
ExposureMode | Manual |
ExposureProgram | Manual |
ExposureTime | 6.5 |
Flash | Off, Did not fire |
FNumber | 22.0 |
FocalLength | 14.0 mm |
FocalLength35efl | 14.0 mm (35 mm equivalent: 21.0 mm) |
FocalLengthIn35mmFormat | 21 mm |
Format | image/jpeg |
FOV | 81.2 deg |
GradientBasedCorrActive | true |
GradientBasedCorrAmount | 1.000000 |
GradientBasedCorrBrightness | 0.000000 |
GradientBasedCorrClarity2012 | 0.000000 |
GradientBasedCorrContrast2012 (1) | 0.182069 |
GradientBasedCorrContrast2012 (2) | 0.304021 |
GradientBasedCorrContrast2012 | 0.000000 |
GradientBasedCorrDefringe | 0.000000 |
GradientBasedCorrExposure2012 (1) | -0.094131 |
GradientBasedCorrExposure2012 (2) | 0.192550 |
GradientBasedCorrExposure2012 | -0.131383 |
GradientBasedCorrHighlights2012 (2) | -0.443693 |
GradientBasedCorrHighlights2012 | -1.000000 |
GradientBasedCorrHue | 0.000000 |
GradientBasedCorrLocalBlacks2012 (2) | 0.000000 |
GradientBasedCorrLocalBlacks2012 | -0.099466 |
GradientBasedCorrLocalWhites2012 (1) | 0.000000 |
GradientBasedCorrLocalWhites2012 (2) | -0.166540 |
GradientBasedCorrLocalWhites2012 | -0.310213 |
GradientBasedCorrLuminanceNoise | 0.000000 |
GradientBasedCorrMaskFullX (1) | 0.686708 |
GradientBasedCorrMaskFullX (2) | 0.556423 |
GradientBasedCorrMaskFullX | 1.062970 |
GradientBasedCorrMaskFullY (1) | 0.303365 |
GradientBasedCorrMaskFullY (2) | 0.770603 |
GradientBasedCorrMaskFullY | 0.546627 |
GradientBasedCorrMaskValue | 1.000000 |
GradientBasedCorrMaskWhat | Mask/Gradient |
GradientBasedCorrMaskZeroX (1) | 0.686040 |
GradientBasedCorrMaskZeroX (2) | 0.565064 |
GradientBasedCorrMaskZeroX | 0.569978 |
GradientBasedCorrMaskZeroY (1) | 0.343823 |
GradientBasedCorrMaskZeroY (2) | 0.302863 |
GradientBasedCorrMaskZeroY | 0.539829 |
GradientBasedCorrMoire | 0.000000 |
GradientBasedCorrSaturation (1) | 0.146151 |
GradientBasedCorrSaturation (3) | 0.617378 |
GradientBasedCorrSaturation | 0.000000 |
GradientBasedCorrShadows2012 (2) | 1.000000 |
GradientBasedCorrShadows2012 | 0.000000 |
GradientBasedCorrSharpness (2) | 0.128144 |
GradientBasedCorrSharpness | 0.000000 |
GradientBasedCorrTemperature (2) | 0.000000 |
GradientBasedCorrTemperature | -0.365758 |
GradientBasedCorrTint (2) | 0.000000 |
GradientBasedCorrTint | -0.135004 |
GradientBasedCorrWhat | Correction |
GrainAmount | 0 |
GreenHue | 0 |
GreenSaturation | 0 |
HasCrop | True |
HasSettings | True |
Highlights2012 | -100 |
HueAdjustmentAqua | 0 |
HueAdjustmentBlue | 0 |
HueAdjustmentGreen | 0 |
HueAdjustmentMagenta | 0 |
HueAdjustmentOrange | 0 |
HueAdjustmentPurple | 0 |
HueAdjustmentRed | 0 |
HueAdjustmentYellow | 0 |
HyperfocalDistance | 0.44 m |
ImageHeight | 1080 |
ImageSize | 1620x1080 |
ImageWidth | 1620 |
ISO | 200 |
Keywords | Flekkerøy, XT1, landskap, vann i bevegelse |
Lens | XF14mmF2.8 R |
LensInfo | 14mm f/2.8 |
LensMake | FUJIFILM |
LensManualDistortionAmount | 0 |
LensModel | XF14mmF2.8 R |
LensProfileEnable | 0 |
LensProfileSetup | LensDefaults |
LensSerialNumber | 47A02540 |
LightSource | Unknown |
LightValue | 5.2 |
LuminanceAdjustmentAqua | 0 |
LuminanceAdjustmentBlue | 0 |
LuminanceAdjustmentGreen | 0 |
LuminanceAdjustmentMagenta | 0 |
LuminanceAdjustmentOrange | 0 |
LuminanceAdjustmentPurple | 0 |
LuminanceAdjustmentRed | 0 |
LuminanceAdjustmentYellow | 0 |
LuminanceSmoothing | 0 |
Make | FUJIFILM |
Marked | True |
MaxApertureValue | 2.8 |
Megapixels | 1.7 |
MeteringMode | Spot |
Model | X-T1 |
ModifyDate (1) | 2015:07:01 20:07:31+02:00 |
ModifyDate | 2015:07:01 20:07:31 |
Orientation | Horizontal (normal) |
PaintCorrectionActive | true |
PaintCorrectionAmount | 1.000000 |
PaintCorrectionBrightness | 0.000000 |
PaintCorrectionClarity2012 | 0.246475 |
PaintCorrectionContrast2012 | 0.273914 |
PaintCorrectionDefringe | 0.000000 |
PaintCorrectionExposure2012 | 0.000000 |
PaintCorrectionHighlights2012 | 0.000000 |
PaintCorrectionHue | 0.000000 |
PaintCorrectionLocalBlacks2012 | 0.000000 |
PaintCorrectionLocalWhites2012 | 0.000000 |
PaintCorrectionLuminanceNoise | 0.000000 |
PaintCorrectionMaskCenterWeight | 0.309511 |
PaintCorrectionMaskFlow | 0.611059 |
PaintCorrectionMaskRadius (1) | 0.002200 |
PaintCorrectionMaskRadius | 0.004152 |
PaintCorrectionMaskValue | 1.000000 |
PaintCorrectionMaskWhat | Mask/Paint |
PaintCorrectionMoire | 0.000000 |
PaintCorrectionSaturation | 0.000000 |
PaintCorrectionShadows2012 | 0.386338 |
PaintCorrectionSharpness | 0.458175 |
PaintCorrectionTemperature | 0.162729 |
PaintCorrectionTint | 0.000000 |
PaintCorrectionWhat | Correction |
ParametricDarks | 0 |
ParametricHighlights | 0 |
ParametricHighlightSplit | 75 |
ParametricLights | 0 |
ParametricMidtoneSplit | 50 |
ParametricShadows | 0 |
ParametricShadowSplit | 25 |
PerspectiveAspect | 0 |
PerspectiveHorizontal | 0 |
PerspectiveRotate | 0.0 |
PerspectiveScale | 100 |
PerspectiveUpright | 0 |
PerspectiveVertical | 0 |
PostCropVignetteAmount | 0 |
ProcessVersion | 6.7 |
ProfileDescription | sRGB IEC61966-2.1 |
RawFileName | DSCF1339.jpg |
RedHue | 0 |
RedSaturation | 0 |
Rights | Ann Birgitte Tveien |
Saturation | 0 |
SaturationAdjustmentAqua | 0 |
SaturationAdjustmentBlue | 0 |
SaturationAdjustmentGreen | 0 |
SaturationAdjustmentMagenta | 0 |
SaturationAdjustmentOrange | 0 |
SaturationAdjustmentPurple | 0 |
SaturationAdjustmentRed | 0 |
SaturationAdjustmentYellow | 0 |
ScaleFactor35efl | 1.5 |
SceneCaptureType | Standard |
SceneType | Directly photographed |
SensingMethod | One-chip color area |
SensitivityType | Standard Output Sensitivity |
Shadows2012 | 0 |
ShadowTint | 0 |
SharpenDetail | 25 |
SharpenEdgeMasking | 0 |
SharpenRadius | +1.0 |
Sharpness (1) | 25 |
Sharpness | Hard |
ShutterSpeed | 6.5 |
ShutterSpeedValue | 6.5 |
Software | Adobe Photoshop Lightroom 6.1 (Macintosh) |
SplitToningBalance | 0 |
SplitToningHighlightHue | 0 |
SplitToningHighlightSaturation | 0 |
SplitToningShadowHue | 0 |
SplitToningShadowSaturation | 0 |
Subject | Flekkerøy, XT1, landskap, vann i bevegelse |
SubjectDistanceRange | Unknown |
Tint | 0 |
ToneCurve | 0, 0, 255, 255 |
ToneCurveBlue | 0, 0, 255, 255 |
ToneCurveGreen | 0, 0, 255, 255 |
ToneCurveName | Linear |
ToneCurveName2012 | Linear |
ToneCurvePV2012 | 0, 0, 255, 255 |
ToneCurvePV2012Blue | 0, 0, 255, 255 |
ToneCurvePV2012Green | 0, 0, 255, 255 |
ToneCurvePV2012Red | 0, 0, 255, 255 |
ToneCurveRed | 0, 0, 255, 255 |
ToneMapStrength | 0 |
Version | 9.1 |
Vibrance | +22 |
VignetteAmount | 0 |
WhiteBalance (1) | As Shot |
WhiteBalance | Auto |
Whites2012 | -61 |