Felt | Verdi |
AlreadyApplied | True |
Aperture | 1.4 |
ApertureValue | 1.4 |
ApproximateFocusDistance | 3.98 |
AutoLateralCA | 1 |
AutoWhiteVersion | 134348800 |
BitsPerSample | 8 |
Blacks2012 | -100 |
BlueHue | 0 |
BlueSaturation | 0 |
CameraProfile | Adobe Standard |
CFAPattern | [Red,Green][Green,Blue] |
CircGradBasedCorrActive | true |
CircGradBasedCorrAmount | 1.000000 |
CircGradBasedCorrBrightness | 0.000000 |
CircGradBasedCorrClarity2012 | -0.765816 |
CircGradBasedCorrContrast2012 | 0.000381 |
CircGradBasedCorrDefringe | 0.000000 |
CircGradBasedCorrExposure2012 | -0.168255 |
CircGradBasedCorrHighlights2012 | -1.000000 |
CircGradBasedCorrHue | 240.000000 |
CircGradBasedCorrLuminanceNoise | 0.000000 |
CircGradBasedCorrMaskAngle | 0.000000 |
CircGradBasedCorrMaskBottom | 0.801414 |
CircGradBasedCorrMaskFeather | +50 |
CircGradBasedCorrMaskFlipped | false |
CircGradBasedCorrMaskLeft | 0.331826 |
CircGradBasedCorrMaskMidpoint | +50 |
CircGradBasedCorrMaskRight | 0.543860 |
CircGradBasedCorrMaskRoundness | 0 |
CircGradBasedCorrMaskTop | 0.220744 |
CircGradBasedCorrMaskValue | 1.000000 |
CircGradBasedCorrMaskVersion | +2 |
CircGradBasedCorrMaskWhat | Mask/CircularGradient |
CircGradBasedCorrMoire | 0.000000 |
CircGradBasedCorrSaturation (1) | -0.010099 |
CircGradBasedCorrSaturation | 0.000000 |
CircGradBasedCorrShadows2012 | -0.235995 |
CircGradBasedCorrSharpness | 0.000000 |
CircGradBasedCorrTemperature | 0.000000 |
CircGradBasedCorrTint | 0.000000 |
CircGradBasedCorrWhat | Correction |
CircleOfConfusion | 0.030 mm |
Clarity2012 | +14 |
ColorComponents | 3 |
ColorNoiseReduction | 25 |
ColorNoiseReductionDetail | 50 |
ColorNoiseReductionSmoothness | 50 |
ColorTemperature | 7200 |
ColorTransform | YCbCr |
Contrast | Normal |
Contrast2012 | 0 |
ConvertToGrayscale | False |
CreateDate (1) | 2015:05:23 21:12:14.60 |
CreateDate | 2015:05:23 21:12:14 |
CreatorTool | Adobe Photoshop Lightroom 6.0 (Macintosh) |
CropAngle | 0 |
CropBottom | 0.943064 |
CropConstrainToWarp | 0 |
CropLeft | 0.228548 |
CropRight | 0.586243 |
CropTop | 0.104498 |
CustomRendered | Normal |
DateCreated (1) | 2015:05:23 21:12:14.60 |
DateCreated | 2015:05:23 |
DateTimeOriginal | 2015:05:23 21:12:14 |
DefringeGreenAmount | 0 |
DefringeGreenHueHi | 60 |
DefringeGreenHueLo | 40 |
DefringePurpleAmount | 0 |
DefringePurpleHueHi | 70 |
DefringePurpleHueLo | 30 |
DigitalZoomRatio | 1 |
DOF | 0.18 m (3.89 - 4.07 m) |
Exposure2012 | 0.00 |
ExposureCompensation | 0 |
ExposureMode | Manual |
ExposureProgram | Manual |
ExposureTime | 1/1000 |
Flash | Off, Did not fire |
FNumber | 1.4 |
FocalLength | 85.0 mm |
FocalLength35efl | 85.0 mm (35 mm equivalent: 85.0 mm) |
FocalLengthIn35mmFormat | 85 mm |
Format | image/jpeg |
FOV | 23.9 deg |
GainControl | None |
GrainAmount | 0 |
GreenHue | 0 |
GreenSaturation | 0 |
HasCrop | True |
HasSettings | True |
Highlights2012 | -100 |
HueAdjustmentAqua | 0 |
HueAdjustmentBlue | -4 |
HueAdjustmentGreen | 0 |
HueAdjustmentMagenta | 0 |
HueAdjustmentOrange | 0 |
HueAdjustmentPurple | 0 |
HueAdjustmentRed | 0 |
HueAdjustmentYellow | 0 |
HyperfocalDistance | 171.76 m |
ImageHeight | 4119 |
ImageNumber | 4459 |
ImageSize | 2633x4119 |
ImageWidth | 2633 |
ISO | 100 |
Lens | 85.0 mm f/1.4 |
LensID (1) | 174 |
LensID | AF-S Nikkor 85mm f/1.4G |
LensInfo | 85mm f/1.4 |
LensManualDistortionAmount | 0 |
LensModel | 85.0 mm f/1.4 |
LensProfileChromaticAberrationScale | 100 |
LensProfileDistortionScale | 100 |
LensProfileEnable | 1 |
LensProfileFilename | NIKON D3X (Nikon AF-S NIKKOR 85mm f1.4G) - RAW.lcp |
LensProfileName | Adobe (Nikon AF-S NIKKOR 85mm f/1.4G) |
LensProfileSetup | LensDefaults |
LensProfileVignettingScale | 100 |
LightSource | Shade |
LightValue | 10.9 |
LuminanceAdjustmentAqua | 0 |
LuminanceAdjustmentBlue | -1 |
LuminanceAdjustmentGreen | 0 |
LuminanceAdjustmentMagenta | 0 |
LuminanceAdjustmentOrange | 0 |
LuminanceAdjustmentPurple | 0 |
LuminanceAdjustmentRed | 0 |
LuminanceAdjustmentYellow | 0 |
LuminanceSmoothing | 0 |
Make | NIKON CORPORATION |
MaxApertureValue | 1.4 |
Megapixels | 10.8 |
MeteringMode | Spot |
Model | NIKON D800 |
ModifyDate (1) | 2015:05:23 21:44:27+02:00 |
ModifyDate | 2015:05:23 21:44:27 |
Orientation | Horizontal (normal) |
PaintCorrectionActive | true |
PaintCorrectionAmount | 1.000000 |
PaintCorrectionBrightness | 0.000000 |
PaintCorrectionClarity2012 | 0.000000 |
PaintCorrectionContrast2012 | 0.000000 |
PaintCorrectionDefringe | 0.000000 |
PaintCorrectionExposure2012 (1) | 0.062500 |
PaintCorrectionExposure2012 | 0.126334 |
PaintCorrectionHighlights2012 | 0.000000 |
PaintCorrectionHue | 240.000000 |
PaintCorrectionLuminanceNoise | 0.000000 |
PaintCorrectionMaskCenterWeight | 0.000000 |
PaintCorrectionMaskFlow | 1.000000 |
PaintCorrectionMaskRadius (1) | 0.023371 |
PaintCorrectionMaskRadius (2) | 0.004452 |
PaintCorrectionMaskRadius | 0.004451 |
PaintCorrectionMaskValue | 1.000000 |
PaintCorrectionMaskWhat | Mask/Paint |
PaintCorrectionMoire | 0.000000 |
PaintCorrectionSaturation | 0.000000 |
PaintCorrectionShadows2012 | 0.000000 |
PaintCorrectionSharpness | 0.000000 |
PaintCorrectionTemperature | 0.000000 |
PaintCorrectionTint | 0.000000 |
PaintCorrectionWhat | Correction |
ParametricDarks | +15 |
ParametricHighlights | +23 |
ParametricHighlightSplit | 75 |
ParametricLights | 0 |
ParametricMidtoneSplit | 50 |
ParametricShadows | 0 |
ParametricShadowSplit | 25 |
PerspectiveAspect | 0 |
PerspectiveHorizontal | 0 |
PerspectiveRotate | 0.0 |
PerspectiveScale | 100 |
PerspectiveUpright | 0 |
PerspectiveVertical | 0 |
PostCropVignetteAmount | -24 |
PostCropVignetteFeather | 50 |
PostCropVignetteHighlightContrast | 0 |
PostCropVignetteMidpoint | 50 |
PostCropVignetteRoundness | 0 |
PostCropVignetteStyle | 1 |
ProcessVersion | 6.7 |
ProfileDescription | sRGB IEC61966-2.1 |
RawFileName | Villsau mai 15-2 (1 of 1).jpg |
RedHue | 0 |
RedSaturation | 0 |
Saturation (1) | 0 |
Saturation | Normal |
SaturationAdjustmentAqua | 0 |
SaturationAdjustmentBlue | +6 |
SaturationAdjustmentGreen | 0 |
SaturationAdjustmentMagenta | 0 |
SaturationAdjustmentOrange | 0 |
SaturationAdjustmentPurple | 0 |
SaturationAdjustmentRed | 0 |
SaturationAdjustmentYellow | 0 |
ScaleFactor35efl | 1.0 |
SceneCaptureType | Landscape |
SceneType | Directly photographed |
SensingMethod | One-chip color area |
SensitivityType | Recommended Exposure Index |
SerialNumber | 6044631 |
Shadows2012 | +100 |
ShadowTint | 0 |
SharpenDetail | 100 |
SharpenEdgeMasking | 54 |
SharpenRadius | +3.0 |
Sharpness (1) | 71 |
Sharpness | Normal |
ShutterSpeed | 1/1000 |
ShutterSpeedValue | 1/1000 |
Software | Adobe Photoshop Lightroom 6.0 (Macintosh) |
SplitToningBalance | 0 |
SplitToningHighlightHue | 0 |
SplitToningHighlightSaturation | 0 |
SplitToningShadowHue | 0 |
SplitToningShadowSaturation | 0 |
SubjectDistanceRange | Unknown |
Tint | +14 |
ToneCurve | 0, 0, 255, 255 |
ToneCurveBlue | 0, 0, 255, 255 |
ToneCurveGreen | 0, 0, 255, 255 |
ToneCurveName | Linear |
ToneCurveName2012 | Linear |
ToneCurvePV2012 | 0, 0, 255, 255 |
ToneCurvePV2012Blue | 0, 0, 255, 255 |
ToneCurvePV2012Green | 0, 0, 255, 255 |
ToneCurvePV2012Red | 0, 0, 255, 255 |
ToneCurveRed | 0, 0, 255, 255 |
Version | 9.0 |
Vibrance | 0 |
VignetteAmount | 0 |
WhiteBalance (1) | As Shot |
WhiteBalance | Manual |
Whites2012 | 0 |