Felt | Verdi |
AlreadyApplied | True |
Aperture | 9.0 |
ApertureValue | 9.0 |
ApproximateFocusDistance | 1.26 |
AutoLateralCA | 0 |
BitsPerSample | 8 |
Blacks2012 | 0 |
BlueHue | 0 |
BlueSaturation | 0 |
Brightness | +39 |
CameraProfile | Adobe Standard |
CFAPattern | [Red,Green][Green,Blue] |
CircleOfConfusion | 0.020 mm |
Clarity | +9 |
Clarity2012 | 0 |
ColorComponents | 3 |
ColorMode | RGB |
ColorNoiseReduction | 25 |
ColorNoiseReductionDetail | 50 |
ColorSpace | Uncalibrated |
ColorTemperature | 10750 |
ColorTransform | YCbCr |
Contrast (1) | -19 |
Contrast | Normal |
Contrast2012 | 0 |
ConvertToGrayscale | False |
CreateDate (1) | 2014:09:14 11:41:32.20 |
CreateDate | 2014:09:14 11:41:32 |
CreatorTool | Ver.1.02 |
CustomRendered | Custom |
DateCreated (1) | 2014:09:14 |
DateCreated | 2014:09:14 11:41:32.002 |
DateTimeOriginal | 2014:09:14 11:41:32 |
Defringe | 0 |
DigitalZoomRatio | 1 |
DOF | 0.22 m (1.16 - 1.38 m) |
ExifImageHeight | 2955 |
ExifImageWidth | 4710 |
Exposure | +0.75 |
Exposure2012 | 0.00 |
ExposureCompensation | -2/3 |
ExposureMode | Manual |
ExposureProgram | Manual |
ExposureTime | 1/800 |
FillLight | 16 |
Flash | Off, Did not fire |
FNumber | 9.0 |
FocalLength | 50.0 mm |
FocalLength35efl | 50.0 mm (35 mm equivalent: 75.0 mm) |
FocalLengthIn35mmFormat | 75 mm |
Format | image/jpeg |
FOV | 27.0 deg |
GainControl | Low gain up |
GrainAmount | 0 |
GreenHue | 0 |
GreenSaturation | 0 |
HasCrop | False |
HasSettings | True |
HighlightRecovery | 15 |
Highlights2012 | 0 |
HueAdjustmentAqua | -17 |
HueAdjustmentBlue | 0 |
HueAdjustmentGreen | -17 |
HueAdjustmentMagenta | 0 |
HueAdjustmentOrange | -6 |
HueAdjustmentPurple | 0 |
HueAdjustmentRed | -13 |
HueAdjustmentYellow | -2 |
HyperfocalDistance | 13.87 m |
ICCProfileName | Adobe RGB (1998) |
ImageHeight | 2955 |
ImageNumber | 14021 |
ImageSize | 4710x2955 |
ImageWidth | 4710 |
ISO | 450 |
Lens | 50.0 mm f/1.8 |
LensID (1) | 176 |
LensID | AF-S Nikkor 50mm f/1.8G |
LensInfo | 50mm f/1.8 |
LensManualDistortionAmount | 0 |
LensModel | 50.0 mm f/1.8 |
LensProfileEnable | 0 |
LensProfileSetup | LensDefaults |
LightSource | Unknown |
LightValue | 13.8 |
LuminanceAdjustmentAqua | 0 |
LuminanceAdjustmentBlue | 0 |
LuminanceAdjustmentGreen | 0 |
LuminanceAdjustmentMagenta | 0 |
LuminanceAdjustmentOrange | -28 |
LuminanceAdjustmentPurple | 0 |
LuminanceAdjustmentRed | 0 |
LuminanceAdjustmentYellow | +50 |
LuminanceSmoothing | 0 |
Make | NIKON CORPORATION |
MaxApertureValue | 1.7 |
Megapixels | 13.9 |
MeteringMode | Multi-segment |
Model | NIKON D7000 |
ModifyDate (1) | 2015:01:01 14:36:46+01:00 |
ModifyDate | 2015:01:01 14:36:46 |
Orientation | Horizontal (normal) |
ParametricDarks | +1 |
ParametricHighlights | +74 |
ParametricHighlightSplit | 75 |
ParametricLights | +55 |
ParametricMidtoneSplit | 50 |
ParametricShadows | -51 |
ParametricShadowSplit | 25 |
PerspectiveHorizontal | 0 |
PerspectiveRotate | 0.0 |
PerspectiveScale | 100 |
PerspectiveVertical | 0 |
PostCropVignetteAmount | 0 |
ProcessVersion | 5.7 |
ProfileDescription | Adobe RGB (1998) |
Rating | 0 |
RawFileName | DSC_2823.NEF |
RedHue | 0 |
RedSaturation | 0 |
Saturation (1) | -19 |
Saturation | Normal |
SaturationAdjustmentAqua | 0 |
SaturationAdjustmentBlue | 0 |
SaturationAdjustmentGreen | 0 |
SaturationAdjustmentMagenta | +8 |
SaturationAdjustmentOrange | -37 |
SaturationAdjustmentPurple | 0 |
SaturationAdjustmentRed | -14 |
SaturationAdjustmentYellow | +34 |
ScaleFactor35efl | 1.5 |
SceneCaptureType | Standard |
SceneType | Directly photographed |
SensingMethod | One-chip color area |
SensitivityType | Recommended Exposure Index |
SerialNumber | 6205918 |
Shadows | 21 |
Shadows2012 | 0 |
ShadowTint | 0 |
SharpenDetail | 25 |
SharpenEdgeMasking | 0 |
SharpenRadius | +1.0 |
Sharpness (1) | 25 |
Sharpness | Normal |
ShutterSpeed | 1/800 |
ShutterSpeedValue | 1/800 |
Software | Adobe Photoshop CS5 Macintosh |
SplitToningBalance | 0 |
SplitToningHighlightHue | 68 |
SplitToningHighlightSaturation | 3 |
SplitToningShadowHue | 0 |
SplitToningShadowSaturation | 0 |
SubjectDistance | 1.26 m |
SubjectDistanceRange | Unknown |
Tint | +21 |
ToneCurve | 0, 0, 32, 22, 64, 56, 128, 128, 192, 196, 255, 255 |
ToneCurveBlue | 0, 0, 255, 255 |
ToneCurveGreen | 0, 0, 255, 255 |
ToneCurveName | Medium Contrast |
ToneCurveName2012 | Linear |
ToneCurvePV2012 | 0, 0, 255, 255 |
ToneCurvePV2012Blue | 0, 0, 255, 255 |
ToneCurvePV2012Green | 0, 0, 255, 255 |
ToneCurvePV2012Red | 0, 0, 255, 255 |
ToneCurveRed | 0, 0, 255, 255 |
URL_List | |
Version | 6.7 |
Vibrance | +51 |
VignetteAmount | 0 |
WhiteBalance (1) | Custom |
WhiteBalance | Auto |
Whites2012 | 0 |