Felt | Verdi |
2015-01-16T18:31:44+01:00 File edit 73663 Ps jan 16.tif saved
2015-01-16T18:34:41+01:00 File Edit 77y Ps no 2 jan 16.tif saved
2015-01-16T18:35:58+01:00 File Edit 8u77 Ps 3 jan 16, 15.tif saved
2015-01-16T18:47:20+01:00 File edit 87uuyy o one 9 jan15.tif saved
2015-01-16T18:51:04+01:00 File edit w77 perf 9 blend multi.tif saved
2015-01-16T18:53:29+01:00 File edit 6yy blend multi and cut jan 16.tif saved
2015-01-16T18:58:38+01:00 File edit 9999 kl 1800 jan 16.tif saved
2015-01-16T19:00:51+01:00 File edit 7666 kl 1620 ohoto plate.tif saved
2015-01-16T19:06+01:00 File edit 88i kl 1915 and blur.tif saved
2015-01-16T19:10:04+01:00 File ediyt 777kl 200 and borderder analog 2.tif saved
2015-01-16T19:11:44+01:00 File edit lll99l and vorder 2.tif saved
2015-01-16T19:12:57+01:00 File edit ll uk l 21 and border 3.tif saved
2015-01-16T19:15:03+01:00 File Edit 55 and sharpen 888 jan 16.tif saved
2015-01-16T19:16:01+01:00 File 16015s.tif saved
2015-01-16T19:17:32+01:00 File 1600015s.jpg saved
2015-01-16T19:22:52+01:00 File 1600015s.jpg opened
2015-01-16T19:28:59+01:00 File 16660155s.jpg saved
AlreadyApplied | True |
Artist | Elisabeth |
BitsPerSample (1) | 16 16 16 |
BitsPerSample | 8 |
BlueHue | 0 |
BlueSaturation | 0 |
Brightness | +1 |
By-line | Elisabeth |
CameraProfile | Embedded |
ChromaticAberrationB | 0 |
ChromaticAberrationR | 0 |
Clarity | -14 |
ColorComponents | 3 |
ColorMode | RGB |
ColorNoiseReduction | 0 |
ColorSpace | sRGB |
ColorTransform | YCbCr |
Contrast | +16 |
ConvertToGrayscale | False |
CopyrightFlag | True |
CreateDate | 2011:12:26 12:48:10 |
Creator | Elisabeth |
CreatorTool | Adobe Photoshop CS6 (Macintosh) |
Defringe | 0 |
ExifImageHeight | 644 |
ExifImageWidth | 993 |
Exposure | +1.20 |
FillLight | 42 |
Format | image/jpeg |
GrainAmount | 34 |
GrainFrequency | 50 |
GrainSize | 36 |
GreenHue | 0 |
GreenSaturation | 0 |
HasCrop | False |
HasSettings | True |
HighlightRecovery | 0 |
HueAdjustmentAqua | 0 |
HueAdjustmentBlue | 0 |
HueAdjustmentGreen | 0 |
HueAdjustmentMagenta | 0 |
HueAdjustmentOrange | 0 |
HueAdjustmentPurple | 0 |
HueAdjustmentRed | 0 |
HueAdjustmentYellow | 0 |
ICCProfileName | sRGB IEC61966-2.1 |
ImageHeight (1) | 3659 |
ImageHeight | 644 |
ImageSize | 993x644 |
ImageWidth (1) | 5453 |
ImageWidth | 993 |
IncrementalTemperature | -3 |
IncrementalTint | -2 |
LensManualDistortionAmount | 0 |
LensProfileEnable | 0 |
LensProfileSetup | LensDefaults |
LuminanceAdjustmentAqua | 0 |
LuminanceAdjustmentBlue | 0 |
LuminanceAdjustmentGreen | 0 |
LuminanceAdjustmentMagenta | 0 |
LuminanceAdjustmentOrange | 0 |
LuminanceAdjustmentPurple | 0 |
LuminanceAdjustmentRed | 0 |
LuminanceAdjustmentYellow | 0 |
LuminanceNoiseReductionContrast | 0 |
LuminanceNoiseReductionDetail | 50 |
LuminanceSmoothing | 52 |
Marked | True |
Megapixels | 0.639 |
ModifyDate (1) | 2015:01:16 19:28:59+01:00 |
ModifyDate | 2015:01:16 19:28:59 |
ObjectName | 16015s |
Orientation | Horizontal (normal) |
ParametricDarks | 0 |
ParametricHighlights | 0 |
ParametricHighlightSplit | 75 |
ParametricLights | 0 |
ParametricMidtoneSplit | 50 |
ParametricShadows | 0 |
ParametricShadowSplit | 25 |
PerspectiveHorizontal | 0 |
PerspectiveRotate | 0.0 |
PerspectiveScale | 100 |
PerspectiveVertical | 0 |
PhotometricInterpretation | RGB |
PlanarConfiguration | Chunky |
PostCropVignetteAmount | 0 |
ProcessVersion | 5.7 |
ProfileDescription | sRGB IEC61966-2.1 |
Rating | 0 |
RawFileName | 188he size-228j young 6 size(1).tif |
RedHue | 0 |
RedSaturation | 0 |
SamplesPerPixel | 3 |
Saturation | -33 |
SaturationAdjustmentAqua | 0 |
SaturationAdjustmentBlue | 0 |
SaturationAdjustmentGreen | 0 |
SaturationAdjustmentMagenta | 0 |
SaturationAdjustmentOrange | -33 |
SaturationAdjustmentPurple | 0 |
SaturationAdjustmentRed | -53 |
SaturationAdjustmentYellow | 0 |
Shadows | 17 |
ShadowTint | 0 |
SharpenDetail | 25 |
SharpenEdgeMasking | 0 |
SharpenRadius | +1.0 |
Sharpness | 0 |
Software | Adobe Photoshop CS6 (Macintosh) |
SplitToningBalance | 0 |
SplitToningHighlightHue | 0 |
SplitToningHighlightSaturation | 0 |
SplitToningShadowHue | 0 |
SplitToningShadowSaturation | 0 |
Title | 16015s |
ToneCurve | 0, 0, 255, 255 |
ToneCurveName | Linear |
URL | www.elisabeth.broch.zenfolio.com |
URL_List | |
Version | 6.5 |
Vibrance | -14 |
VignetteAmount | 0 |
WebStatement | www.elisabeth.broch.zenfolio.com |
WhiteBalance | Custom |