Felt | Verdi |
AlreadyApplied | True |
Aperture | 6.3 |
ApertureValue | 6.3 |
ApproximateFocusDistance | 65.1 |
Artist | Odd Chr. Knutsen |
AutoLateralCA | 0 |
BitsPerSample | 8 |
Blacks2012 | +11 |
BlueHue | 0 |
BlueSaturation | 0 |
By-line | Odd Chr. Knutsen |
CameraProfile | Embedded |
CircleOfConfusion | 0.007 mm |
Clarity2012 | 0 |
ColorComponents | 3 |
ColorNoiseReduction | 0 |
ColorSpace | Uncalibrated |
Contrast2012 | +5 |
ConvertToGrayscale | False |
CreateDate (1) | 2014:05:03 05:59:28.71 |
CreateDate | 2014:05:03 05:59:28 |
Creator | Odd Chr. Knutsen |
CreatorTool | Adobe Photoshop Lightroom 4.4 (Macintosh) |
CropAngle | 0 |
CropBottom | 0.98653 |
CropConstrainToWarp | 0 |
CropHeight | 1000 |
CropLeft | 0.010119 |
CropRight | 0.99252 |
CropTop | 0.007521 |
CropUnit | pixels |
CropWidth | 1121 |
CustomRendered | Normal |
DateCreated | 2014:05:03 |
DateTimeOriginal | 2014:05:03 05:59:28 |
DefringeGreenAmount | 0 |
DefringeGreenHueHi | 60 |
DefringeGreenHueLo | 40 |
DefringePurpleAmount | 0 |
DefringePurpleHueHi | 70 |
DefringePurpleHueLo | 30 |
DOF | 1.22 m (64.49 - 65.72 m) |
Exposure2012 | -0.10 |
ExposureCompensation | 0 |
ExposureMode | Auto |
ExposureProgram | Aperture-priority AE |
ExposureTime | 1/800 |
Firmware | 2.0.3 |
Flash | Off, Did not fire |
FlashCompensation | 0 |
FNumber | 6.3 |
FocalLength | 560.0 mm |
FocalLength35efl | 560.0 mm (35 mm equivalent: 2322.6 mm) |
Format | image/jpeg |
FOV | 0.9 deg |
GrainAmount | 0 |
GreenHue | 0 |
GreenSaturation | 0 |
HasCrop | True |
HasSettings | True |
Highlights2012 | -41 |
HueAdjustmentAqua | 0 |
HueAdjustmentBlue | 0 |
HueAdjustmentGreen | 0 |
HueAdjustmentMagenta | 0 |
HueAdjustmentOrange | 0 |
HueAdjustmentPurple | 0 |
HueAdjustmentRed | 0 |
HueAdjustmentYellow | 0 |
HyperfocalDistance | 6871.15 m |
ImageHeight | 1000 |
ImageNumber | 0 |
ImageSize | 1121x1000 |
ImageWidth | 1121 |
IncrementalTemperature | 0 |
IncrementalTint | 0 |
ISO | 1250 |
Lens | EF200-400mm f/4L IS USM EXT |
LensID (1) | 499 |
LensID | Canon EF 200-400mm f/4L IS USM + 1.4x |
LensInfo | 280-560mm f/? |
LensManualDistortionAmount | 0 |
LensModel | EF200-400mm f/4L IS USM EXT |
LensProfileEnable | 0 |
LensProfileSetup | LensDefaults |
LensSerialNumber | 0300000230 |
LightValue | 11.3 |
LuminanceAdjustmentAqua | 0 |
LuminanceAdjustmentBlue | 0 |
LuminanceAdjustmentGreen | 0 |
LuminanceAdjustmentMagenta | 0 |
LuminanceAdjustmentOrange | 0 |
LuminanceAdjustmentPurple | 0 |
LuminanceAdjustmentRed | 0 |
LuminanceAdjustmentYellow | 0 |
LuminanceSmoothing | 0 |
Make | Canon |
MaxApertureValue | 5.7 |
Megapixels | 1.1 |
MeteringMode | Multi-segment |
Model | Canon EOS-1D X |
ModifyDate (1) | 2014:05:03 17:23:47+02:00 |
ModifyDate | 2014:05:03 17:23:47 |
ParametricDarks | 0 |
ParametricHighlights | 0 |
ParametricHighlightSplit | 75 |
ParametricLights | 0 |
ParametricMidtoneSplit | 50 |
ParametricShadows | 0 |
ParametricShadowSplit | 25 |
PerspectiveHorizontal | 0 |
PerspectiveRotate | 0.0 |
PerspectiveScale | 100 |
PerspectiveVertical | 0 |
PostCropVignetteAmount | 0 |
ProcessVersion | 6.7 |
ProfileDescription | sRGB IEC61966-2.1 |
RecommendedExposureIndex | 1250 |
RedHue | 0 |
RedSaturation | 0 |
Saturation | 0 |
SaturationAdjustmentAqua | 0 |
SaturationAdjustmentBlue | 0 |
SaturationAdjustmentGreen | 0 |
SaturationAdjustmentMagenta | 0 |
SaturationAdjustmentOrange | 0 |
SaturationAdjustmentPurple | 0 |
SaturationAdjustmentRed | 0 |
SaturationAdjustmentYellow | 0 |
ScaleFactor35efl | 4.1 |
SceneCaptureType | Standard |
SensitivityType | Recommended Exposure Index |
SerialNumber | 043011001460 |
Shadows2012 | 0 |
ShadowTint | 0 |
SharpenDetail | 25 |
SharpenEdgeMasking | 0 |
SharpenRadius | +1.0 |
Sharpness | 37 |
ShutterSpeed | 1/800 |
ShutterSpeedValue | 1/800 |
Software | Adobe Photoshop Lightroom 4.4 (Macintosh) |
SplitToningBalance | 0 |
SplitToningHighlightHue | 0 |
SplitToningHighlightSaturation | 0 |
SplitToningShadowHue | 0 |
SplitToningShadowSaturation | 0 |
ToneCurveName2012 | Linear |
ToneCurvePV2012 | 0, 0, 255, 255 |
ToneCurvePV2012Blue | 0, 0, 255, 255 |
ToneCurvePV2012Green | 0, 0, 255, 255 |
ToneCurvePV2012Red | 0, 0, 255, 255 |
Version | 7.4 |
Vibrance | 0 |
VignetteAmount | 0 |
WhiteBalance (1) | As Shot |
WhiteBalance | Auto |
Whites2012 | 0 |